BEGIN:VCALENDAR
VERSION:2.0
PRODID:-//East Pierce Fire &amp; Rescue - ECPv6.15.20//NONSGML v1.0//EN
CALSCALE:GREGORIAN
METHOD:PUBLISH
X-WR-CALNAME:East Pierce Fire &amp; Rescue
X-ORIGINAL-URL:https://www.eastpiercefire.org
X-WR-CALDESC:Events for East Pierce Fire &amp; Rescue
REFRESH-INTERVAL;VALUE=DURATION:PT1H
X-Robots-Tag:noindex
X-PUBLISHED-TTL:PT1H
BEGIN:VTIMEZONE
TZID:America/Los_Angeles
BEGIN:DAYLIGHT
TZOFFSETFROM:-0800
TZOFFSETTO:-0700
TZNAME:PDT
DTSTART:20250309T100000
END:DAYLIGHT
BEGIN:STANDARD
TZOFFSETFROM:-0700
TZOFFSETTO:-0800
TZNAME:PST
DTSTART:20251102T090000
END:STANDARD
BEGIN:DAYLIGHT
TZOFFSETFROM:-0800
TZOFFSETTO:-0700
TZNAME:PDT
DTSTART:20260308T100000
END:DAYLIGHT
BEGIN:STANDARD
TZOFFSETFROM:-0700
TZOFFSETTO:-0800
TZNAME:PST
DTSTART:20261101T090000
END:STANDARD
BEGIN:DAYLIGHT
TZOFFSETFROM:-0800
TZOFFSETTO:-0700
TZNAME:PDT
DTSTART:20270314T100000
END:DAYLIGHT
BEGIN:STANDARD
TZOFFSETFROM:-0700
TZOFFSETTO:-0800
TZNAME:PST
DTSTART:20271107T090000
END:STANDARD
END:VTIMEZONE
BEGIN:VEVENT
DTSTART;TZID=America/Los_Angeles:20260423T180000
DTEND;TZID=America/Los_Angeles:20260423T193000
DTSTAMP:20260423T080048
CREATED:20251020T225119Z
LAST-MODIFIED:20260309T221604Z
UID:10000331-1776967200-1776972600@www.eastpiercefire.org
SUMMARY:Scout Night
DESCRIPTION:
URL:https://www.eastpiercefire.org/event/scout-night-4/
LOCATION:Headquarters Station\, 8601 Main Street East\, Bonney Lake\, WA\, 98391\, United States
CATEGORIES:Events
ATTACH;FMTTYPE=image/jpeg:https://www.eastpiercefire.org/wp-content/uploads/IMG_0937-7.jpg
ORGANIZER;CN="East Pierce Fire and Rescue":MAILTO:info@eastpiercefire.org
END:VEVENT
BEGIN:VEVENT
DTSTART;TZID=America/Los_Angeles:20260425T090000
DTEND;TZID=America/Los_Angeles:20260425T133000
DTSTAMP:20260423T080048
CREATED:20260416T203136Z
LAST-MODIFIED:20260416T203136Z
UID:10000501-1777107600-1777123800@www.eastpiercefire.org
SUMMARY:Gear Up
DESCRIPTION:
URL:https://www.eastpiercefire.org/event/gear-up/
LOCATION:Headquarters Station\, 8601 Main Street East\, Bonney Lake\, WA\, 98391\, United States
CATEGORIES:Events
ATTACH;FMTTYPE=image/png:https://www.eastpiercefire.org/wp-content/uploads/gear-up_thumbnail.png
END:VEVENT
BEGIN:VEVENT
DTSTART;TZID=America/Los_Angeles:20260428T090000
DTEND;TZID=America/Los_Angeles:20260428T150000
DTSTAMP:20260423T080048
CREATED:20260128T232120Z
LAST-MODIFIED:20260128T232120Z
UID:10000445-1777366800-1777388400@www.eastpiercefire.org
SUMMARY:Blood Drive
DESCRIPTION:
URL:https://www.eastpiercefire.org/event/blood-drive-8/
LOCATION:Headquarters Station\, 8601 Main Street East\, Bonney Lake\, WA\, 98391\, United States
CATEGORIES:Blood Drive
ATTACH;FMTTYPE=image/png:https://www.eastpiercefire.org/wp-content/uploads/s2025_Blood-Drive-3.png
ORGANIZER;CN="East Pierce Fire and Rescue":MAILTO:info@eastpiercefire.org
END:VEVENT
BEGIN:VEVENT
DTSTART;TZID=America/Los_Angeles:20260430T090000
DTEND;TZID=America/Los_Angeles:20260430T123000
DTSTAMP:20260423T080048
CREATED:20251216T221259Z
LAST-MODIFIED:20251216T234413Z
UID:10000378-1777539600-1777552200@www.eastpiercefire.org
SUMMARY:Heartsaver CPR
DESCRIPTION:
URL:https://www.eastpiercefire.org/event/heartsaver-cpr-83/
LOCATION:Headquarters Station\, 8601 Main Street East\, Bonney Lake\, WA\, 98391\, United States
CATEGORIES:Classes
ATTACH;FMTTYPE=image/png:https://www.eastpiercefire.org/wp-content/uploads/CPR-FA-e1662748191291.png
ORGANIZER;CN="East Pierce Fire and Rescue":MAILTO:info@eastpiercefire.org
END:VEVENT
BEGIN:VEVENT
DTSTART;TZID=America/Los_Angeles:20260430T130000
DTEND;TZID=America/Los_Angeles:20260430T160000
DTSTAMP:20260423T080048
CREATED:20251203T172438Z
LAST-MODIFIED:20251216T234302Z
UID:10000344-1777554000-1777564800@www.eastpiercefire.org
SUMMARY:Heartsaver First Aid
DESCRIPTION:
URL:https://www.eastpiercefire.org/event/heartsaver-first-aid-75/
LOCATION:Headquarters Station\, 8601 Main Street East\, Bonney Lake\, WA\, 98391\, United States
CATEGORIES:Classes
ATTACH;FMTTYPE=image/png:https://www.eastpiercefire.org/wp-content/uploads/CPR-FA-e1662748191291.png
ORGANIZER;CN="East Pierce Fire and Rescue":MAILTO:info@eastpiercefire.org
END:VEVENT
END:VCALENDAR