BEGIN:VCALENDAR
VERSION:2.0
PRODID:-//East Pierce Fire &amp; Rescue - ECPv6.15.20//NONSGML v1.0//EN
CALSCALE:GREGORIAN
METHOD:PUBLISH
X-ORIGINAL-URL:https://www.eastpiercefire.org
X-WR-CALDESC:Events for East Pierce Fire &amp; Rescue
REFRESH-INTERVAL;VALUE=DURATION:PT1H
X-Robots-Tag:noindex
X-PUBLISHED-TTL:PT1H
BEGIN:VTIMEZONE
TZID:America/Los_Angeles
BEGIN:DAYLIGHT
TZOFFSETFROM:-0800
TZOFFSETTO:-0700
TZNAME:PDT
DTSTART:20220313T100000
END:DAYLIGHT
BEGIN:STANDARD
TZOFFSETFROM:-0700
TZOFFSETTO:-0800
TZNAME:PST
DTSTART:20221106T090000
END:STANDARD
BEGIN:DAYLIGHT
TZOFFSETFROM:-0800
TZOFFSETTO:-0700
TZNAME:PDT
DTSTART:20230312T100000
END:DAYLIGHT
BEGIN:STANDARD
TZOFFSETFROM:-0700
TZOFFSETTO:-0800
TZNAME:PST
DTSTART:20231105T090000
END:STANDARD
BEGIN:DAYLIGHT
TZOFFSETFROM:-0800
TZOFFSETTO:-0700
TZNAME:PDT
DTSTART:20240310T100000
END:DAYLIGHT
BEGIN:STANDARD
TZOFFSETFROM:-0700
TZOFFSETTO:-0800
TZNAME:PST
DTSTART:20241103T090000
END:STANDARD
BEGIN:DAYLIGHT
TZOFFSETFROM:-0800
TZOFFSETTO:-0700
TZNAME:PDT
DTSTART:20250309T100000
END:DAYLIGHT
BEGIN:STANDARD
TZOFFSETFROM:-0700
TZOFFSETTO:-0800
TZNAME:PST
DTSTART:20251102T090000
END:STANDARD
BEGIN:DAYLIGHT
TZOFFSETFROM:-0800
TZOFFSETTO:-0700
TZNAME:PDT
DTSTART:20260308T100000
END:DAYLIGHT
BEGIN:STANDARD
TZOFFSETFROM:-0700
TZOFFSETTO:-0800
TZNAME:PST
DTSTART:20261101T090000
END:STANDARD
BEGIN:DAYLIGHT
TZOFFSETFROM:-0800
TZOFFSETTO:-0700
TZNAME:PDT
DTSTART:20270314T100000
END:DAYLIGHT
BEGIN:STANDARD
TZOFFSETFROM:-0700
TZOFFSETTO:-0800
TZNAME:PST
DTSTART:20271107T090000
END:STANDARD
END:VTIMEZONE
BEGIN:VEVENT
DTSTART;TZID=America/Los_Angeles:20260316T090000
DTEND;TZID=America/Los_Angeles:20260316T150000
DTSTAMP:20260423T112101
CREATED:20260128T232326Z
LAST-MODIFIED:20260128T232326Z
UID:10000447-1773651600-1773673200@www.eastpiercefire.org
SUMMARY:Blood Drive
DESCRIPTION:
URL:https://www.eastpiercefire.org/event/blood-drive-10/
LOCATION:Station 118\, 10105 24th St E\, Edgewood\, 98371
CATEGORIES:Blood Drive
ATTACH;FMTTYPE=image/png:https://www.eastpiercefire.org/wp-content/uploads/s2025_Blood-Drive-3.png
ORGANIZER;CN="East Pierce Fire and Rescue":MAILTO:info@eastpiercefire.org
END:VEVENT
BEGIN:VEVENT
DTSTART;TZID=America/Los_Angeles:20251118T100000
DTEND;TZID=America/Los_Angeles:20251118T113000
DTSTAMP:20260423T112101
CREATED:20250519T013607Z
LAST-MODIFIED:20250904T003849Z
UID:10000322-1763460000-1763465400@www.eastpiercefire.org
SUMMARY:Advanced Aging & Care Planning Series: Session 6 of 6 (2025)
DESCRIPTION:
URL:https://www.eastpiercefire.org/event/advanced-aging-care-planning-series-session-6-of-6-2025/
LOCATION:Station 118\, 10105 24th St E\, Edgewood\, 98371
CATEGORIES:Classes
ATTACH;FMTTYPE=image/png:https://www.eastpiercefire.org/wp-content/uploads/Advanced-Aging-and-Care-Planning-Series-STAFF-OFFERING-2.png
ORGANIZER;CN="East Pierce Fire and Rescue":MAILTO:info@eastpiercefire.org
END:VEVENT
BEGIN:VEVENT
DTSTART;TZID=America/Los_Angeles:20251103T090000
DTEND;TZID=America/Los_Angeles:20251103T150000
DTSTAMP:20260423T112101
CREATED:20250721T230239Z
LAST-MODIFIED:20250930T223023Z
UID:10000326-1762160400-1762182000@www.eastpiercefire.org
SUMMARY:Blood Drive
DESCRIPTION:
URL:https://www.eastpiercefire.org/event/blood-drive-2/
LOCATION:Station 118\, 10105 24th St E\, Edgewood\, 98371
CATEGORIES:Blood Drive
ATTACH;FMTTYPE=image/png:https://www.eastpiercefire.org/wp-content/uploads/s2025_Blood-Drive-3.png
ORGANIZER;CN="East Pierce Fire and Rescue":MAILTO:info@eastpiercefire.org
END:VEVENT
BEGIN:VEVENT
DTSTART;TZID=America/Los_Angeles:20250902T090000
DTEND;TZID=America/Los_Angeles:20250902T150000
DTSTAMP:20260423T112101
CREATED:20250721T230131Z
LAST-MODIFIED:20250825T191227Z
UID:10000325-1756803600-1756825200@www.eastpiercefire.org
SUMMARY:Blood Drive
DESCRIPTION:
URL:https://www.eastpiercefire.org/event/blood-drive/
LOCATION:Station 118\, 10105 24th St E\, Edgewood\, 98371
CATEGORIES:Blood Drive
ATTACH;FMTTYPE=image/png:https://www.eastpiercefire.org/wp-content/uploads/s2025_Blood-Drive-3.png
ORGANIZER;CN="East Pierce Fire and Rescue":MAILTO:info@eastpiercefire.org
END:VEVENT
BEGIN:VEVENT
DTSTART;TZID=America/Los_Angeles:20250812T100000
DTEND;TZID=America/Los_Angeles:20250812T113000
DTSTAMP:20260423T112101
CREATED:20250519T013114Z
LAST-MODIFIED:20250808T205640Z
UID:10000319-1754992800-1754998200@www.eastpiercefire.org
SUMMARY:Advanced Aging & Care Planning Series: Session 3 of 6 (2025)
DESCRIPTION:
URL:https://www.eastpiercefire.org/event/advanced-aging-care-planning-series-session-3-of-6-2025/
LOCATION:Station 118\, 10105 24th St E\, Edgewood\, 98371
CATEGORIES:Classes
ATTACH;FMTTYPE=image/png:https://www.eastpiercefire.org/wp-content/uploads/Advanced-Aging-and-Care-Planning-Series-STAFF-OFFERING-2.png
ORGANIZER;CN="East Pierce Fire and Rescue":MAILTO:info@eastpiercefire.org
END:VEVENT
BEGIN:VEVENT
DTSTART;TZID=America/Los_Angeles:20250721T083000
DTEND;TZID=America/Los_Angeles:20250723T123000
DTSTAMP:20260423T112101
CREATED:20241210T185748Z
LAST-MODIFIED:20250106T195605Z
UID:10000296-1753086600-1753273800@www.eastpiercefire.org
SUMMARY:Safe Sitter Class
DESCRIPTION:
URL:https://www.eastpiercefire.org/event/safe-sitter-class-5/
LOCATION:Station 118\, 10105 24th St E\, Edgewood\, 98371
CATEGORIES:Classes
ATTACH;FMTTYPE=image/jpeg:https://www.eastpiercefire.org/wp-content/uploads/SSEssentials-with-CPR-Images4.jpg
ORGANIZER;CN="East Pierce Fire and Rescue":MAILTO:info@eastpiercefire.org
END:VEVENT
BEGIN:VEVENT
DTSTART;TZID=America/Los_Angeles:20250624T100000
DTEND;TZID=America/Los_Angeles:20250624T113000
DTSTAMP:20260423T112101
CREATED:20250519T011248Z
LAST-MODIFIED:20250519T014446Z
UID:10000317-1750759200-1750764600@www.eastpiercefire.org
SUMMARY:Advanced Aging & Care Planning Series: Session 1 of 6 (2025)
DESCRIPTION:
URL:https://www.eastpiercefire.org/event/advanced-aging-care-planning-series-session-1-of-6-2025/
LOCATION:Station 118\, 10105 24th St E\, Edgewood\, 98371
CATEGORIES:Classes
ATTACH;FMTTYPE=image/png:https://www.eastpiercefire.org/wp-content/uploads/Advanced-Aging-and-Care-Planning-Series-STAFF-OFFERING-2.png
ORGANIZER;CN="East Pierce Fire and Rescue":MAILTO:info@eastpiercefire.org
END:VEVENT
BEGIN:VEVENT
DTSTART;TZID=America/Los_Angeles:20241119T190000
DTEND;TZID=America/Los_Angeles:20241119T200000
DTSTAMP:20260423T112102
CREATED:20240104T192925Z
LAST-MODIFIED:20241120T015319Z
UID:10000205-1732042800-1732046400@www.eastpiercefire.org
SUMMARY:Board of Commissioners Meeting
DESCRIPTION:
URL:https://www.eastpiercefire.org/event/board-of-commissioners-meeting-37/
LOCATION:Station 118\, 10105 24th St E\, Edgewood\, 98371
CATEGORIES:Board Meetings
ATTACH;FMTTYPE=image/png:https://www.eastpiercefire.org/wp-content/uploads/Gavel-e1662664326893.png
ORGANIZER;CN="East Pierce Fire and Rescue":MAILTO:info@eastpiercefire.org
END:VEVENT
BEGIN:VEVENT
DTSTART;TZID=America/Los_Angeles:20241015T190000
DTEND;TZID=America/Los_Angeles:20241015T200000
DTSTAMP:20260423T112102
CREATED:20240104T192848Z
LAST-MODIFIED:20241011T184654Z
UID:10000206-1729018800-1729022400@www.eastpiercefire.org
SUMMARY:Board of Commissioners Meeting
DESCRIPTION:
URL:https://www.eastpiercefire.org/event/board-of-commissioners-meeting-36/
LOCATION:Station 118\, 10105 24th St E\, Edgewood\, 98371
CATEGORIES:Board Meetings
ATTACH;FMTTYPE=image/png:https://www.eastpiercefire.org/wp-content/uploads/Gavel-e1662664326893.png
ORGANIZER;CN="East Pierce Fire and Rescue":MAILTO:info@eastpiercefire.org
END:VEVENT
BEGIN:VEVENT
DTSTART;TZID=America/Los_Angeles:20240917T190000
DTEND;TZID=America/Los_Angeles:20240917T200000
DTSTAMP:20260423T112102
CREATED:20240104T192749Z
LAST-MODIFIED:20240912T220727Z
UID:10000210-1726599600-1726603200@www.eastpiercefire.org
SUMMARY:Board of Commissioners Meeting
DESCRIPTION:
URL:https://www.eastpiercefire.org/event/board-of-commissioners-meeting-35/
LOCATION:Station 118\, 10105 24th St E\, Edgewood\, 98371
CATEGORIES:Board Meetings
ATTACH;FMTTYPE=image/png:https://www.eastpiercefire.org/wp-content/uploads/Gavel-e1662664326893.png
ORGANIZER;CN="East Pierce Fire and Rescue":MAILTO:info@eastpiercefire.org
END:VEVENT
BEGIN:VEVENT
DTSTART;TZID=America/Los_Angeles:20240917T100000
DTEND;TZID=America/Los_Angeles:20240917T120000
DTSTAMP:20260423T112102
CREATED:20240508T201637Z
LAST-MODIFIED:20240617T220817Z
UID:10000230-1726567200-1726574400@www.eastpiercefire.org
SUMMARY:Advanced Aging & Care Planning Series: Session 4 of 6
DESCRIPTION:
URL:https://www.eastpiercefire.org/event/advanced-aging-care-planning-series-session-4-of-6-2/
LOCATION:Station 118\, 10105 24th St E\, Edgewood\, 98371
CATEGORIES:Classes
ATTACH;FMTTYPE=image/png:https://www.eastpiercefire.org/wp-content/uploads/Advanced-Aging-and-Care-Planning-Series-STAFF-OFFERING-2.png
ORGANIZER;CN="East Pierce Fire and Rescue":MAILTO:info@eastpiercefire.org
END:VEVENT
BEGIN:VEVENT
DTSTART;TZID=America/Los_Angeles:20240820T100000
DTEND;TZID=America/Los_Angeles:20240820T120000
DTSTAMP:20260423T112102
CREATED:20240508T201856Z
LAST-MODIFIED:20240617T220732Z
UID:10000231-1724148000-1724155200@www.eastpiercefire.org
SUMMARY:Advanced Aging & Care Planning Series: Session 3 of 6
DESCRIPTION:
URL:https://www.eastpiercefire.org/event/advanced-aging-care-planning-series-session-3-of-6-2/
LOCATION:Station 118\, 10105 24th St E\, Edgewood\, 98371
CATEGORIES:Classes
ATTACH;FMTTYPE=image/png:https://www.eastpiercefire.org/wp-content/uploads/Advanced-Aging-and-Care-Planning-Series-STAFF-OFFERING-2.png
ORGANIZER;CN="East Pierce Fire and Rescue":MAILTO:info@eastpiercefire.org
END:VEVENT
BEGIN:VEVENT
DTSTART;TZID=America/Los_Angeles:20240813T083000
DTEND;TZID=America/Los_Angeles:20240815T123000
DTSTAMP:20260423T112102
CREATED:20240515T181017Z
LAST-MODIFIED:20240515T181303Z
UID:10000234-1723537800-1723725000@www.eastpiercefire.org
SUMMARY:Safe Sitter Class
DESCRIPTION:
URL:https://www.eastpiercefire.org/event/safe-sitter-class-3/
LOCATION:Station 118\, 10105 24th St E\, Edgewood\, 98371
CATEGORIES:Classes
ATTACH;FMTTYPE=image/jpeg:https://www.eastpiercefire.org/wp-content/uploads/SSEssentials-with-CPR-Images4.jpg
ORGANIZER;CN="East Pierce Fire and Rescue":MAILTO:info@eastpiercefire.org
END:VEVENT
BEGIN:VEVENT
DTSTART;TZID=America/Los_Angeles:20240709T083000
DTEND;TZID=America/Los_Angeles:20240711T123000
DTSTAMP:20260423T112102
CREATED:20231026T221953Z
LAST-MODIFIED:20231128T174701Z
UID:10000197-1720513800-1720701000@www.eastpiercefire.org
SUMMARY:Safe Sitter Class
DESCRIPTION:
URL:https://www.eastpiercefire.org/event/safe-sitter-class-2/
LOCATION:Station 118\, 10105 24th St E\, Edgewood\, 98371
CATEGORIES:Classes
ATTACH;FMTTYPE=image/jpeg:https://www.eastpiercefire.org/wp-content/uploads/SSEssentials-with-CPR-Images4.jpg
ORGANIZER;CN="East Pierce Fire and Rescue":MAILTO:info@eastpiercefire.org
END:VEVENT
BEGIN:VEVENT
DTSTART;TZID=America/Los_Angeles:20240618T100000
DTEND;TZID=America/Los_Angeles:20240618T120000
DTSTAMP:20260423T112102
CREATED:20240508T203220Z
LAST-MODIFIED:20240617T220517Z
UID:10000233-1718704800-1718712000@www.eastpiercefire.org
SUMMARY:Advanced Aging & Care Planning Series: Session 1 of 6
DESCRIPTION:
URL:https://www.eastpiercefire.org/event/advanced-aging-care-planning-series-session-1-of-6-2/
LOCATION:Station 118\, 10105 24th St E\, Edgewood\, 98371
CATEGORIES:Classes
ATTACH;FMTTYPE=image/png:https://www.eastpiercefire.org/wp-content/uploads/Advanced-Aging-and-Care-Planning-Series-STAFF-OFFERING-2.png
ORGANIZER;CN="East Pierce Fire and Rescue":MAILTO:info@eastpiercefire.org
END:VEVENT
BEGIN:VEVENT
DTSTART;TZID=America/Los_Angeles:20231219T190000
DTEND;TZID=America/Los_Angeles:20231219T200000
DTSTAMP:20260423T112102
CREATED:20230113T054902Z
LAST-MODIFIED:20231218T203611Z
UID:10000131-1703012400-1703016000@www.eastpiercefire.org
SUMMARY:Board of Commissioners Meeting
DESCRIPTION:
URL:https://www.eastpiercefire.org/event/board-of-commissioners-meeting-26/
LOCATION:Station 118\, 10105 24th St E\, Edgewood\, 98371
CATEGORIES:Board Meetings
ATTACH;FMTTYPE=image/png:https://www.eastpiercefire.org/wp-content/uploads/Gavel-e1662664326893.png
ORGANIZER;CN="East Pierce Fire and Rescue":MAILTO:info@eastpiercefire.org
END:VEVENT
BEGIN:VEVENT
DTSTART;TZID=America/Los_Angeles:20231104T120000
DTEND;TZID=America/Los_Angeles:20231104T150000
DTSTAMP:20260423T112102
CREATED:20231018T202445Z
LAST-MODIFIED:20231018T204741Z
UID:10000153-1699099200-1699110000@www.eastpiercefire.org
SUMMARY:Fire Station 118 Grand Opening
DESCRIPTION:
URL:https://www.eastpiercefire.org/event/fire-station-118-grand-opening/
LOCATION:Station 118\, 10105 24th St E\, Edgewood\, 98371
ATTACH;FMTTYPE=image/jpeg:https://www.eastpiercefire.org/wp-content/uploads/118-1.jpg
END:VEVENT
END:VCALENDAR