BEGIN:VCALENDAR
VERSION:2.0
PRODID:-//East Pierce Fire &amp; Rescue - ECPv6.15.20//NONSGML v1.0//EN
CALSCALE:GREGORIAN
METHOD:PUBLISH
X-ORIGINAL-URL:https://www.eastpiercefire.org
X-WR-CALDESC:Events for East Pierce Fire &amp; Rescue
REFRESH-INTERVAL;VALUE=DURATION:PT1H
X-Robots-Tag:noindex
X-PUBLISHED-TTL:PT1H
BEGIN:VTIMEZONE
TZID:America/Los_Angeles
BEGIN:DAYLIGHT
TZOFFSETFROM:-0800
TZOFFSETTO:-0700
TZNAME:PDT
DTSTART:20250309T100000
END:DAYLIGHT
BEGIN:STANDARD
TZOFFSETFROM:-0700
TZOFFSETTO:-0800
TZNAME:PST
DTSTART:20251102T090000
END:STANDARD
BEGIN:DAYLIGHT
TZOFFSETFROM:-0800
TZOFFSETTO:-0700
TZNAME:PDT
DTSTART:20260308T100000
END:DAYLIGHT
BEGIN:STANDARD
TZOFFSETFROM:-0700
TZOFFSETTO:-0800
TZNAME:PST
DTSTART:20261101T090000
END:STANDARD
BEGIN:DAYLIGHT
TZOFFSETFROM:-0800
TZOFFSETTO:-0700
TZNAME:PDT
DTSTART:20270314T100000
END:DAYLIGHT
BEGIN:STANDARD
TZOFFSETFROM:-0700
TZOFFSETTO:-0800
TZNAME:PST
DTSTART:20271107T090000
END:STANDARD
END:VTIMEZONE
BEGIN:VEVENT
DTSTART;TZID=America/Los_Angeles:20261001T090000
DTEND;TZID=America/Los_Angeles:20261001T123000
DTSTAMP:20260424T073557
CREATED:20251203T175120Z
LAST-MODIFIED:20260303T201108Z
UID:10000349-1790845200-1790857800@www.eastpiercefire.org
SUMMARY:Heartsaver CPR
DESCRIPTION:
URL:https://www.eastpiercefire.org/event/heartsaver-cpr-72/
LOCATION:Headquarters Station\, 8601 Main Street East\, Bonney Lake\, WA\, 98391\, United States
CATEGORIES:Classes
ATTACH;FMTTYPE=image/png:https://www.eastpiercefire.org/wp-content/uploads/CPR-FA-e1662748191291.png
ORGANIZER;CN="East Pierce Fire and Rescue":MAILTO:info@eastpiercefire.org
END:VEVENT
BEGIN:VEVENT
DTSTART;TZID=America/Los_Angeles:20261001T130000
DTEND;TZID=America/Los_Angeles:20261001T160000
DTSTAMP:20260424T073557
CREATED:20251203T164000Z
LAST-MODIFIED:20260303T202907Z
UID:10000339-1790859600-1790870400@www.eastpiercefire.org
SUMMARY:Heartsaver First Aid
DESCRIPTION:
URL:https://www.eastpiercefire.org/event/heartsaver-first-aid-71-2/
LOCATION:Headquarters Station\, 8601 Main Street East\, Bonney Lake\, WA\, 98391\, United States
CATEGORIES:Classes
ATTACH;FMTTYPE=image/png:https://www.eastpiercefire.org/wp-content/uploads/CPR-FA-e1662748191291.png
ORGANIZER;CN="East Pierce Fire and Rescue":MAILTO:info@eastpiercefire.org
END:VEVENT
BEGIN:VEVENT
DTSTART;TZID=America/Los_Angeles:20261008T090000
DTEND;TZID=America/Los_Angeles:20261008T150000
DTSTAMP:20260424T073557
CREATED:20260128T232427Z
LAST-MODIFIED:20260128T232427Z
UID:10000449-1791450000-1791471600@www.eastpiercefire.org
SUMMARY:Blood Drive
DESCRIPTION:
URL:https://www.eastpiercefire.org/event/blood-drive-12/
LOCATION:Station 118\, 10105 24th St E\, Edgewood\, 98371
CATEGORIES:Blood Drive
ATTACH;FMTTYPE=image/png:https://www.eastpiercefire.org/wp-content/uploads/s2025_Blood-Drive-3.png
ORGANIZER;CN="East Pierce Fire and Rescue":MAILTO:info@eastpiercefire.org
END:VEVENT
BEGIN:VEVENT
DTSTART;TZID=America/Los_Angeles:20261014T090000
DTEND;TZID=America/Los_Angeles:20261014T150000
DTSTAMP:20260424T073557
CREATED:20260128T232740Z
LAST-MODIFIED:20260128T234132Z
UID:10000452-1791968400-1791990000@www.eastpiercefire.org
SUMMARY:Blood Drive
DESCRIPTION:
URL:https://www.eastpiercefire.org/event/blood-drive-15/
LOCATION:Station 114\, 3206 W Tapps Dr E\, Lake Tapps\, WA\, 98391\, United States
CATEGORIES:Blood Drive
ATTACH;FMTTYPE=image/png:https://www.eastpiercefire.org/wp-content/uploads/s2025_Blood-Drive-3.png
ORGANIZER;CN="East Pierce Fire and Rescue":MAILTO:info@eastpiercefire.org
END:VEVENT
BEGIN:VEVENT
DTSTART;TZID=America/Los_Angeles:20261020T190000
DTEND;TZID=America/Los_Angeles:20261020T200000
DTSTAMP:20260424T073557
CREATED:20260116T195700Z
LAST-MODIFIED:20260116T195700Z
UID:10000392-1792522800-1792526400@www.eastpiercefire.org
SUMMARY:Board of Commissioners Meeting
DESCRIPTION:
URL:https://www.eastpiercefire.org/event/board-of-commissioners-meeting-51/2026-10-20/
LOCATION:Headquarters Station\, 8601 Main Street East\, Bonney Lake\, WA\, 98391\, United States
CATEGORIES:Board Meetings
ATTACH;FMTTYPE=image/png:https://www.eastpiercefire.org/wp-content/uploads/Gavel-e1662664326893.png
ORGANIZER;CN="East Pierce Fire and Rescue":MAILTO:info@eastpiercefire.org
END:VEVENT
BEGIN:VEVENT
DTSTART;TZID=America/Los_Angeles:20261024T090000
DTEND;TZID=America/Los_Angeles:20261024T123000
DTSTAMP:20260424T073557
CREATED:20251216T202244Z
LAST-MODIFIED:20251216T231639Z
UID:10000356-1792832400-1792845000@www.eastpiercefire.org
SUMMARY:Heartsaver CPR
DESCRIPTION:
URL:https://www.eastpiercefire.org/event/heartsaver-cpr-78/
LOCATION:Headquarters Station\, 8601 Main Street East\, Bonney Lake\, WA\, 98391\, United States
CATEGORIES:Classes
ATTACH;FMTTYPE=image/png:https://www.eastpiercefire.org/wp-content/uploads/CPR-FA-e1662748191291.png
ORGANIZER;CN="East Pierce Fire and Rescue":MAILTO:info@eastpiercefire.org
END:VEVENT
BEGIN:VEVENT
DTSTART;TZID=America/Los_Angeles:20261024T130000
DTEND;TZID=America/Los_Angeles:20261024T160000
DTSTAMP:20260424T073557
CREATED:20251216T210736Z
LAST-MODIFIED:20251216T231607Z
UID:10000368-1792846800-1792857600@www.eastpiercefire.org
SUMMARY:Heartsaver First Aid
DESCRIPTION:
URL:https://www.eastpiercefire.org/event/heartsaver-first-aid-81/
LOCATION:Headquarters Station\, 8601 Main Street East\, Bonney Lake\, WA\, 98391\, United States
CATEGORIES:Classes
ATTACH;FMTTYPE=image/png:https://www.eastpiercefire.org/wp-content/uploads/CPR-FA-e1662748191291.png
ORGANIZER;CN="East Pierce Fire and Rescue":MAILTO:info@eastpiercefire.org
END:VEVENT
END:VCALENDAR