BEGIN:VCALENDAR
VERSION:2.0
PRODID:-//East Pierce Fire &amp; Rescue - ECPv6.15.20//NONSGML v1.0//EN
CALSCALE:GREGORIAN
METHOD:PUBLISH
X-WR-CALNAME:East Pierce Fire &amp; Rescue
X-ORIGINAL-URL:https://www.eastpiercefire.org
X-WR-CALDESC:Events for East Pierce Fire &amp; Rescue
REFRESH-INTERVAL;VALUE=DURATION:PT1H
X-Robots-Tag:noindex
X-PUBLISHED-TTL:PT1H
BEGIN:VTIMEZONE
TZID:America/Los_Angeles
BEGIN:DAYLIGHT
TZOFFSETFROM:-0800
TZOFFSETTO:-0700
TZNAME:PDT
DTSTART:20240310T100000
END:DAYLIGHT
BEGIN:STANDARD
TZOFFSETFROM:-0700
TZOFFSETTO:-0800
TZNAME:PST
DTSTART:20241103T090000
END:STANDARD
BEGIN:DAYLIGHT
TZOFFSETFROM:-0800
TZOFFSETTO:-0700
TZNAME:PDT
DTSTART:20250309T100000
END:DAYLIGHT
BEGIN:STANDARD
TZOFFSETFROM:-0700
TZOFFSETTO:-0800
TZNAME:PST
DTSTART:20251102T090000
END:STANDARD
BEGIN:DAYLIGHT
TZOFFSETFROM:-0800
TZOFFSETTO:-0700
TZNAME:PDT
DTSTART:20260308T100000
END:DAYLIGHT
BEGIN:STANDARD
TZOFFSETFROM:-0700
TZOFFSETTO:-0800
TZNAME:PST
DTSTART:20261101T090000
END:STANDARD
END:VTIMEZONE
BEGIN:VEVENT
DTSTART;TZID=America/Los_Angeles:20251206T070000
DTEND;TZID=America/Los_Angeles:20251206T120000
DTSTAMP:20260424T040140
CREATED:20251028T191245Z
LAST-MODIFIED:20251029T170627Z
UID:10000334-1765004400-1765022400@www.eastpiercefire.org
SUMMARY:Pancake Feed & Food Drive
DESCRIPTION:
URL:https://www.eastpiercefire.org/event/pancake-feed-food-drive-3/
LOCATION:Station 113\, 800 Harrison Street\, Sumner\, WA\, 98390\, United States
ATTACH;FMTTYPE=image/jpeg:https://www.eastpiercefire.org/wp-content/uploads/Pancake-Feed-3.jpeg
ORGANIZER;CN="East Pierce Fire and Rescue":MAILTO:info@eastpiercefire.org
END:VEVENT
BEGIN:VEVENT
DTSTART;TZID=America/Los_Angeles:20251213T090000
DTEND;TZID=America/Los_Angeles:20251213T123000
DTSTAMP:20260424T040140
CREATED:20241014T213053Z
LAST-MODIFIED:20250512T184133Z
UID:10000238-1765616400-1765629000@www.eastpiercefire.org
SUMMARY:Heartsaver CPR
DESCRIPTION:
URL:https://www.eastpiercefire.org/event/heartsaver-cpr-49/
LOCATION:New Headquarters Station\, 8601 Main Street East\, Bonney Lake\, WA\, 98391\, United States
CATEGORIES:Classes
ATTACH;FMTTYPE=image/png:https://www.eastpiercefire.org/wp-content/uploads/Sorry-13-e1662664661421.png
ORGANIZER;CN="East Pierce Fire and Rescue":MAILTO:info@eastpiercefire.org
END:VEVENT
BEGIN:VEVENT
DTSTART;TZID=America/Los_Angeles:20251213T130000
DTEND;TZID=America/Los_Angeles:20251213T160000
DTSTAMP:20260424T040140
CREATED:20241113T225142Z
LAST-MODIFIED:20250512T184210Z
UID:10000263-1765630800-1765641600@www.eastpiercefire.org
SUMMARY:Heartsaver First Aid
DESCRIPTION:
URL:https://www.eastpiercefire.org/event/heartsaver-first-aid-69/
LOCATION:New Headquarters Station\, 8601 Main Street East\, Bonney Lake\, WA\, 98391\, United States
CATEGORIES:Classes
ATTACH;FMTTYPE=image/png:https://www.eastpiercefire.org/wp-content/uploads/Sorry-13-e1662664661421.png
ORGANIZER;CN="East Pierce Fire and Rescue":MAILTO:info@eastpiercefire.org
END:VEVENT
BEGIN:VEVENT
DTSTART;TZID=America/Los_Angeles:20251216T190000
DTEND;TZID=America/Los_Angeles:20251216T200000
DTSTAMP:20260424T040140
CREATED:20241121T193153Z
LAST-MODIFIED:20241121T193153Z
UID:10000293-1765911600-1765915200@www.eastpiercefire.org
SUMMARY:Board of Commissioners Meeting
DESCRIPTION:
URL:https://www.eastpiercefire.org/event/board-of-commissioners-meeting-50/
LOCATION:Headquarters Station\, 8601 Main Street East\, Bonney Lake\, WA\, 98391\, United States
CATEGORIES:Board Meetings
ATTACH;FMTTYPE=image/png:https://www.eastpiercefire.org/wp-content/uploads/Gavel-e1662664326893.png
ORGANIZER;CN="East Pierce Fire and Rescue":MAILTO:info@eastpiercefire.org
END:VEVENT
BEGIN:VEVENT
DTSTART;VALUE=DATE:20251224
DTEND;VALUE=DATE:20251225
DTSTAMP:20260424T040140
CREATED:20250401T234826Z
LAST-MODIFIED:20260212T081045Z
UID:10000307-1766534400-1766620799@www.eastpiercefire.org
SUMMARY:Business Office Closed
DESCRIPTION:
URL:https://www.eastpiercefire.org/event/business-office-closed-34/2025-12-24/
LOCATION:WA
CATEGORIES:Office Closed
ATTACH;FMTTYPE=image/png:https://www.eastpiercefire.org/wp-content/uploads/Sorry-10-e1662663103106.png
END:VEVENT
BEGIN:VEVENT
DTSTART;VALUE=DATE:20251225
DTEND;VALUE=DATE:20251226
DTSTAMP:20260424T040140
CREATED:20250401T234927Z
LAST-MODIFIED:20260212T081029Z
UID:10000308-1766620800-1766707199@www.eastpiercefire.org
SUMMARY:Business Office Closed
DESCRIPTION:
URL:https://www.eastpiercefire.org/event/business-office-closed-35/2025-12-25/
LOCATION:WA
CATEGORIES:Office Closed
ATTACH;FMTTYPE=image/png:https://www.eastpiercefire.org/wp-content/uploads/Sorry-10-e1662663103106.png
END:VEVENT
END:VCALENDAR