BEGIN:VCALENDAR
VERSION:2.0
PRODID:-//East Pierce Fire &amp; Rescue - ECPv6.15.20//NONSGML v1.0//EN
CALSCALE:GREGORIAN
METHOD:PUBLISH
X-WR-CALNAME:East Pierce Fire &amp; Rescue
X-ORIGINAL-URL:https://www.eastpiercefire.org
X-WR-CALDESC:Events for East Pierce Fire &amp; Rescue
REFRESH-INTERVAL;VALUE=DURATION:PT1H
X-Robots-Tag:noindex
X-PUBLISHED-TTL:PT1H
BEGIN:VTIMEZONE
TZID:America/Los_Angeles
BEGIN:DAYLIGHT
TZOFFSETFROM:-0800
TZOFFSETTO:-0700
TZNAME:PDT
DTSTART:20230312T100000
END:DAYLIGHT
BEGIN:STANDARD
TZOFFSETFROM:-0700
TZOFFSETTO:-0800
TZNAME:PST
DTSTART:20231105T090000
END:STANDARD
BEGIN:DAYLIGHT
TZOFFSETFROM:-0800
TZOFFSETTO:-0700
TZNAME:PDT
DTSTART:20240310T100000
END:DAYLIGHT
BEGIN:STANDARD
TZOFFSETFROM:-0700
TZOFFSETTO:-0800
TZNAME:PST
DTSTART:20241103T090000
END:STANDARD
BEGIN:DAYLIGHT
TZOFFSETFROM:-0800
TZOFFSETTO:-0700
TZNAME:PDT
DTSTART:20250309T100000
END:DAYLIGHT
BEGIN:STANDARD
TZOFFSETFROM:-0700
TZOFFSETTO:-0800
TZNAME:PST
DTSTART:20251102T090000
END:STANDARD
END:VTIMEZONE
BEGIN:VEVENT
DTSTART;TZID=America/Los_Angeles:20240824T130000
DTEND;TZID=America/Los_Angeles:20240824T160000
DTSTAMP:20260425T212546
CREATED:20231026T213711Z
LAST-MODIFIED:20231031T171616Z
UID:10000177-1724504400-1724515200@www.eastpiercefire.org
SUMMARY:Heartsaver First Aid
DESCRIPTION:
URL:https://www.eastpiercefire.org/event/heartsaver-first-aid-41/
LOCATION:Headquarters Station\, 8601 Main Street East\, Bonney Lake\, WA\, 98391\, United States
CATEGORIES:Classes
ATTACH;FMTTYPE=image/png:https://www.eastpiercefire.org/wp-content/uploads/Sorry-13-e1662664661421.png
ORGANIZER;CN="East Pierce Fire and Rescue":MAILTO:info@eastpiercefire.org
END:VEVENT
BEGIN:VEVENT
DTSTART;TZID=America/Los_Angeles:20240824T090000
DTEND;TZID=America/Los_Angeles:20240824T123000
DTSTAMP:20260425T212546
CREATED:20231026T213446Z
LAST-MODIFIED:20231031T171509Z
UID:10000176-1724490000-1724502600@www.eastpiercefire.org
SUMMARY:Heartsaver CPR
DESCRIPTION:
URL:https://www.eastpiercefire.org/event/heartsaver-cpr-41/
LOCATION:Headquarters Station\, 8601 Main Street East\, Bonney Lake\, WA\, 98391\, United States
CATEGORIES:Classes
ATTACH;FMTTYPE=image/png:https://www.eastpiercefire.org/wp-content/uploads/Sorry-13-e1662664661421.png
ORGANIZER;CN="East Pierce Fire and Rescue":MAILTO:info@eastpiercefire.org
END:VEVENT
BEGIN:VEVENT
DTSTART;TZID=America/Los_Angeles:20240820T190000
DTEND;TZID=America/Los_Angeles:20240820T200000
DTSTAMP:20260425T212546
CREATED:20240104T192717Z
LAST-MODIFIED:20240815T234454Z
UID:10000211-1724180400-1724184000@www.eastpiercefire.org
SUMMARY:Board of Commissioners Meeting
DESCRIPTION:
URL:https://www.eastpiercefire.org/event/board-of-commissioners-meeting-34/
LOCATION:Headquarters Station\, 8601 Main Street East\, Bonney Lake\, WA\, 98391\, United States
CATEGORIES:Board Meetings
ATTACH;FMTTYPE=image/png:https://www.eastpiercefire.org/wp-content/uploads/Gavel-e1662664326893.png
ORGANIZER;CN="East Pierce Fire and Rescue":MAILTO:info@eastpiercefire.org
END:VEVENT
BEGIN:VEVENT
DTSTART;TZID=America/Los_Angeles:20240820T100000
DTEND;TZID=America/Los_Angeles:20240820T120000
DTSTAMP:20260425T212546
CREATED:20240508T201856Z
LAST-MODIFIED:20240617T220732Z
UID:10000231-1724148000-1724155200@www.eastpiercefire.org
SUMMARY:Advanced Aging & Care Planning Series: Session 3 of 6
DESCRIPTION:
URL:https://www.eastpiercefire.org/event/advanced-aging-care-planning-series-session-3-of-6-2/
LOCATION:Station 118\, 10105 24th St E\, Edgewood\, 98371
CATEGORIES:Classes
ATTACH;FMTTYPE=image/png:https://www.eastpiercefire.org/wp-content/uploads/Advanced-Aging-and-Care-Planning-Series-STAFF-OFFERING-2.png
ORGANIZER;CN="East Pierce Fire and Rescue":MAILTO:info@eastpiercefire.org
END:VEVENT
BEGIN:VEVENT
DTSTART;TZID=America/Los_Angeles:20240814T130000
DTEND;TZID=America/Los_Angeles:20240814T160000
DTSTAMP:20260425T212546
CREATED:20231026T213309Z
LAST-MODIFIED:20231031T171417Z
UID:10000175-1723640400-1723651200@www.eastpiercefire.org
SUMMARY:Heartsaver First Aid
DESCRIPTION:
URL:https://www.eastpiercefire.org/event/heartsaver-first-aid-40/
LOCATION:Headquarters Station\, 8601 Main Street East\, Bonney Lake\, WA\, 98391\, United States
CATEGORIES:Classes
ATTACH;FMTTYPE=image/png:https://www.eastpiercefire.org/wp-content/uploads/Sorry-13-e1662664661421.png
ORGANIZER;CN="East Pierce Fire and Rescue":MAILTO:info@eastpiercefire.org
END:VEVENT
BEGIN:VEVENT
DTSTART;TZID=America/Los_Angeles:20240814T090000
DTEND;TZID=America/Los_Angeles:20240814T123000
DTSTAMP:20260425T212546
CREATED:20231026T213203Z
LAST-MODIFIED:20240812T203053Z
UID:10000174-1723626000-1723638600@www.eastpiercefire.org
SUMMARY:Heartsaver CPR
DESCRIPTION:
URL:https://www.eastpiercefire.org/event/heartsaver-cpr-40/
LOCATION:Headquarters Station\, 8601 Main Street East\, Bonney Lake\, WA\, 98391\, United States
CATEGORIES:Classes
ATTACH;FMTTYPE=image/png:https://www.eastpiercefire.org/wp-content/uploads/Sorry-13-e1662664661421.png
ORGANIZER;CN="East Pierce Fire and Rescue":MAILTO:info@eastpiercefire.org
END:VEVENT
BEGIN:VEVENT
DTSTART;TZID=America/Los_Angeles:20240813T083000
DTEND;TZID=America/Los_Angeles:20240815T123000
DTSTAMP:20260425T212546
CREATED:20240515T181017Z
LAST-MODIFIED:20240515T181303Z
UID:10000234-1723537800-1723725000@www.eastpiercefire.org
SUMMARY:Safe Sitter Class
DESCRIPTION:
URL:https://www.eastpiercefire.org/event/safe-sitter-class-3/
LOCATION:Station 118\, 10105 24th St E\, Edgewood\, 98371
CATEGORIES:Classes
ATTACH;FMTTYPE=image/jpeg:https://www.eastpiercefire.org/wp-content/uploads/SSEssentials-with-CPR-Images4.jpg
ORGANIZER;CN="East Pierce Fire and Rescue":MAILTO:info@eastpiercefire.org
END:VEVENT
BEGIN:VEVENT
DTSTART;TZID=America/Los_Angeles:20240716T190000
DTEND;TZID=America/Los_Angeles:20240716T200000
DTSTAMP:20260425T212546
CREATED:20240104T192619Z
LAST-MODIFIED:20240712T001436Z
UID:10000201-1721156400-1721160000@www.eastpiercefire.org
SUMMARY:Board of Commissioners Meeting
DESCRIPTION:
URL:https://www.eastpiercefire.org/event/board-of-commissioners-meeting-33/
LOCATION:Headquarters Station\, 8601 Main Street East\, Bonney Lake\, WA\, 98391\, United States
CATEGORIES:Board Meetings
ATTACH;FMTTYPE=image/png:https://www.eastpiercefire.org/wp-content/uploads/Gavel-e1662664326893.png
ORGANIZER;CN="East Pierce Fire and Rescue":MAILTO:info@eastpiercefire.org
END:VEVENT
BEGIN:VEVENT
DTSTART;TZID=America/Los_Angeles:20240716T100000
DTEND;TZID=America/Los_Angeles:20240716T120000
DTSTAMP:20260425T212546
CREATED:20240508T202705Z
LAST-MODIFIED:20240617T220615Z
UID:10000232-1721124000-1721131200@www.eastpiercefire.org
SUMMARY:Advanced Aging & Care Planning Series: Session 2 of 6
DESCRIPTION:
URL:https://www.eastpiercefire.org/event/advanced-aging-care-planning-series-session-2-of-6-2/
LOCATION:Headquarters Station\, 8601 Main Street East\, Bonney Lake\, WA\, 98391\, United States
CATEGORIES:Classes
ATTACH;FMTTYPE=image/png:https://www.eastpiercefire.org/wp-content/uploads/Advanced-Aging-and-Care-Planning-Series-STAFF-OFFERING-2.png
ORGANIZER;CN="East Pierce Fire and Rescue":MAILTO:info@eastpiercefire.org
END:VEVENT
BEGIN:VEVENT
DTSTART;TZID=America/Los_Angeles:20240716T083000
DTEND;TZID=America/Los_Angeles:20240718T123000
DTSTAMP:20260425T212546
CREATED:20231026T221813Z
LAST-MODIFIED:20231128T174811Z
UID:10000196-1721118600-1721305800@www.eastpiercefire.org
SUMMARY:Safe Sitter Class
DESCRIPTION:
URL:https://www.eastpiercefire.org/event/safe-sitter-class/
LOCATION:Station 116\, 10515 234th Ave E\, Buckley\, WA\, 98321\, United States
CATEGORIES:Classes
ATTACH;FMTTYPE=image/jpeg:https://www.eastpiercefire.org/wp-content/uploads/SSEssentials-with-CPR-Images4.jpg
ORGANIZER;CN="East Pierce Fire and Rescue":MAILTO:info@eastpiercefire.org
END:VEVENT
BEGIN:VEVENT
DTSTART;TZID=America/Los_Angeles:20240709T083000
DTEND;TZID=America/Los_Angeles:20240711T123000
DTSTAMP:20260425T212546
CREATED:20231026T221953Z
LAST-MODIFIED:20231128T174701Z
UID:10000197-1720513800-1720701000@www.eastpiercefire.org
SUMMARY:Safe Sitter Class
DESCRIPTION:
URL:https://www.eastpiercefire.org/event/safe-sitter-class-2/
LOCATION:Station 118\, 10105 24th St E\, Edgewood\, 98371
CATEGORIES:Classes
ATTACH;FMTTYPE=image/jpeg:https://www.eastpiercefire.org/wp-content/uploads/SSEssentials-with-CPR-Images4.jpg
ORGANIZER;CN="East Pierce Fire and Rescue":MAILTO:info@eastpiercefire.org
END:VEVENT
BEGIN:VEVENT
DTSTART;VALUE=DATE:20240704
DTEND;VALUE=DATE:20240705
DTSTAMP:20260425T212546
CREATED:20240117T180529Z
LAST-MODIFIED:20240117T180529Z
UID:10000217-1720051200-1720137599@www.eastpiercefire.org
SUMMARY:Business Office Closed
DESCRIPTION:
URL:https://www.eastpiercefire.org/event/business-office-closed-19/
LOCATION:WA
CATEGORIES:Office Closed
ATTACH;FMTTYPE=image/png:https://www.eastpiercefire.org/wp-content/uploads/Sorry-10-e1662663103106.png
END:VEVENT
BEGIN:VEVENT
DTSTART;TZID=America/Los_Angeles:20240619T130000
DTEND;TZID=America/Los_Angeles:20240619T160000
DTSTAMP:20260425T212546
CREATED:20231026T213043Z
LAST-MODIFIED:20240103T235758Z
UID:10000193-1718802000-1718812800@www.eastpiercefire.org
SUMMARY:Heartsaver First Aid
DESCRIPTION:
URL:https://www.eastpiercefire.org/event/heartsaver-first-aid-39/
LOCATION:Headquarters Station\, 8601 Main Street East\, Bonney Lake\, WA\, 98391\, United States
CATEGORIES:Classes
ATTACH;FMTTYPE=image/png:https://www.eastpiercefire.org/wp-content/uploads/Sorry-13-e1662664661421.png
ORGANIZER;CN="East Pierce Fire and Rescue":MAILTO:info@eastpiercefire.org
END:VEVENT
BEGIN:VEVENT
DTSTART;TZID=America/Los_Angeles:20240619T090000
DTEND;TZID=America/Los_Angeles:20240619T123000
DTSTAMP:20260425T212546
CREATED:20231026T212850Z
LAST-MODIFIED:20240103T235824Z
UID:10000192-1718787600-1718800200@www.eastpiercefire.org
SUMMARY:Heartsaver CPR
DESCRIPTION:
URL:https://www.eastpiercefire.org/event/heartsaver-cpr-39/
LOCATION:Headquarters Station\, 8601 Main Street East\, Bonney Lake\, WA\, 98391\, United States
CATEGORIES:Classes
ATTACH;FMTTYPE=image/png:https://www.eastpiercefire.org/wp-content/uploads/Sorry-13-e1662664661421.png
ORGANIZER;CN="East Pierce Fire and Rescue":MAILTO:info@eastpiercefire.org
END:VEVENT
BEGIN:VEVENT
DTSTART;VALUE=DATE:20240619
DTEND;VALUE=DATE:20240620
DTSTAMP:20260425T212546
CREATED:20250401T233751Z
LAST-MODIFIED:20250401T233751Z
UID:10000301-1718755200-1718841599@www.eastpiercefire.org
SUMMARY:Business Office Closed
DESCRIPTION:
URL:https://www.eastpiercefire.org/event/business-office-closed-28/
LOCATION:WA
CATEGORIES:Office Closed
ATTACH;FMTTYPE=image/png:https://www.eastpiercefire.org/wp-content/uploads/Sorry-10-e1662663103106.png
END:VEVENT
BEGIN:VEVENT
DTSTART;TZID=America/Los_Angeles:20240618T190000
DTEND;TZID=America/Los_Angeles:20240618T200000
DTSTAMP:20260425T212546
CREATED:20240104T192553Z
LAST-MODIFIED:20240614T163310Z
UID:10000202-1718737200-1718740800@www.eastpiercefire.org
SUMMARY:Board of Commissioners Meeting
DESCRIPTION:
URL:https://www.eastpiercefire.org/event/board-of-commissioners-meeting-32/
LOCATION:Headquarters Station\, 8601 Main Street East\, Bonney Lake\, WA\, 98391\, United States
CATEGORIES:Board Meetings
ATTACH;FMTTYPE=image/png:https://www.eastpiercefire.org/wp-content/uploads/Gavel-e1662664326893.png
ORGANIZER;CN="East Pierce Fire and Rescue":MAILTO:info@eastpiercefire.org
END:VEVENT
BEGIN:VEVENT
DTSTART;TZID=America/Los_Angeles:20240618T100000
DTEND;TZID=America/Los_Angeles:20240618T120000
DTSTAMP:20260425T212546
CREATED:20240508T203220Z
LAST-MODIFIED:20240617T220517Z
UID:10000233-1718704800-1718712000@www.eastpiercefire.org
SUMMARY:Advanced Aging & Care Planning Series: Session 1 of 6
DESCRIPTION:
URL:https://www.eastpiercefire.org/event/advanced-aging-care-planning-series-session-1-of-6-2/
LOCATION:Station 118\, 10105 24th St E\, Edgewood\, 98371
CATEGORIES:Classes
ATTACH;FMTTYPE=image/png:https://www.eastpiercefire.org/wp-content/uploads/Advanced-Aging-and-Care-Planning-Series-STAFF-OFFERING-2.png
ORGANIZER;CN="East Pierce Fire and Rescue":MAILTO:info@eastpiercefire.org
END:VEVENT
BEGIN:VEVENT
DTSTART;TZID=America/Los_Angeles:20240615T130000
DTEND;TZID=America/Los_Angeles:20240615T160000
DTSTAMP:20260425T212546
CREATED:20231026T212609Z
LAST-MODIFIED:20231031T170340Z
UID:10000173-1718456400-1718467200@www.eastpiercefire.org
SUMMARY:Heartsaver First Aid
DESCRIPTION:
URL:https://www.eastpiercefire.org/event/heartsaver-first-aid-38/
LOCATION:Headquarters Station\, 8601 Main Street East\, Bonney Lake\, WA\, 98391\, United States
CATEGORIES:Classes
ATTACH;FMTTYPE=image/png:https://www.eastpiercefire.org/wp-content/uploads/Sorry-13-e1662664661421.png
ORGANIZER;CN="East Pierce Fire and Rescue":MAILTO:info@eastpiercefire.org
END:VEVENT
BEGIN:VEVENT
DTSTART;TZID=America/Los_Angeles:20240615T090000
DTEND;TZID=America/Los_Angeles:20240615T123000
DTSTAMP:20260425T212546
CREATED:20231026T212414Z
LAST-MODIFIED:20231031T170220Z
UID:10000172-1718442000-1718454600@www.eastpiercefire.org
SUMMARY:Heartsaver CPR
DESCRIPTION:
URL:https://www.eastpiercefire.org/event/heartsaver-cpr-38/
LOCATION:Headquarters Station\, 8601 Main Street East\, Bonney Lake\, WA\, 98391\, United States
CATEGORIES:Classes
ATTACH;FMTTYPE=image/png:https://www.eastpiercefire.org/wp-content/uploads/Sorry-13-e1662664661421.png
ORGANIZER;CN="East Pierce Fire and Rescue":MAILTO:info@eastpiercefire.org
END:VEVENT
BEGIN:VEVENT
DTSTART;VALUE=DATE:20240527
DTEND;VALUE=DATE:20240528
DTSTAMP:20260425T212546
CREATED:20240117T180353Z
LAST-MODIFIED:20240117T180353Z
UID:10000215-1716768000-1716854399@www.eastpiercefire.org
SUMMARY:Business Office Closed
DESCRIPTION:
URL:https://www.eastpiercefire.org/event/business-office-closed-17/
LOCATION:WA
CATEGORIES:Office Closed
ATTACH;FMTTYPE=image/png:https://www.eastpiercefire.org/wp-content/uploads/Sorry-10-e1662663103106.png
END:VEVENT
BEGIN:VEVENT
DTSTART;TZID=America/Los_Angeles:20240522T130000
DTEND;TZID=America/Los_Angeles:20240522T160000
DTSTAMP:20260425T212546
CREATED:20231026T212302Z
LAST-MODIFIED:20231031T170127Z
UID:10000171-1716382800-1716393600@www.eastpiercefire.org
SUMMARY:Heartsaver First Aid
DESCRIPTION:
URL:https://www.eastpiercefire.org/event/heartsaver-first-aid-37/
LOCATION:Headquarters Station\, 8601 Main Street East\, Bonney Lake\, WA\, 98391\, United States
CATEGORIES:Classes
ATTACH;FMTTYPE=image/png:https://www.eastpiercefire.org/wp-content/uploads/Sorry-13-e1662664661421.png
ORGANIZER;CN="East Pierce Fire and Rescue":MAILTO:info@eastpiercefire.org
END:VEVENT
BEGIN:VEVENT
DTSTART;TZID=America/Los_Angeles:20240522T090000
DTEND;TZID=America/Los_Angeles:20240522T123000
DTSTAMP:20260425T212546
CREATED:20231026T212136Z
LAST-MODIFIED:20231031T170013Z
UID:10000170-1716368400-1716381000@www.eastpiercefire.org
SUMMARY:Heartsaver CPR
DESCRIPTION:
URL:https://www.eastpiercefire.org/event/heartsaver-cpr-37/
LOCATION:Headquarters Station\, 8601 Main Street East\, Bonney Lake\, WA\, 98391\, United States
CATEGORIES:Classes
ATTACH;FMTTYPE=image/png:https://www.eastpiercefire.org/wp-content/uploads/Sorry-13-e1662664661421.png
ORGANIZER;CN="East Pierce Fire and Rescue":MAILTO:info@eastpiercefire.org
END:VEVENT
BEGIN:VEVENT
DTSTART;TZID=America/Los_Angeles:20240521T190000
DTEND;TZID=America/Los_Angeles:20240521T200000
DTSTAMP:20260425T212546
CREATED:20240104T192454Z
LAST-MODIFIED:20240517T024920Z
UID:10000203-1716318000-1716321600@www.eastpiercefire.org
SUMMARY:Board of Commissioners Meeting
DESCRIPTION:
URL:https://www.eastpiercefire.org/event/board-of-commissioners-meeting-31/
LOCATION:Headquarters Station\, 8601 Main Street East\, Bonney Lake\, WA\, 98391\, United States
CATEGORIES:Board Meetings
ATTACH;FMTTYPE=image/png:https://www.eastpiercefire.org/wp-content/uploads/Gavel-e1662664326893.png
ORGANIZER;CN="East Pierce Fire and Rescue":MAILTO:info@eastpiercefire.org
END:VEVENT
BEGIN:VEVENT
DTSTART;TZID=America/Los_Angeles:20240521T170000
DTEND;TZID=America/Los_Angeles:20240521T180000
DTSTAMP:20260425T212546
CREATED:20240517T024117Z
LAST-MODIFIED:20240517T025112Z
UID:10000236-1716310800-1716314400@www.eastpiercefire.org
SUMMARY:Special Board of Commissioners Meeting
DESCRIPTION:
URL:https://www.eastpiercefire.org/event/special-board-of-commissioners-meeting-3/
LOCATION:Headquarters Station\, 8601 Main Street East\, Bonney Lake\, WA\, 98391\, United States
CATEGORIES:Board Meetings
ATTACH;FMTTYPE=image/png:https://www.eastpiercefire.org/wp-content/uploads/Gavel-e1662664326893.png
ORGANIZER;CN="East Pierce Fire and Rescue":MAILTO:info@eastpiercefire.org
END:VEVENT
BEGIN:VEVENT
DTSTART;TZID=America/Los_Angeles:20240518T130000
DTEND;TZID=America/Los_Angeles:20240518T160000
DTSTAMP:20260425T212546
CREATED:20231026T212004Z
LAST-MODIFIED:20231031T165847Z
UID:10000169-1716037200-1716048000@www.eastpiercefire.org
SUMMARY:Heartsaver First Aid
DESCRIPTION:
URL:https://www.eastpiercefire.org/event/heartsaver-first-aid-36/
LOCATION:Headquarters Station\, 8601 Main Street East\, Bonney Lake\, WA\, 98391\, United States
CATEGORIES:Classes
ATTACH;FMTTYPE=image/png:https://www.eastpiercefire.org/wp-content/uploads/Sorry-13-e1662664661421.png
ORGANIZER;CN="East Pierce Fire and Rescue":MAILTO:info@eastpiercefire.org
END:VEVENT
BEGIN:VEVENT
DTSTART;TZID=America/Los_Angeles:20240518T090000
DTEND;TZID=America/Los_Angeles:20240518T123000
DTSTAMP:20260425T212546
CREATED:20231026T211803Z
LAST-MODIFIED:20231030T203543Z
UID:10000168-1716022800-1716035400@www.eastpiercefire.org
SUMMARY:Heartsaver CPR
DESCRIPTION:
URL:https://www.eastpiercefire.org/event/heartsaver-cpr-36/
LOCATION:Headquarters Station\, 8601 Main Street East\, Bonney Lake\, WA\, 98391\, United States
CATEGORIES:Classes
ATTACH;FMTTYPE=image/png:https://www.eastpiercefire.org/wp-content/uploads/Sorry-13-e1662664661421.png
ORGANIZER;CN="East Pierce Fire and Rescue":MAILTO:info@eastpiercefire.org
END:VEVENT
BEGIN:VEVENT
DTSTART;TZID=America/Los_Angeles:20240425T180000
DTEND;TZID=America/Los_Angeles:20240425T193000
DTSTAMP:20260425T212546
CREATED:20231003T192342Z
LAST-MODIFIED:20231003T193059Z
UID:10000152-1714068000-1714073400@www.eastpiercefire.org
SUMMARY:Scout Night
DESCRIPTION:
URL:https://www.eastpiercefire.org/event/scout-night-2/
LOCATION:Headquarters Station\, 8601 Main Street East\, Bonney Lake\, WA\, 98391\, United States
CATEGORIES:Events
ATTACH;FMTTYPE=image/jpeg:https://www.eastpiercefire.org/wp-content/uploads/IMG_0937-7.jpg
ORGANIZER;CN="East Pierce Fire and Rescue":MAILTO:info@eastpiercefire.org
END:VEVENT
BEGIN:VEVENT
DTSTART;TZID=America/Los_Angeles:20240419T130000
DTEND;TZID=America/Los_Angeles:20240419T160000
DTSTAMP:20260425T212546
CREATED:20231026T211325Z
LAST-MODIFIED:20231030T203435Z
UID:10000167-1713531600-1713542400@www.eastpiercefire.org
SUMMARY:Heartsaver First Aid
DESCRIPTION:
URL:https://www.eastpiercefire.org/event/heartsaver-first-aid-35/
LOCATION:Headquarters Station\, 8601 Main Street East\, Bonney Lake\, WA\, 98391\, United States
CATEGORIES:Classes
ATTACH;FMTTYPE=image/png:https://www.eastpiercefire.org/wp-content/uploads/Sorry-13-e1662664661421.png
ORGANIZER;CN="East Pierce Fire and Rescue":MAILTO:info@eastpiercefire.org
END:VEVENT
BEGIN:VEVENT
DTSTART;TZID=America/Los_Angeles:20240419T090000
DTEND;TZID=America/Los_Angeles:20240419T123000
DTSTAMP:20260425T212546
CREATED:20231026T211021Z
LAST-MODIFIED:20231030T203319Z
UID:10000166-1713517200-1713529800@www.eastpiercefire.org
SUMMARY:Heartsaver CPR
DESCRIPTION:
URL:https://www.eastpiercefire.org/event/heartsaver-cpr-35/
LOCATION:Headquarters Station\, 8601 Main Street East\, Bonney Lake\, WA\, 98391\, United States
CATEGORIES:Classes
ATTACH;FMTTYPE=image/png:https://www.eastpiercefire.org/wp-content/uploads/Sorry-13-e1662664661421.png
ORGANIZER;CN="East Pierce Fire and Rescue":MAILTO:info@eastpiercefire.org
END:VEVENT
BEGIN:VEVENT
DTSTART;TZID=America/Los_Angeles:20240416T190000
DTEND;TZID=America/Los_Angeles:20240416T200000
DTSTAMP:20260425T212546
CREATED:20240104T192427Z
LAST-MODIFIED:20240412T164413Z
UID:10000204-1713294000-1713297600@www.eastpiercefire.org
SUMMARY:Board of Commissioners Meeting
DESCRIPTION:
URL:https://www.eastpiercefire.org/event/board-of-commissioners-meeting-30/
LOCATION:Headquarters Station\, 8601 Main Street East\, Bonney Lake\, WA\, 98391\, United States
CATEGORIES:Board Meetings
ATTACH;FMTTYPE=image/png:https://www.eastpiercefire.org/wp-content/uploads/Gavel-e1662664326893.png
ORGANIZER;CN="East Pierce Fire and Rescue":MAILTO:info@eastpiercefire.org
END:VEVENT
END:VCALENDAR