BEGIN:VCALENDAR
VERSION:2.0
PRODID:-//East Pierce Fire &amp; Rescue - ECPv6.15.20//NONSGML v1.0//EN
CALSCALE:GREGORIAN
METHOD:PUBLISH
X-WR-CALNAME:East Pierce Fire &amp; Rescue
X-ORIGINAL-URL:https://www.eastpiercefire.org
X-WR-CALDESC:Events for East Pierce Fire &amp; Rescue
REFRESH-INTERVAL;VALUE=DURATION:PT1H
X-Robots-Tag:noindex
X-PUBLISHED-TTL:PT1H
BEGIN:VTIMEZONE
TZID:America/Los_Angeles
BEGIN:DAYLIGHT
TZOFFSETFROM:-0800
TZOFFSETTO:-0700
TZNAME:PDT
DTSTART:20240310T100000
END:DAYLIGHT
BEGIN:STANDARD
TZOFFSETFROM:-0700
TZOFFSETTO:-0800
TZNAME:PST
DTSTART:20241103T090000
END:STANDARD
BEGIN:DAYLIGHT
TZOFFSETFROM:-0800
TZOFFSETTO:-0700
TZNAME:PDT
DTSTART:20250309T100000
END:DAYLIGHT
BEGIN:STANDARD
TZOFFSETFROM:-0700
TZOFFSETTO:-0800
TZNAME:PST
DTSTART:20251102T090000
END:STANDARD
BEGIN:DAYLIGHT
TZOFFSETFROM:-0800
TZOFFSETTO:-0700
TZNAME:PDT
DTSTART:20260308T100000
END:DAYLIGHT
BEGIN:STANDARD
TZOFFSETFROM:-0700
TZOFFSETTO:-0800
TZNAME:PST
DTSTART:20261101T090000
END:STANDARD
END:VTIMEZONE
BEGIN:VEVENT
DTSTART;TZID=America/Los_Angeles:20250520T190000
DTEND;TZID=America/Los_Angeles:20250520T200000
DTSTAMP:20260425T073808
CREATED:20241121T192829Z
LAST-MODIFIED:20241121T192829Z
UID:10000286-1747767600-1747771200@www.eastpiercefire.org
SUMMARY:Board of Commissioners Meeting
DESCRIPTION:
URL:https://www.eastpiercefire.org/event/board-of-commissioners-meeting-43/
LOCATION:Headquarters Station\, 8601 Main Street East\, Bonney Lake\, WA\, 98391\, United States
CATEGORIES:Board Meetings
ATTACH;FMTTYPE=image/png:https://www.eastpiercefire.org/wp-content/uploads/Gavel-e1662664326893.png
ORGANIZER;CN="East Pierce Fire and Rescue":MAILTO:info@eastpiercefire.org
END:VEVENT
BEGIN:VEVENT
DTSTART;TZID=America/Los_Angeles:20250517T100000
DTEND;TZID=America/Los_Angeles:20250517T130000
DTSTAMP:20260425T073808
CREATED:20250401T220042Z
LAST-MODIFIED:20250514T001851Z
UID:10000299-1747476000-1747486800@www.eastpiercefire.org
SUMMARY:Station 111 Grand Opening
DESCRIPTION:
URL:https://www.eastpiercefire.org/event/station-111-grand-opening/
LOCATION:New Headquarters Station\, 8601 Main Street East\, Bonney Lake\, WA\, 98391\, United States
CATEGORIES:Events
ATTACH;FMTTYPE=image/png:https://www.eastpiercefire.org/wp-content/uploads/FB-Event-Photo-Station-111-Grand-Opening.png
END:VEVENT
BEGIN:VEVENT
DTSTART;TZID=America/Los_Angeles:20250514T130000
DTEND;TZID=America/Los_Angeles:20250514T160000
DTSTAMP:20260425T073808
CREATED:20241014T222521Z
LAST-MODIFIED:20250114T203609Z
UID:10000257-1747227600-1747238400@www.eastpiercefire.org
SUMMARY:Heartsaver First Aid
DESCRIPTION:
URL:https://www.eastpiercefire.org/event/heartsaver-first-aid-59/
LOCATION:New Headquarters Station\, 8601 Main Street East\, Bonney Lake\, WA\, 98391\, United States
CATEGORIES:Classes
ATTACH;FMTTYPE=image/png:https://www.eastpiercefire.org/wp-content/uploads/Sorry-13-e1662664661421.png
ORGANIZER;CN="East Pierce Fire and Rescue":MAILTO:info@eastpiercefire.org
END:VEVENT
BEGIN:VEVENT
DTSTART;TZID=America/Los_Angeles:20250514T090000
DTEND;TZID=America/Los_Angeles:20250514T123000
DTSTAMP:20260425T073808
CREATED:20241014T222428Z
LAST-MODIFIED:20250114T203516Z
UID:10000258-1747213200-1747225800@www.eastpiercefire.org
SUMMARY:Heartsaver CPR
DESCRIPTION:
URL:https://www.eastpiercefire.org/event/heartsaver-cpr-59/
LOCATION:New Headquarters Station\, 8601 Main Street East\, Bonney Lake\, WA\, 98391\, United States
CATEGORIES:Classes
ATTACH;FMTTYPE=image/png:https://www.eastpiercefire.org/wp-content/uploads/Sorry-13-e1662664661421.png
ORGANIZER;CN="East Pierce Fire and Rescue":MAILTO:info@eastpiercefire.org
END:VEVENT
BEGIN:VEVENT
DTSTART;TZID=America/Los_Angeles:20250506T190000
DTEND;TZID=America/Los_Angeles:20250506T200000
DTSTAMP:20260425T073808
CREATED:20250505T234723Z
LAST-MODIFIED:20250505T234933Z
UID:10000316-1746558000-1746561600@www.eastpiercefire.org
SUMMARY:Special Board of Commissioners Meeting
DESCRIPTION:
URL:https://www.eastpiercefire.org/event/special-board-of-commissioners-meeting-7/
LOCATION:Virtual Webinar
CATEGORIES:Board Meetings
ATTACH;FMTTYPE=image/png:https://www.eastpiercefire.org/wp-content/uploads/Gavel-e1662664326893.png
ORGANIZER;CN="East Pierce Fire and Rescue":MAILTO:info@eastpiercefire.org
END:VEVENT
BEGIN:VEVENT
DTSTART;TZID=America/Los_Angeles:20250503T130000
DTEND;TZID=America/Los_Angeles:20250503T160000
DTSTAMP:20260425T073808
CREATED:20241014T221855Z
LAST-MODIFIED:20250114T203432Z
UID:10000255-1746277200-1746288000@www.eastpiercefire.org
SUMMARY:Heartsaver First Aid
DESCRIPTION:
URL:https://www.eastpiercefire.org/event/heartsaver-first-aid-58/
LOCATION:New Headquarters Station\, 8601 Main Street East\, Bonney Lake\, WA\, 98391\, United States
CATEGORIES:Classes
ATTACH;FMTTYPE=image/png:https://www.eastpiercefire.org/wp-content/uploads/Sorry-13-e1662664661421.png
ORGANIZER;CN="East Pierce Fire and Rescue":MAILTO:info@eastpiercefire.org
END:VEVENT
BEGIN:VEVENT
DTSTART;TZID=America/Los_Angeles:20250503T090000
DTEND;TZID=America/Los_Angeles:20250503T123000
DTSTAMP:20260425T073808
CREATED:20241014T221807Z
LAST-MODIFIED:20250114T203325Z
UID:10000256-1746262800-1746275400@www.eastpiercefire.org
SUMMARY:Heartsaver CPR
DESCRIPTION:
URL:https://www.eastpiercefire.org/event/heartsaver-cpr-58/
LOCATION:New Headquarters Station\, 8601 Main Street East\, Bonney Lake\, WA\, 98391\, United States
CATEGORIES:Classes
ATTACH;FMTTYPE=image/png:https://www.eastpiercefire.org/wp-content/uploads/Sorry-13-e1662664661421.png
ORGANIZER;CN="East Pierce Fire and Rescue":MAILTO:info@eastpiercefire.org
END:VEVENT
BEGIN:VEVENT
DTSTART;TZID=America/Los_Angeles:20250424T180000
DTEND;TZID=America/Los_Angeles:20250424T193000
DTSTAMP:20260425T073808
CREATED:20241122T004556Z
LAST-MODIFIED:20241122T004732Z
UID:10000294-1745517600-1745523000@www.eastpiercefire.org
SUMMARY:Scout Night
DESCRIPTION:
URL:https://www.eastpiercefire.org/event/scout-night-3/
LOCATION:New Headquarters Station\, 8601 Main Street East\, Bonney Lake\, WA\, 98391\, United States
CATEGORIES:Events
ATTACH;FMTTYPE=image/jpeg:https://www.eastpiercefire.org/wp-content/uploads/IMG_0937-7.jpg
ORGANIZER;CN="East Pierce Fire and Rescue":MAILTO:info@eastpiercefire.org
END:VEVENT
BEGIN:VEVENT
DTSTART;VALUE=DATE:20250419
DTEND;VALUE=DATE:20250420
DTSTAMP:20260425T073808
CREATED:20250320T225806Z
LAST-MODIFIED:20250320T230010Z
UID:10000298-1745020800-1745107199@www.eastpiercefire.org
SUMMARY:Firefighter Sponsored Easter Egg Hunts
DESCRIPTION:
URL:https://www.eastpiercefire.org/event/easter-egg-hunts-3/
LOCATION:WA
CATEGORIES:Events
ATTACH;FMTTYPE=image/jpeg:https://www.eastpiercefire.org/wp-content/uploads/51365725_2065197103777406_3557717880260788224_n.jpg
ORGANIZER;CN="East Pierce Fire and Rescue":MAILTO:info@eastpiercefire.org
END:VEVENT
BEGIN:VEVENT
DTSTART;TZID=America/Los_Angeles:20250416T130000
DTEND;TZID=America/Los_Angeles:20250416T160000
DTSTAMP:20260425T073808
CREATED:20241014T221545Z
LAST-MODIFIED:20250114T202931Z
UID:10000253-1744808400-1744819200@www.eastpiercefire.org
SUMMARY:Heartsaver First Aid
DESCRIPTION:
URL:https://www.eastpiercefire.org/event/heartsaver-first-aid-57/
LOCATION:New Headquarters Station\, 8601 Main Street East\, Bonney Lake\, WA\, 98391\, United States
CATEGORIES:Classes
ATTACH;FMTTYPE=image/png:https://www.eastpiercefire.org/wp-content/uploads/Sorry-13-e1662664661421.png
ORGANIZER;CN="East Pierce Fire and Rescue":MAILTO:info@eastpiercefire.org
END:VEVENT
BEGIN:VEVENT
DTSTART;TZID=America/Los_Angeles:20250416T090000
DTEND;TZID=America/Los_Angeles:20250416T123000
DTSTAMP:20260425T073808
CREATED:20241014T221458Z
LAST-MODIFIED:20250114T202710Z
UID:10000254-1744794000-1744806600@www.eastpiercefire.org
SUMMARY:Heartsaver CPR
DESCRIPTION:
URL:https://www.eastpiercefire.org/event/heartsaver-cpr-57/
LOCATION:New Headquarters Station\, 8601 Main Street East\, Bonney Lake\, WA\, 98391\, United States
CATEGORIES:Classes
ATTACH;FMTTYPE=image/png:https://www.eastpiercefire.org/wp-content/uploads/Sorry-13-e1662664661421.png
ORGANIZER;CN="East Pierce Fire and Rescue":MAILTO:info@eastpiercefire.org
END:VEVENT
BEGIN:VEVENT
DTSTART;TZID=America/Los_Angeles:20250415T190000
DTEND;TZID=America/Los_Angeles:20250415T200000
DTSTAMP:20260425T073808
CREATED:20241121T190356Z
LAST-MODIFIED:20250411T230014Z
UID:10000285-1744743600-1744747200@www.eastpiercefire.org
SUMMARY:Board of Commissioners Meeting
DESCRIPTION:
URL:https://www.eastpiercefire.org/event/board-of-commissioners-meeting-42/
LOCATION:New Headquarters Station\, 8601 Main Street East\, Bonney Lake\, WA\, 98391\, United States
CATEGORIES:Board Meetings
ATTACH;FMTTYPE=image/png:https://www.eastpiercefire.org/wp-content/uploads/Gavel-e1662664326893.png
ORGANIZER;CN="East Pierce Fire and Rescue":MAILTO:info@eastpiercefire.org
END:VEVENT
BEGIN:VEVENT
DTSTART;TZID=America/Los_Angeles:20250415T170000
DTEND;TZID=America/Los_Angeles:20250415T180000
DTSTAMP:20260425T073808
CREATED:20250410T211153Z
LAST-MODIFIED:20250410T211703Z
UID:10000314-1744736400-1744740000@www.eastpiercefire.org
SUMMARY:Special Board of Commissioners Meeting
DESCRIPTION:
URL:https://www.eastpiercefire.org/event/special-board-of-commissioners-meeting-6/
LOCATION:New Headquarters Station\, 8601 Main Street East\, Bonney Lake\, WA\, 98391\, United States
CATEGORIES:Board Meetings
ATTACH;FMTTYPE=image/png:https://www.eastpiercefire.org/wp-content/uploads/Gavel-e1662664326893.png
ORGANIZER;CN="East Pierce Fire and Rescue":MAILTO:info@eastpiercefire.org
END:VEVENT
BEGIN:VEVENT
DTSTART;TZID=America/Los_Angeles:20250405T130000
DTEND;TZID=America/Los_Angeles:20250405T160000
DTSTAMP:20260425T073808
CREATED:20241014T221235Z
LAST-MODIFIED:20250306T195818Z
UID:10000251-1743858000-1743868800@www.eastpiercefire.org
SUMMARY:Heartsaver First Aid
DESCRIPTION:
URL:https://www.eastpiercefire.org/event/heartsaver-first-aid-56/
LOCATION:Station 116\, 10515 234th Ave E\, Buckley\, WA\, 98321\, United States
CATEGORIES:Classes
ATTACH;FMTTYPE=image/png:https://www.eastpiercefire.org/wp-content/uploads/Sorry-13-e1662664661421.png
ORGANIZER;CN="East Pierce Fire and Rescue":MAILTO:info@eastpiercefire.org
END:VEVENT
BEGIN:VEVENT
DTSTART;TZID=America/Los_Angeles:20250405T090000
DTEND;TZID=America/Los_Angeles:20250405T123000
DTSTAMP:20260425T073808
CREATED:20241014T221138Z
LAST-MODIFIED:20250306T195621Z
UID:10000252-1743843600-1743856200@www.eastpiercefire.org
SUMMARY:Heartsaver CPR
DESCRIPTION:
URL:https://www.eastpiercefire.org/event/heartsaver-cpr-56/
LOCATION:Station 116\, 10515 234th Ave E\, Buckley\, WA\, 98321\, United States
CATEGORIES:Classes
ATTACH;FMTTYPE=image/png:https://www.eastpiercefire.org/wp-content/uploads/Sorry-13-e1662664661421.png
ORGANIZER;CN="East Pierce Fire and Rescue":MAILTO:info@eastpiercefire.org
END:VEVENT
BEGIN:VEVENT
DTSTART;TZID=America/Los_Angeles:20250325T130000
DTEND;TZID=America/Los_Angeles:20250325T160000
DTSTAMP:20260425T073808
CREATED:20241014T220905Z
LAST-MODIFIED:20250306T195457Z
UID:10000249-1742907600-1742918400@www.eastpiercefire.org
SUMMARY:Heartsaver First Aid
DESCRIPTION:
URL:https://www.eastpiercefire.org/event/heartsaver-first-aid-55/
LOCATION:Station 116\, 10515 234th Ave E\, Buckley\, WA\, 98321\, United States
CATEGORIES:Classes
ATTACH;FMTTYPE=image/png:https://www.eastpiercefire.org/wp-content/uploads/Sorry-13-e1662664661421.png
ORGANIZER;CN="East Pierce Fire and Rescue":MAILTO:info@eastpiercefire.org
END:VEVENT
BEGIN:VEVENT
DTSTART;TZID=America/Los_Angeles:20250325T090000
DTEND;TZID=America/Los_Angeles:20250325T123000
DTSTAMP:20260425T073808
CREATED:20241014T220806Z
LAST-MODIFIED:20250306T194332Z
UID:10000250-1742893200-1742905800@www.eastpiercefire.org
SUMMARY:Heartsaver CPR
DESCRIPTION:
URL:https://www.eastpiercefire.org/event/heartsaver-cpr-55/
LOCATION:Station 116\, 10515 234th Ave E\, Buckley\, WA\, 98321\, United States
CATEGORIES:Classes
ATTACH;FMTTYPE=image/png:https://www.eastpiercefire.org/wp-content/uploads/Sorry-13-e1662664661421.png
ORGANIZER;CN="East Pierce Fire and Rescue":MAILTO:info@eastpiercefire.org
END:VEVENT
BEGIN:VEVENT
DTSTART;TZID=America/Los_Angeles:20250318T190000
DTEND;TZID=America/Los_Angeles:20250318T200000
DTSTAMP:20260425T073808
CREATED:20241121T190258Z
LAST-MODIFIED:20250313T211136Z
UID:10000284-1742324400-1742328000@www.eastpiercefire.org
SUMMARY:Board of Commissioners Meeting
DESCRIPTION:
URL:https://www.eastpiercefire.org/event/board-of-commissioners-meeting-41/
LOCATION:Headquarters Station\, 8601 Main Street East\, Bonney Lake\, WA\, 98391\, United States
CATEGORIES:Board Meetings
ATTACH;FMTTYPE=image/png:https://www.eastpiercefire.org/wp-content/uploads/Gavel-e1662664326893.png
ORGANIZER;CN="East Pierce Fire and Rescue":MAILTO:info@eastpiercefire.org
END:VEVENT
BEGIN:VEVENT
DTSTART;TZID=America/Los_Angeles:20250315T130000
DTEND;TZID=America/Los_Angeles:20250315T160000
DTSTAMP:20260425T073808
CREATED:20241014T220040Z
LAST-MODIFIED:20250306T193742Z
UID:10000247-1742043600-1742054400@www.eastpiercefire.org
SUMMARY:Heartsaver First Aid
DESCRIPTION:
URL:https://www.eastpiercefire.org/event/heartsaver-first-aid-54/
LOCATION:Station 116\, 10515 234th Ave E\, Buckley\, WA\, 98321\, United States
CATEGORIES:Classes
ATTACH;FMTTYPE=image/png:https://www.eastpiercefire.org/wp-content/uploads/Sorry-13-e1662664661421.png
ORGANIZER;CN="East Pierce Fire and Rescue":MAILTO:info@eastpiercefire.org
END:VEVENT
BEGIN:VEVENT
DTSTART;TZID=America/Los_Angeles:20250315T090000
DTEND;TZID=America/Los_Angeles:20250315T123000
DTSTAMP:20260425T073808
CREATED:20241014T215937Z
LAST-MODIFIED:20250306T193555Z
UID:10000248-1742029200-1742041800@www.eastpiercefire.org
SUMMARY:Heartsaver CPR
DESCRIPTION:
URL:https://www.eastpiercefire.org/event/heartsaver-cpr-54/
LOCATION:Station 116\, 10515 234th Ave E\, Buckley\, WA\, 98321\, United States
CATEGORIES:Classes
ATTACH;FMTTYPE=image/png:https://www.eastpiercefire.org/wp-content/uploads/Sorry-13-e1662664661421.png
ORGANIZER;CN="East Pierce Fire and Rescue":MAILTO:info@eastpiercefire.org
END:VEVENT
BEGIN:VEVENT
DTSTART;TZID=America/Los_Angeles:20250222T130000
DTEND;TZID=America/Los_Angeles:20250222T160000
DTSTAMP:20260425T073808
CREATED:20241014T215811Z
LAST-MODIFIED:20250114T201404Z
UID:10000245-1740229200-1740240000@www.eastpiercefire.org
SUMMARY:Heartsaver First Aid
DESCRIPTION:
URL:https://www.eastpiercefire.org/event/heartsaver-first-aid-53/
LOCATION:Headquarters Station\, 8601 Main Street East\, Bonney Lake\, WA\, 98391\, United States
CATEGORIES:Classes
ATTACH;FMTTYPE=image/png:https://www.eastpiercefire.org/wp-content/uploads/Sorry-13-e1662664661421.png
ORGANIZER;CN="East Pierce Fire and Rescue":MAILTO:info@eastpiercefire.org
END:VEVENT
BEGIN:VEVENT
DTSTART;TZID=America/Los_Angeles:20250222T090000
DTEND;TZID=America/Los_Angeles:20250222T123000
DTSTAMP:20260425T073808
CREATED:20241014T215725Z
LAST-MODIFIED:20250211T223224Z
UID:10000246-1740214800-1740227400@www.eastpiercefire.org
SUMMARY:Heartsaver CPR
DESCRIPTION:
URL:https://www.eastpiercefire.org/event/heartsaver-cpr-53/
LOCATION:Headquarters Station\, 8601 Main Street East\, Bonney Lake\, WA\, 98391\, United States
CATEGORIES:Classes
ATTACH;FMTTYPE=image/png:https://www.eastpiercefire.org/wp-content/uploads/Sorry-13-e1662664661421.png
ORGANIZER;CN="East Pierce Fire and Rescue":MAILTO:info@eastpiercefire.org
END:VEVENT
BEGIN:VEVENT
DTSTART;TZID=America/Los_Angeles:20250218T190000
DTEND;TZID=America/Los_Angeles:20250218T200000
DTSTAMP:20260425T073808
CREATED:20241121T190154Z
LAST-MODIFIED:20250214T000935Z
UID:10000283-1739905200-1739908800@www.eastpiercefire.org
SUMMARY:Board of Commissioners Meeting
DESCRIPTION:
URL:https://www.eastpiercefire.org/event/board-of-commissioners-meeting-40/
LOCATION:Headquarters Station\, 8601 Main Street East\, Bonney Lake\, WA\, 98391\, United States
CATEGORIES:Board Meetings
ATTACH;FMTTYPE=image/png:https://www.eastpiercefire.org/wp-content/uploads/Gavel-e1662664326893.png
ORGANIZER;CN="East Pierce Fire and Rescue":MAILTO:info@eastpiercefire.org
END:VEVENT
BEGIN:VEVENT
DTSTART;VALUE=DATE:20250217
DTEND;VALUE=DATE:20250218
DTSTAMP:20260425T073808
CREATED:20250401T235810Z
LAST-MODIFIED:20250401T235912Z
UID:10000312-1739750400-1739836799@www.eastpiercefire.org
SUMMARY:Business Office Closed
DESCRIPTION:
URL:https://www.eastpiercefire.org/event/business-office-closed-38/
LOCATION:WA
CATEGORIES:Office Closed
ATTACH;FMTTYPE=image/png:https://www.eastpiercefire.org/wp-content/uploads/Sorry-10-e1662663103106.png
END:VEVENT
BEGIN:VEVENT
DTSTART;TZID=America/Los_Angeles:20250212T130000
DTEND;TZID=America/Los_Angeles:20250212T160000
DTSTAMP:20260425T073808
CREATED:20241014T214923Z
LAST-MODIFIED:20241113T203204Z
UID:10000243-1739365200-1739376000@www.eastpiercefire.org
SUMMARY:Heartsaver First Aid
DESCRIPTION:
URL:https://www.eastpiercefire.org/event/heartsaver-first-aid-52/
LOCATION:Headquarters Station\, 8601 Main Street East\, Bonney Lake\, WA\, 98391\, United States
CATEGORIES:Classes
ATTACH;FMTTYPE=image/png:https://www.eastpiercefire.org/wp-content/uploads/Sorry-13-e1662664661421.png
ORGANIZER;CN="East Pierce Fire and Rescue":MAILTO:info@eastpiercefire.org
END:VEVENT
BEGIN:VEVENT
DTSTART;TZID=America/Los_Angeles:20250212T090000
DTEND;TZID=America/Los_Angeles:20250212T123000
DTSTAMP:20260425T073808
CREATED:20241014T214830Z
LAST-MODIFIED:20241125T204029Z
UID:10000244-1739350800-1739363400@www.eastpiercefire.org
SUMMARY:Heartsaver CPR
DESCRIPTION:
URL:https://www.eastpiercefire.org/event/heartsaver-cpr-52/
LOCATION:Headquarters Station\, 8601 Main Street East\, Bonney Lake\, WA\, 98391\, United States
CATEGORIES:Classes
ATTACH;FMTTYPE=image/png:https://www.eastpiercefire.org/wp-content/uploads/Sorry-13-e1662664661421.png
ORGANIZER;CN="East Pierce Fire and Rescue":MAILTO:info@eastpiercefire.org
END:VEVENT
BEGIN:VEVENT
DTSTART;TZID=America/Los_Angeles:20250128T130000
DTEND;TZID=America/Los_Angeles:20250128T160000
DTSTAMP:20260425T073808
CREATED:20241014T213732Z
LAST-MODIFIED:20250109T181614Z
UID:10000241-1738069200-1738080000@www.eastpiercefire.org
SUMMARY:Heartsaver First Aid
DESCRIPTION:
URL:https://www.eastpiercefire.org/event/heartsaver-first-aid-51/
LOCATION:Headquarters Station\, 8601 Main Street East\, Bonney Lake\, WA\, 98391\, United States
CATEGORIES:Classes
ATTACH;FMTTYPE=image/png:https://www.eastpiercefire.org/wp-content/uploads/Sorry-13-e1662664661421.png
ORGANIZER;CN="East Pierce Fire and Rescue":MAILTO:info@eastpiercefire.org
END:VEVENT
BEGIN:VEVENT
DTSTART;TZID=America/Los_Angeles:20250128T090000
DTEND;TZID=America/Los_Angeles:20250128T123000
DTSTAMP:20260425T073808
CREATED:20241014T214233Z
LAST-MODIFIED:20241126T191401Z
UID:10000242-1738054800-1738067400@www.eastpiercefire.org
SUMMARY:Heartsaver CPR
DESCRIPTION:
URL:https://www.eastpiercefire.org/event/heartsaver-cpr-51/
LOCATION:Headquarters Station\, 8601 Main Street East\, Bonney Lake\, WA\, 98391\, United States
CATEGORIES:Classes
ATTACH;FMTTYPE=image/png:https://www.eastpiercefire.org/wp-content/uploads/Sorry-13-e1662664661421.png
ORGANIZER;CN="East Pierce Fire and Rescue":MAILTO:info@eastpiercefire.org
END:VEVENT
BEGIN:VEVENT
DTSTART;TZID=America/Los_Angeles:20250121T190000
DTEND;TZID=America/Los_Angeles:20250121T200000
DTSTAMP:20260425T073808
CREATED:20241121T190020Z
LAST-MODIFIED:20250129T005804Z
UID:10000282-1737486000-1737489600@www.eastpiercefire.org
SUMMARY:Board of Commissioners Meeting
DESCRIPTION:
URL:https://www.eastpiercefire.org/event/board-of-commissioners-meeting-39/
LOCATION:Headquarters Station\, 8601 Main Street East\, Bonney Lake\, WA\, 98391\, United States
CATEGORIES:Board Meetings
ATTACH;FMTTYPE=image/png:https://www.eastpiercefire.org/wp-content/uploads/Gavel-e1662664326893.png
ORGANIZER;CN="East Pierce Fire and Rescue":MAILTO:info@eastpiercefire.org
END:VEVENT
BEGIN:VEVENT
DTSTART;VALUE=DATE:20250120
DTEND;VALUE=DATE:20250121
DTSTAMP:20260425T073808
CREATED:20250401T235525Z
LAST-MODIFIED:20250401T235525Z
UID:10000311-1737331200-1737417599@www.eastpiercefire.org
SUMMARY:Business Office Closed
DESCRIPTION:
URL:https://www.eastpiercefire.org/event/business-office-closed-37/
LOCATION:WA
CATEGORIES:Office Closed
ATTACH;FMTTYPE=image/png:https://www.eastpiercefire.org/wp-content/uploads/Sorry-10-e1662663103106.png
END:VEVENT
END:VCALENDAR