BEGIN:VCALENDAR
VERSION:2.0
PRODID:-//East Pierce Fire &amp; Rescue - ECPv6.15.20//NONSGML v1.0//EN
CALSCALE:GREGORIAN
METHOD:PUBLISH
X-ORIGINAL-URL:https://www.eastpiercefire.org
X-WR-CALDESC:Events for East Pierce Fire &amp; Rescue
REFRESH-INTERVAL;VALUE=DURATION:PT1H
X-Robots-Tag:noindex
X-PUBLISHED-TTL:PT1H
BEGIN:VTIMEZONE
TZID:America/Los_Angeles
BEGIN:DAYLIGHT
TZOFFSETFROM:-0800
TZOFFSETTO:-0700
TZNAME:PDT
DTSTART:20270314T100000
END:DAYLIGHT
BEGIN:STANDARD
TZOFFSETFROM:-0700
TZOFFSETTO:-0800
TZNAME:PST
DTSTART:20271107T090000
END:STANDARD
BEGIN:DAYLIGHT
TZOFFSETFROM:-0800
TZOFFSETTO:-0700
TZNAME:PDT
DTSTART:20280312T100000
END:DAYLIGHT
BEGIN:STANDARD
TZOFFSETFROM:-0700
TZOFFSETTO:-0800
TZNAME:PST
DTSTART:20281105T090000
END:STANDARD
BEGIN:DAYLIGHT
TZOFFSETFROM:-0800
TZOFFSETTO:-0700
TZNAME:PDT
DTSTART:20290311T100000
END:DAYLIGHT
BEGIN:STANDARD
TZOFFSETFROM:-0700
TZOFFSETTO:-0800
TZNAME:PST
DTSTART:20291104T090000
END:STANDARD
BEGIN:DAYLIGHT
TZOFFSETFROM:-0800
TZOFFSETTO:-0700
TZNAME:PDT
DTSTART:20300310T100000
END:DAYLIGHT
BEGIN:STANDARD
TZOFFSETFROM:-0700
TZOFFSETTO:-0800
TZNAME:PST
DTSTART:20301103T090000
END:STANDARD
END:VTIMEZONE
BEGIN:VEVENT
DTSTART;TZID=America/Los_Angeles:20280215T190000
DTEND;TZID=America/Los_Angeles:20280215T200000
DTSTAMP:20260420T010731
CREATED:20260116T195700Z
LAST-MODIFIED:20260116T195700Z
UID:10000408-1834254000-1834257600@www.eastpiercefire.org
SUMMARY:Board of Commissioners Meeting
DESCRIPTION:
URL:https://www.eastpiercefire.org/event/board-of-commissioners-meeting-51/2028-02-15/
LOCATION:Headquarters Station\, 8601 Main Street East\, Bonney Lake\, WA\, 98391\, United States
CATEGORIES:Board Meetings
ATTACH;FMTTYPE=image/png:https://www.eastpiercefire.org/wp-content/uploads/Gavel-e1662664326893.png
ORGANIZER;CN="East Pierce Fire and Rescue":MAILTO:info@eastpiercefire.org
END:VEVENT
BEGIN:VEVENT
DTSTART;TZID=America/Los_Angeles:20280321T190000
DTEND;TZID=America/Los_Angeles:20280321T200000
DTSTAMP:20260420T010731
CREATED:20260116T195700Z
LAST-MODIFIED:20260116T195700Z
UID:10000409-1837278000-1837281600@www.eastpiercefire.org
SUMMARY:Board of Commissioners Meeting
DESCRIPTION:
URL:https://www.eastpiercefire.org/event/board-of-commissioners-meeting-51/2028-03-21/
LOCATION:Headquarters Station\, 8601 Main Street East\, Bonney Lake\, WA\, 98391\, United States
CATEGORIES:Board Meetings
ATTACH;FMTTYPE=image/png:https://www.eastpiercefire.org/wp-content/uploads/Gavel-e1662664326893.png
ORGANIZER;CN="East Pierce Fire and Rescue":MAILTO:info@eastpiercefire.org
END:VEVENT
BEGIN:VEVENT
DTSTART;TZID=America/Los_Angeles:20280418T190000
DTEND;TZID=America/Los_Angeles:20280418T200000
DTSTAMP:20260420T010731
CREATED:20260116T195700Z
LAST-MODIFIED:20260116T195700Z
UID:10000410-1839697200-1839700800@www.eastpiercefire.org
SUMMARY:Board of Commissioners Meeting
DESCRIPTION:
URL:https://www.eastpiercefire.org/event/board-of-commissioners-meeting-51/2028-04-18/
LOCATION:Headquarters Station\, 8601 Main Street East\, Bonney Lake\, WA\, 98391\, United States
CATEGORIES:Board Meetings
ATTACH;FMTTYPE=image/png:https://www.eastpiercefire.org/wp-content/uploads/Gavel-e1662664326893.png
ORGANIZER;CN="East Pierce Fire and Rescue":MAILTO:info@eastpiercefire.org
END:VEVENT
BEGIN:VEVENT
DTSTART;TZID=America/Los_Angeles:20280516T190000
DTEND;TZID=America/Los_Angeles:20280516T200000
DTSTAMP:20260420T010731
CREATED:20260116T195700Z
LAST-MODIFIED:20260116T195700Z
UID:10000411-1842116400-1842120000@www.eastpiercefire.org
SUMMARY:Board of Commissioners Meeting
DESCRIPTION:
URL:https://www.eastpiercefire.org/event/board-of-commissioners-meeting-51/2028-05-16/
LOCATION:Headquarters Station\, 8601 Main Street East\, Bonney Lake\, WA\, 98391\, United States
CATEGORIES:Board Meetings
ATTACH;FMTTYPE=image/png:https://www.eastpiercefire.org/wp-content/uploads/Gavel-e1662664326893.png
ORGANIZER;CN="East Pierce Fire and Rescue":MAILTO:info@eastpiercefire.org
END:VEVENT
BEGIN:VEVENT
DTSTART;TZID=America/Los_Angeles:20280620T190000
DTEND;TZID=America/Los_Angeles:20280620T200000
DTSTAMP:20260420T010731
CREATED:20260116T195700Z
LAST-MODIFIED:20260116T195700Z
UID:10000412-1845140400-1845144000@www.eastpiercefire.org
SUMMARY:Board of Commissioners Meeting
DESCRIPTION:
URL:https://www.eastpiercefire.org/event/board-of-commissioners-meeting-51/2028-06-20/
LOCATION:Headquarters Station\, 8601 Main Street East\, Bonney Lake\, WA\, 98391\, United States
CATEGORIES:Board Meetings
ATTACH;FMTTYPE=image/png:https://www.eastpiercefire.org/wp-content/uploads/Gavel-e1662664326893.png
ORGANIZER;CN="East Pierce Fire and Rescue":MAILTO:info@eastpiercefire.org
END:VEVENT
BEGIN:VEVENT
DTSTART;TZID=America/Los_Angeles:20280718T190000
DTEND;TZID=America/Los_Angeles:20280718T200000
DTSTAMP:20260420T010731
CREATED:20260116T195700Z
LAST-MODIFIED:20260116T195700Z
UID:10000413-1847559600-1847563200@www.eastpiercefire.org
SUMMARY:Board of Commissioners Meeting
DESCRIPTION:
URL:https://www.eastpiercefire.org/event/board-of-commissioners-meeting-51/2028-07-18/
LOCATION:Headquarters Station\, 8601 Main Street East\, Bonney Lake\, WA\, 98391\, United States
CATEGORIES:Board Meetings
ATTACH;FMTTYPE=image/png:https://www.eastpiercefire.org/wp-content/uploads/Gavel-e1662664326893.png
ORGANIZER;CN="East Pierce Fire and Rescue":MAILTO:info@eastpiercefire.org
END:VEVENT
BEGIN:VEVENT
DTSTART;TZID=America/Los_Angeles:20280815T190000
DTEND;TZID=America/Los_Angeles:20280815T200000
DTSTAMP:20260420T010732
CREATED:20260116T195700Z
LAST-MODIFIED:20260116T195700Z
UID:10000414-1849978800-1849982400@www.eastpiercefire.org
SUMMARY:Board of Commissioners Meeting
DESCRIPTION:
URL:https://www.eastpiercefire.org/event/board-of-commissioners-meeting-51/2028-08-15/
LOCATION:Headquarters Station\, 8601 Main Street East\, Bonney Lake\, WA\, 98391\, United States
CATEGORIES:Board Meetings
ATTACH;FMTTYPE=image/png:https://www.eastpiercefire.org/wp-content/uploads/Gavel-e1662664326893.png
ORGANIZER;CN="East Pierce Fire and Rescue":MAILTO:info@eastpiercefire.org
END:VEVENT
BEGIN:VEVENT
DTSTART;VALUE=DATE:20280904
DTEND;VALUE=DATE:20280905
DTSTAMP:20260420T010732
CREATED:20250401T234332Z
LAST-MODIFIED:20260212T081457Z
UID:10000489-1851638400-1851724799@www.eastpiercefire.org
SUMMARY:Business Office Closed
DESCRIPTION:
URL:https://www.eastpiercefire.org/event/business-office-closed-30/2028-09-04/
LOCATION:WA
CATEGORIES:Office Closed
ATTACH;FMTTYPE=image/png:https://www.eastpiercefire.org/wp-content/uploads/Sorry-10-e1662663103106.png
END:VEVENT
BEGIN:VEVENT
DTSTART;TZID=America/Los_Angeles:20280919T190000
DTEND;TZID=America/Los_Angeles:20280919T200000
DTSTAMP:20260420T010732
CREATED:20260116T195700Z
LAST-MODIFIED:20260116T195700Z
UID:10000415-1853002800-1853006400@www.eastpiercefire.org
SUMMARY:Board of Commissioners Meeting
DESCRIPTION:
URL:https://www.eastpiercefire.org/event/board-of-commissioners-meeting-51/2028-09-19/
LOCATION:Headquarters Station\, 8601 Main Street East\, Bonney Lake\, WA\, 98391\, United States
CATEGORIES:Board Meetings
ATTACH;FMTTYPE=image/png:https://www.eastpiercefire.org/wp-content/uploads/Gavel-e1662664326893.png
ORGANIZER;CN="East Pierce Fire and Rescue":MAILTO:info@eastpiercefire.org
END:VEVENT
BEGIN:VEVENT
DTSTART;TZID=America/Los_Angeles:20281017T190000
DTEND;TZID=America/Los_Angeles:20281017T200000
DTSTAMP:20260420T010732
CREATED:20260116T195700Z
LAST-MODIFIED:20260116T195700Z
UID:10000416-1855422000-1855425600@www.eastpiercefire.org
SUMMARY:Board of Commissioners Meeting
DESCRIPTION:
URL:https://www.eastpiercefire.org/event/board-of-commissioners-meeting-51/2028-10-17/
LOCATION:Headquarters Station\, 8601 Main Street East\, Bonney Lake\, WA\, 98391\, United States
CATEGORIES:Board Meetings
ATTACH;FMTTYPE=image/png:https://www.eastpiercefire.org/wp-content/uploads/Gavel-e1662664326893.png
ORGANIZER;CN="East Pierce Fire and Rescue":MAILTO:info@eastpiercefire.org
END:VEVENT
BEGIN:VEVENT
DTSTART;TZID=America/Los_Angeles:20281121T190000
DTEND;TZID=America/Los_Angeles:20281121T200000
DTSTAMP:20260420T010732
CREATED:20260116T195700Z
LAST-MODIFIED:20260116T195700Z
UID:10000417-1858446000-1858449600@www.eastpiercefire.org
SUMMARY:Board of Commissioners Meeting
DESCRIPTION:
URL:https://www.eastpiercefire.org/event/board-of-commissioners-meeting-51/2028-11-21/
LOCATION:Headquarters Station\, 8601 Main Street East\, Bonney Lake\, WA\, 98391\, United States
CATEGORIES:Board Meetings
ATTACH;FMTTYPE=image/png:https://www.eastpiercefire.org/wp-content/uploads/Gavel-e1662664326893.png
ORGANIZER;CN="East Pierce Fire and Rescue":MAILTO:info@eastpiercefire.org
END:VEVENT
BEGIN:VEVENT
DTSTART;VALUE=DATE:20281123
DTEND;VALUE=DATE:20281124
DTSTAMP:20260420T010732
CREATED:20250401T234619Z
LAST-MODIFIED:20260212T081243Z
UID:10000483-1858550400-1858636799@www.eastpiercefire.org
SUMMARY:Business Office Closed
DESCRIPTION:
URL:https://www.eastpiercefire.org/event/business-office-closed-32/2028-11-23/
LOCATION:WA
CATEGORIES:Office Closed
ATTACH;FMTTYPE=image/png:https://www.eastpiercefire.org/wp-content/uploads/Sorry-10-e1662663103106.png
END:VEVENT
BEGIN:VEVENT
DTSTART;VALUE=DATE:20281124
DTEND;VALUE=DATE:20281125
DTSTAMP:20260420T010732
CREATED:20250401T234645Z
LAST-MODIFIED:20260212T081231Z
UID:10000478-1858636800-1858723199@www.eastpiercefire.org
SUMMARY:Business Office Closed
DESCRIPTION:
URL:https://www.eastpiercefire.org/event/business-office-closed-33/2028-11-24/
LOCATION:WA
CATEGORIES:Office Closed
ATTACH;FMTTYPE=image/png:https://www.eastpiercefire.org/wp-content/uploads/Sorry-10-e1662663103106.png
END:VEVENT
BEGIN:VEVENT
DTSTART;TZID=America/Los_Angeles:20281219T190000
DTEND;TZID=America/Los_Angeles:20281219T200000
DTSTAMP:20260420T010732
CREATED:20260116T195700Z
LAST-MODIFIED:20260116T195700Z
UID:10000418-1860865200-1860868800@www.eastpiercefire.org
SUMMARY:Board of Commissioners Meeting
DESCRIPTION:
URL:https://www.eastpiercefire.org/event/board-of-commissioners-meeting-51/2028-12-19/
LOCATION:Headquarters Station\, 8601 Main Street East\, Bonney Lake\, WA\, 98391\, United States
CATEGORIES:Board Meetings
ATTACH;FMTTYPE=image/png:https://www.eastpiercefire.org/wp-content/uploads/Gavel-e1662664326893.png
ORGANIZER;CN="East Pierce Fire and Rescue":MAILTO:info@eastpiercefire.org
END:VEVENT
BEGIN:VEVENT
DTSTART;VALUE=DATE:20281224
DTEND;VALUE=DATE:20281225
DTSTAMP:20260420T010732
CREATED:20250401T234826Z
LAST-MODIFIED:20260212T081045Z
UID:10000473-1861228800-1861315199@www.eastpiercefire.org
SUMMARY:Business Office Closed
DESCRIPTION:
URL:https://www.eastpiercefire.org/event/business-office-closed-34/2028-12-24/
LOCATION:WA
CATEGORIES:Office Closed
ATTACH;FMTTYPE=image/png:https://www.eastpiercefire.org/wp-content/uploads/Sorry-10-e1662663103106.png
END:VEVENT
BEGIN:VEVENT
DTSTART;VALUE=DATE:20281225
DTEND;VALUE=DATE:20281226
DTSTAMP:20260420T010732
CREATED:20250401T234927Z
LAST-MODIFIED:20260212T081029Z
UID:10000468-1861315200-1861401599@www.eastpiercefire.org
SUMMARY:Business Office Closed
DESCRIPTION:
URL:https://www.eastpiercefire.org/event/business-office-closed-35/2028-12-25/
LOCATION:WA
CATEGORIES:Office Closed
ATTACH;FMTTYPE=image/png:https://www.eastpiercefire.org/wp-content/uploads/Sorry-10-e1662663103106.png
END:VEVENT
BEGIN:VEVENT
DTSTART;TZID=America/Los_Angeles:20290116T190000
DTEND;TZID=America/Los_Angeles:20290116T200000
DTSTAMP:20260420T010732
CREATED:20260116T195700Z
LAST-MODIFIED:20260116T195700Z
UID:10000419-1863284400-1863288000@www.eastpiercefire.org
SUMMARY:Board of Commissioners Meeting
DESCRIPTION:
URL:https://www.eastpiercefire.org/event/board-of-commissioners-meeting-51/2029-01-16/
LOCATION:Headquarters Station\, 8601 Main Street East\, Bonney Lake\, WA\, 98391\, United States
CATEGORIES:Board Meetings
ATTACH;FMTTYPE=image/png:https://www.eastpiercefire.org/wp-content/uploads/Gavel-e1662664326893.png
ORGANIZER;CN="East Pierce Fire and Rescue":MAILTO:info@eastpiercefire.org
END:VEVENT
BEGIN:VEVENT
DTSTART;TZID=America/Los_Angeles:20290220T190000
DTEND;TZID=America/Los_Angeles:20290220T200000
DTSTAMP:20260420T010732
CREATED:20260116T195700Z
LAST-MODIFIED:20260116T195700Z
UID:10000420-1866308400-1866312000@www.eastpiercefire.org
SUMMARY:Board of Commissioners Meeting
DESCRIPTION:
URL:https://www.eastpiercefire.org/event/board-of-commissioners-meeting-51/2029-02-20/
LOCATION:Headquarters Station\, 8601 Main Street East\, Bonney Lake\, WA\, 98391\, United States
CATEGORIES:Board Meetings
ATTACH;FMTTYPE=image/png:https://www.eastpiercefire.org/wp-content/uploads/Gavel-e1662664326893.png
ORGANIZER;CN="East Pierce Fire and Rescue":MAILTO:info@eastpiercefire.org
END:VEVENT
BEGIN:VEVENT
DTSTART;TZID=America/Los_Angeles:20290320T190000
DTEND;TZID=America/Los_Angeles:20290320T200000
DTSTAMP:20260420T010732
CREATED:20260116T195700Z
LAST-MODIFIED:20260116T195700Z
UID:10000421-1868727600-1868731200@www.eastpiercefire.org
SUMMARY:Board of Commissioners Meeting
DESCRIPTION:
URL:https://www.eastpiercefire.org/event/board-of-commissioners-meeting-51/2029-03-20/
LOCATION:Headquarters Station\, 8601 Main Street East\, Bonney Lake\, WA\, 98391\, United States
CATEGORIES:Board Meetings
ATTACH;FMTTYPE=image/png:https://www.eastpiercefire.org/wp-content/uploads/Gavel-e1662664326893.png
ORGANIZER;CN="East Pierce Fire and Rescue":MAILTO:info@eastpiercefire.org
END:VEVENT
BEGIN:VEVENT
DTSTART;TZID=America/Los_Angeles:20290417T190000
DTEND;TZID=America/Los_Angeles:20290417T200000
DTSTAMP:20260420T010732
CREATED:20260116T195700Z
LAST-MODIFIED:20260116T195700Z
UID:10000422-1871146800-1871150400@www.eastpiercefire.org
SUMMARY:Board of Commissioners Meeting
DESCRIPTION:
URL:https://www.eastpiercefire.org/event/board-of-commissioners-meeting-51/2029-04-17/
LOCATION:Headquarters Station\, 8601 Main Street East\, Bonney Lake\, WA\, 98391\, United States
CATEGORIES:Board Meetings
ATTACH;FMTTYPE=image/png:https://www.eastpiercefire.org/wp-content/uploads/Gavel-e1662664326893.png
ORGANIZER;CN="East Pierce Fire and Rescue":MAILTO:info@eastpiercefire.org
END:VEVENT
BEGIN:VEVENT
DTSTART;TZID=America/Los_Angeles:20290515T190000
DTEND;TZID=America/Los_Angeles:20290515T200000
DTSTAMP:20260420T010732
CREATED:20260116T195700Z
LAST-MODIFIED:20260116T195700Z
UID:10000423-1873566000-1873569600@www.eastpiercefire.org
SUMMARY:Board of Commissioners Meeting
DESCRIPTION:
URL:https://www.eastpiercefire.org/event/board-of-commissioners-meeting-51/2029-05-15/
LOCATION:Headquarters Station\, 8601 Main Street East\, Bonney Lake\, WA\, 98391\, United States
CATEGORIES:Board Meetings
ATTACH;FMTTYPE=image/png:https://www.eastpiercefire.org/wp-content/uploads/Gavel-e1662664326893.png
ORGANIZER;CN="East Pierce Fire and Rescue":MAILTO:info@eastpiercefire.org
END:VEVENT
BEGIN:VEVENT
DTSTART;TZID=America/Los_Angeles:20290619T190000
DTEND;TZID=America/Los_Angeles:20290619T200000
DTSTAMP:20260420T010732
CREATED:20260116T195700Z
LAST-MODIFIED:20260116T195700Z
UID:10000424-1876590000-1876593600@www.eastpiercefire.org
SUMMARY:Board of Commissioners Meeting
DESCRIPTION:
URL:https://www.eastpiercefire.org/event/board-of-commissioners-meeting-51/2029-06-19/
LOCATION:Headquarters Station\, 8601 Main Street East\, Bonney Lake\, WA\, 98391\, United States
CATEGORIES:Board Meetings
ATTACH;FMTTYPE=image/png:https://www.eastpiercefire.org/wp-content/uploads/Gavel-e1662664326893.png
ORGANIZER;CN="East Pierce Fire and Rescue":MAILTO:info@eastpiercefire.org
END:VEVENT
BEGIN:VEVENT
DTSTART;TZID=America/Los_Angeles:20290717T190000
DTEND;TZID=America/Los_Angeles:20290717T200000
DTSTAMP:20260420T010732
CREATED:20260116T195700Z
LAST-MODIFIED:20260116T195700Z
UID:10000425-1879009200-1879012800@www.eastpiercefire.org
SUMMARY:Board of Commissioners Meeting
DESCRIPTION:
URL:https://www.eastpiercefire.org/event/board-of-commissioners-meeting-51/2029-07-17/
LOCATION:Headquarters Station\, 8601 Main Street East\, Bonney Lake\, WA\, 98391\, United States
CATEGORIES:Board Meetings
ATTACH;FMTTYPE=image/png:https://www.eastpiercefire.org/wp-content/uploads/Gavel-e1662664326893.png
ORGANIZER;CN="East Pierce Fire and Rescue":MAILTO:info@eastpiercefire.org
END:VEVENT
BEGIN:VEVENT
DTSTART;TZID=America/Los_Angeles:20290821T190000
DTEND;TZID=America/Los_Angeles:20290821T200000
DTSTAMP:20260420T010732
CREATED:20260116T195700Z
LAST-MODIFIED:20260116T195700Z
UID:10000426-1882033200-1882036800@www.eastpiercefire.org
SUMMARY:Board of Commissioners Meeting
DESCRIPTION:
URL:https://www.eastpiercefire.org/event/board-of-commissioners-meeting-51/2029-08-21/
LOCATION:Headquarters Station\, 8601 Main Street East\, Bonney Lake\, WA\, 98391\, United States
CATEGORIES:Board Meetings
ATTACH;FMTTYPE=image/png:https://www.eastpiercefire.org/wp-content/uploads/Gavel-e1662664326893.png
ORGANIZER;CN="East Pierce Fire and Rescue":MAILTO:info@eastpiercefire.org
END:VEVENT
BEGIN:VEVENT
DTSTART;VALUE=DATE:20290903
DTEND;VALUE=DATE:20290904
DTSTAMP:20260420T010732
CREATED:20250401T234332Z
LAST-MODIFIED:20260212T081457Z
UID:10000490-1883088000-1883174399@www.eastpiercefire.org
SUMMARY:Business Office Closed
DESCRIPTION:
URL:https://www.eastpiercefire.org/event/business-office-closed-30/2029-09-03/
LOCATION:WA
CATEGORIES:Office Closed
ATTACH;FMTTYPE=image/png:https://www.eastpiercefire.org/wp-content/uploads/Sorry-10-e1662663103106.png
END:VEVENT
BEGIN:VEVENT
DTSTART;TZID=America/Los_Angeles:20290918T190000
DTEND;TZID=America/Los_Angeles:20290918T200000
DTSTAMP:20260420T010732
CREATED:20260116T195700Z
LAST-MODIFIED:20260116T195700Z
UID:10000427-1884452400-1884456000@www.eastpiercefire.org
SUMMARY:Board of Commissioners Meeting
DESCRIPTION:
URL:https://www.eastpiercefire.org/event/board-of-commissioners-meeting-51/2029-09-18/
LOCATION:Headquarters Station\, 8601 Main Street East\, Bonney Lake\, WA\, 98391\, United States
CATEGORIES:Board Meetings
ATTACH;FMTTYPE=image/png:https://www.eastpiercefire.org/wp-content/uploads/Gavel-e1662664326893.png
ORGANIZER;CN="East Pierce Fire and Rescue":MAILTO:info@eastpiercefire.org
END:VEVENT
BEGIN:VEVENT
DTSTART;TZID=America/Los_Angeles:20291016T190000
DTEND;TZID=America/Los_Angeles:20291016T200000
DTSTAMP:20260420T010732
CREATED:20260116T195700Z
LAST-MODIFIED:20260116T195700Z
UID:10000428-1886871600-1886875200@www.eastpiercefire.org
SUMMARY:Board of Commissioners Meeting
DESCRIPTION:
URL:https://www.eastpiercefire.org/event/board-of-commissioners-meeting-51/2029-10-16/
LOCATION:Headquarters Station\, 8601 Main Street East\, Bonney Lake\, WA\, 98391\, United States
CATEGORIES:Board Meetings
ATTACH;FMTTYPE=image/png:https://www.eastpiercefire.org/wp-content/uploads/Gavel-e1662664326893.png
ORGANIZER;CN="East Pierce Fire and Rescue":MAILTO:info@eastpiercefire.org
END:VEVENT
BEGIN:VEVENT
DTSTART;TZID=America/Los_Angeles:20291120T190000
DTEND;TZID=America/Los_Angeles:20291120T200000
DTSTAMP:20260420T010732
CREATED:20260116T195700Z
LAST-MODIFIED:20260116T195700Z
UID:10000429-1889895600-1889899200@www.eastpiercefire.org
SUMMARY:Board of Commissioners Meeting
DESCRIPTION:
URL:https://www.eastpiercefire.org/event/board-of-commissioners-meeting-51/2029-11-20/
LOCATION:Headquarters Station\, 8601 Main Street East\, Bonney Lake\, WA\, 98391\, United States
CATEGORIES:Board Meetings
ATTACH;FMTTYPE=image/png:https://www.eastpiercefire.org/wp-content/uploads/Gavel-e1662664326893.png
ORGANIZER;CN="East Pierce Fire and Rescue":MAILTO:info@eastpiercefire.org
END:VEVENT
BEGIN:VEVENT
DTSTART;VALUE=DATE:20291122
DTEND;VALUE=DATE:20291123
DTSTAMP:20260420T010732
CREATED:20250401T234619Z
LAST-MODIFIED:20260212T081243Z
UID:10000484-1890000000-1890086399@www.eastpiercefire.org
SUMMARY:Business Office Closed
DESCRIPTION:
URL:https://www.eastpiercefire.org/event/business-office-closed-32/2029-11-22/
LOCATION:WA
CATEGORIES:Office Closed
ATTACH;FMTTYPE=image/png:https://www.eastpiercefire.org/wp-content/uploads/Sorry-10-e1662663103106.png
END:VEVENT
BEGIN:VEVENT
DTSTART;VALUE=DATE:20291123
DTEND;VALUE=DATE:20291124
DTSTAMP:20260420T010732
CREATED:20250401T234645Z
LAST-MODIFIED:20260212T081231Z
UID:10000479-1890086400-1890172799@www.eastpiercefire.org
SUMMARY:Business Office Closed
DESCRIPTION:
URL:https://www.eastpiercefire.org/event/business-office-closed-33/2029-11-23/
LOCATION:WA
CATEGORIES:Office Closed
ATTACH;FMTTYPE=image/png:https://www.eastpiercefire.org/wp-content/uploads/Sorry-10-e1662663103106.png
END:VEVENT
END:VCALENDAR