BEGIN:VCALENDAR
VERSION:2.0
PRODID:-//East Pierce Fire &amp; Rescue - ECPv6.15.20//NONSGML v1.0//EN
CALSCALE:GREGORIAN
METHOD:PUBLISH
X-ORIGINAL-URL:https://www.eastpiercefire.org
X-WR-CALDESC:Events for East Pierce Fire &amp; Rescue
REFRESH-INTERVAL;VALUE=DURATION:PT1H
X-Robots-Tag:noindex
X-PUBLISHED-TTL:PT1H
BEGIN:VTIMEZONE
TZID:America/Los_Angeles
BEGIN:DAYLIGHT
TZOFFSETFROM:-0800
TZOFFSETTO:-0700
TZNAME:PDT
DTSTART:20240310T100000
END:DAYLIGHT
BEGIN:STANDARD
TZOFFSETFROM:-0700
TZOFFSETTO:-0800
TZNAME:PST
DTSTART:20241103T090000
END:STANDARD
BEGIN:DAYLIGHT
TZOFFSETFROM:-0800
TZOFFSETTO:-0700
TZNAME:PDT
DTSTART:20250309T100000
END:DAYLIGHT
BEGIN:STANDARD
TZOFFSETFROM:-0700
TZOFFSETTO:-0800
TZNAME:PST
DTSTART:20251102T090000
END:STANDARD
BEGIN:DAYLIGHT
TZOFFSETFROM:-0800
TZOFFSETTO:-0700
TZNAME:PDT
DTSTART:20260308T100000
END:DAYLIGHT
BEGIN:STANDARD
TZOFFSETFROM:-0700
TZOFFSETTO:-0800
TZNAME:PST
DTSTART:20261101T090000
END:STANDARD
BEGIN:DAYLIGHT
TZOFFSETFROM:-0800
TZOFFSETTO:-0700
TZNAME:PDT
DTSTART:20270314T100000
END:DAYLIGHT
BEGIN:STANDARD
TZOFFSETFROM:-0700
TZOFFSETTO:-0800
TZNAME:PST
DTSTART:20271107T090000
END:STANDARD
END:VTIMEZONE
BEGIN:VEVENT
DTSTART;TZID=America/Los_Angeles:20260108T130000
DTEND;TZID=America/Los_Angeles:20260108T160000
DTSTAMP:20260420T211314
CREATED:20251203T173607Z
LAST-MODIFIED:20251216T233900Z
UID:10000347-1767877200-1767888000@www.eastpiercefire.org
SUMMARY:Heartsaver First Aid
DESCRIPTION:
URL:https://www.eastpiercefire.org/event/heartsaver-first-aid-78/
LOCATION:Headquarters Station\, 8601 Main Street East\, Bonney Lake\, WA\, 98391\, United States
CATEGORIES:Classes
ATTACH;FMTTYPE=image/png:https://www.eastpiercefire.org/wp-content/uploads/CPR-FA-e1662748191291.png
ORGANIZER;CN="East Pierce Fire and Rescue":MAILTO:info@eastpiercefire.org
END:VEVENT
BEGIN:VEVENT
DTSTART;TZID=America/Los_Angeles:20260108T090000
DTEND;TZID=America/Los_Angeles:20260108T123000
DTSTAMP:20260420T211314
CREATED:20251216T231210Z
LAST-MODIFIED:20251216T233735Z
UID:10000381-1767862800-1767875400@www.eastpiercefire.org
SUMMARY:Heartsaver CPR
DESCRIPTION:
URL:https://www.eastpiercefire.org/event/heartsaver-cpr-86/
LOCATION:Headquarters Station\, 8601 Main Street East\, Bonney Lake\, WA\, 98391\, United States
CATEGORIES:Classes
ATTACH;FMTTYPE=image/png:https://www.eastpiercefire.org/wp-content/uploads/CPR-FA-e1662748191291.png
ORGANIZER;CN="East Pierce Fire and Rescue":MAILTO:info@eastpiercefire.org
END:VEVENT
BEGIN:VEVENT
DTSTART;TZID=America/Los_Angeles:20251213T130000
DTEND;TZID=America/Los_Angeles:20251213T160000
DTSTAMP:20260420T211314
CREATED:20241113T225142Z
LAST-MODIFIED:20250512T184210Z
UID:10000263-1765630800-1765641600@www.eastpiercefire.org
SUMMARY:Heartsaver First Aid
DESCRIPTION:
URL:https://www.eastpiercefire.org/event/heartsaver-first-aid-69/
LOCATION:New Headquarters Station\, 8601 Main Street East\, Bonney Lake\, WA\, 98391\, United States
CATEGORIES:Classes
ATTACH;FMTTYPE=image/png:https://www.eastpiercefire.org/wp-content/uploads/Sorry-13-e1662664661421.png
ORGANIZER;CN="East Pierce Fire and Rescue":MAILTO:info@eastpiercefire.org
END:VEVENT
BEGIN:VEVENT
DTSTART;TZID=America/Los_Angeles:20251213T090000
DTEND;TZID=America/Los_Angeles:20251213T123000
DTSTAMP:20260420T211314
CREATED:20241014T213053Z
LAST-MODIFIED:20250512T184133Z
UID:10000238-1765616400-1765629000@www.eastpiercefire.org
SUMMARY:Heartsaver CPR
DESCRIPTION:
URL:https://www.eastpiercefire.org/event/heartsaver-cpr-49/
LOCATION:New Headquarters Station\, 8601 Main Street East\, Bonney Lake\, WA\, 98391\, United States
CATEGORIES:Classes
ATTACH;FMTTYPE=image/png:https://www.eastpiercefire.org/wp-content/uploads/Sorry-13-e1662664661421.png
ORGANIZER;CN="East Pierce Fire and Rescue":MAILTO:info@eastpiercefire.org
END:VEVENT
BEGIN:VEVENT
DTSTART;TZID=America/Los_Angeles:20251119T130000
DTEND;TZID=America/Los_Angeles:20251119T160000
DTSTAMP:20260420T211314
CREATED:20241113T224840Z
LAST-MODIFIED:20251030T004921Z
UID:10000267-1763557200-1763568000@www.eastpiercefire.org
SUMMARY:Heartsaver First Aid
DESCRIPTION:
URL:https://www.eastpiercefire.org/event/heartsaver-first-aid-68/
LOCATION:New Headquarters Station\, 8601 Main Street East\, Bonney Lake\, WA\, 98391\, United States
CATEGORIES:Classes
ATTACH;FMTTYPE=image/png:https://www.eastpiercefire.org/wp-content/uploads/Sorry-13-e1662664661421.png
ORGANIZER;CN="East Pierce Fire and Rescue":MAILTO:info@eastpiercefire.org
END:VEVENT
BEGIN:VEVENT
DTSTART;TZID=America/Los_Angeles:20251119T090000
DTEND;TZID=America/Los_Angeles:20251119T123000
DTSTAMP:20260420T211314
CREATED:20241113T224313Z
LAST-MODIFIED:20250512T184007Z
UID:10000280-1763542800-1763555400@www.eastpiercefire.org
SUMMARY:Heartsaver CPR
DESCRIPTION:
URL:https://www.eastpiercefire.org/event/heartsaver-cpr-69/
LOCATION:New Headquarters Station\, 8601 Main Street East\, Bonney Lake\, WA\, 98391\, United States
CATEGORIES:Classes
ATTACH;FMTTYPE=image/png:https://www.eastpiercefire.org/wp-content/uploads/Sorry-13-e1662664661421.png
ORGANIZER;CN="East Pierce Fire and Rescue":MAILTO:info@eastpiercefire.org
END:VEVENT
BEGIN:VEVENT
DTSTART;TZID=America/Los_Angeles:20251118T100000
DTEND;TZID=America/Los_Angeles:20251118T113000
DTSTAMP:20260420T211314
CREATED:20250519T013607Z
LAST-MODIFIED:20250904T003849Z
UID:10000322-1763460000-1763465400@www.eastpiercefire.org
SUMMARY:Advanced Aging & Care Planning Series: Session 6 of 6 (2025)
DESCRIPTION:
URL:https://www.eastpiercefire.org/event/advanced-aging-care-planning-series-session-6-of-6-2025/
LOCATION:Station 118\, 10105 24th St E\, Edgewood\, 98371
CATEGORIES:Classes
ATTACH;FMTTYPE=image/png:https://www.eastpiercefire.org/wp-content/uploads/Advanced-Aging-and-Care-Planning-Series-STAFF-OFFERING-2.png
ORGANIZER;CN="East Pierce Fire and Rescue":MAILTO:info@eastpiercefire.org
END:VEVENT
BEGIN:VEVENT
DTSTART;TZID=America/Los_Angeles:20251101T130000
DTEND;TZID=America/Los_Angeles:20251101T160000
DTSTAMP:20260420T211314
CREATED:20241113T223953Z
LAST-MODIFIED:20250512T183915Z
UID:10000265-1762002000-1762012800@www.eastpiercefire.org
SUMMARY:Heartsaver First Aid
DESCRIPTION:
URL:https://www.eastpiercefire.org/event/heartsaver-first-aid-67/
LOCATION:New Headquarters Station\, 8601 Main Street East\, Bonney Lake\, WA\, 98391\, United States
CATEGORIES:Classes
ATTACH;FMTTYPE=image/png:https://www.eastpiercefire.org/wp-content/uploads/Sorry-13-e1662664661421.png
ORGANIZER;CN="East Pierce Fire and Rescue":MAILTO:info@eastpiercefire.org
END:VEVENT
BEGIN:VEVENT
DTSTART;TZID=America/Los_Angeles:20251101T090000
DTEND;TZID=America/Los_Angeles:20251101T123000
DTSTAMP:20260420T211315
CREATED:20241113T223848Z
LAST-MODIFIED:20250512T183825Z
UID:10000279-1761987600-1762000200@www.eastpiercefire.org
SUMMARY:Heartsaver CPR
DESCRIPTION:
URL:https://www.eastpiercefire.org/event/heartsaver-cpr-68/
LOCATION:New Headquarters Station\, 8601 Main Street East\, Bonney Lake\, WA\, 98391\, United States
CATEGORIES:Classes
ATTACH;FMTTYPE=image/png:https://www.eastpiercefire.org/wp-content/uploads/Sorry-13-e1662664661421.png
ORGANIZER;CN="East Pierce Fire and Rescue":MAILTO:info@eastpiercefire.org
END:VEVENT
BEGIN:VEVENT
DTSTART;TZID=America/Los_Angeles:20251022T130000
DTEND;TZID=America/Los_Angeles:20251022T160000
DTSTAMP:20260420T211315
CREATED:20241113T223644Z
LAST-MODIFIED:20250917T230901Z
UID:10000266-1761138000-1761148800@www.eastpiercefire.org
SUMMARY:Heartsaver First Aid
DESCRIPTION:
URL:https://www.eastpiercefire.org/event/heartsaver-first-aid-66/
LOCATION:New Headquarters Station\, 8601 Main Street East\, Bonney Lake\, WA\, 98391\, United States
CATEGORIES:Classes
ATTACH;FMTTYPE=image/png:https://www.eastpiercefire.org/wp-content/uploads/Sorry-13-e1662664661421.png
ORGANIZER;CN="East Pierce Fire and Rescue":MAILTO:info@eastpiercefire.org
END:VEVENT
BEGIN:VEVENT
DTSTART;TZID=America/Los_Angeles:20251022T090000
DTEND;TZID=America/Los_Angeles:20251022T123000
DTSTAMP:20260420T211315
CREATED:20241113T221701Z
LAST-MODIFIED:20250917T230945Z
UID:10000278-1761123600-1761136200@www.eastpiercefire.org
SUMMARY:Heartsaver CPR
DESCRIPTION:
URL:https://www.eastpiercefire.org/event/heartsaver-cpr-67/
LOCATION:New Headquarters Station\, 8601 Main Street East\, Bonney Lake\, WA\, 98391\, United States
CATEGORIES:Classes
ATTACH;FMTTYPE=image/png:https://www.eastpiercefire.org/wp-content/uploads/Sorry-13-e1662664661421.png
ORGANIZER;CN="East Pierce Fire and Rescue":MAILTO:info@eastpiercefire.org
END:VEVENT
BEGIN:VEVENT
DTSTART;TZID=America/Los_Angeles:20251014T100000
DTEND;TZID=America/Los_Angeles:20251014T113000
DTSTAMP:20260420T211315
CREATED:20250519T013441Z
LAST-MODIFIED:20251013T223032Z
UID:10000320-1760436000-1760441400@www.eastpiercefire.org
SUMMARY:Advanced Aging & Care Planning Series: Session 5 of 6 (2025)
DESCRIPTION:
URL:https://www.eastpiercefire.org/event/advanced-aging-care-planning-series-session-5-of-6-2025/
LOCATION:New Headquarters Station\, 8601 Main Street East\, Bonney Lake\, WA\, 98391\, United States
CATEGORIES:Classes
ATTACH;FMTTYPE=image/png:https://www.eastpiercefire.org/wp-content/uploads/Advanced-Aging-and-Care-Planning-Series-STAFF-OFFERING-2.png
ORGANIZER;CN="East Pierce Fire and Rescue":MAILTO:info@eastpiercefire.org
END:VEVENT
BEGIN:VEVENT
DTSTART;TZID=America/Los_Angeles:20251004T130000
DTEND;TZID=America/Los_Angeles:20251004T160000
DTSTAMP:20260420T211315
CREATED:20241113T221532Z
LAST-MODIFIED:20250512T183509Z
UID:10000268-1759582800-1759593600@www.eastpiercefire.org
SUMMARY:Heartsaver First Aid
DESCRIPTION:
URL:https://www.eastpiercefire.org/event/heartsaver-first-aid-65/
LOCATION:New Headquarters Station\, 8601 Main Street East\, Bonney Lake\, WA\, 98391\, United States
CATEGORIES:Classes
ATTACH;FMTTYPE=image/png:https://www.eastpiercefire.org/wp-content/uploads/Sorry-13-e1662664661421.png
ORGANIZER;CN="East Pierce Fire and Rescue":MAILTO:info@eastpiercefire.org
END:VEVENT
BEGIN:VEVENT
DTSTART;TZID=America/Los_Angeles:20251004T090000
DTEND;TZID=America/Los_Angeles:20251004T123000
DTSTAMP:20260420T211315
CREATED:20241113T221331Z
LAST-MODIFIED:20250512T183417Z
UID:10000277-1759568400-1759581000@www.eastpiercefire.org
SUMMARY:Heartsaver CPR
DESCRIPTION:
URL:https://www.eastpiercefire.org/event/heartsaver-cpr-66/
LOCATION:New Headquarters Station\, 8601 Main Street East\, Bonney Lake\, WA\, 98391\, United States
CATEGORIES:Classes
ATTACH;FMTTYPE=image/png:https://www.eastpiercefire.org/wp-content/uploads/Sorry-13-e1662664661421.png
ORGANIZER;CN="East Pierce Fire and Rescue":MAILTO:info@eastpiercefire.org
END:VEVENT
BEGIN:VEVENT
DTSTART;TZID=America/Los_Angeles:20250917T130000
DTEND;TZID=America/Los_Angeles:20250917T160000
DTSTAMP:20260420T211315
CREATED:20241113T221216Z
LAST-MODIFIED:20250512T183335Z
UID:10000269-1758114000-1758124800@www.eastpiercefire.org
SUMMARY:Heartsaver First Aid
DESCRIPTION:
URL:https://www.eastpiercefire.org/event/heartsaver-first-aid-64/
LOCATION:New Headquarters Station\, 8601 Main Street East\, Bonney Lake\, WA\, 98391\, United States
CATEGORIES:Classes
ATTACH;FMTTYPE=image/png:https://www.eastpiercefire.org/wp-content/uploads/Sorry-13-e1662664661421.png
ORGANIZER;CN="East Pierce Fire and Rescue":MAILTO:info@eastpiercefire.org
END:VEVENT
BEGIN:VEVENT
DTSTART;TZID=America/Los_Angeles:20250917T090000
DTEND;TZID=America/Los_Angeles:20250917T123000
DTSTAMP:20260420T211315
CREATED:20241113T221109Z
LAST-MODIFIED:20250908T234510Z
UID:10000276-1758099600-1758112200@www.eastpiercefire.org
SUMMARY:Heartsaver CPR
DESCRIPTION:
URL:https://www.eastpiercefire.org/event/heartsaver-cpr-65/
LOCATION:New Headquarters Station\, 8601 Main Street East\, Bonney Lake\, WA\, 98391\, United States
CATEGORIES:Classes
ATTACH;FMTTYPE=image/png:https://www.eastpiercefire.org/wp-content/uploads/Sorry-13-e1662664661421.png
ORGANIZER;CN="East Pierce Fire and Rescue":MAILTO:info@eastpiercefire.org
END:VEVENT
BEGIN:VEVENT
DTSTART;TZID=America/Los_Angeles:20250916T100000
DTEND;TZID=America/Los_Angeles:20250916T113000
DTSTAMP:20260420T211315
CREATED:20250519T013348Z
LAST-MODIFIED:20250904T003814Z
UID:10000321-1758016800-1758022200@www.eastpiercefire.org
SUMMARY:Advanced Aging & Care Planning Series: Session 4 of 6 (2025)
DESCRIPTION:
URL:https://www.eastpiercefire.org/event/advanced-aging-care-planning-series-session-4-of-6-2025/
LOCATION:New Headquarters Station\, 8601 Main Street East\, Bonney Lake\, WA\, 98391\, United States
CATEGORIES:Classes
ATTACH;FMTTYPE=image/png:https://www.eastpiercefire.org/wp-content/uploads/Advanced-Aging-and-Care-Planning-Series-STAFF-OFFERING-2.png
ORGANIZER;CN="East Pierce Fire and Rescue":MAILTO:info@eastpiercefire.org
END:VEVENT
BEGIN:VEVENT
DTSTART;TZID=America/Los_Angeles:20250906T130000
DTEND;TZID=America/Los_Angeles:20250906T160000
DTSTAMP:20260420T211315
CREATED:20241113T220927Z
LAST-MODIFIED:20250512T183152Z
UID:10000270-1757163600-1757174400@www.eastpiercefire.org
SUMMARY:Heartsaver First Aid
DESCRIPTION:
URL:https://www.eastpiercefire.org/event/heartsaver-first-aid-63/
LOCATION:New Headquarters Station\, 8601 Main Street East\, Bonney Lake\, WA\, 98391\, United States
CATEGORIES:Classes
ATTACH;FMTTYPE=image/png:https://www.eastpiercefire.org/wp-content/uploads/Sorry-13-e1662664661421.png
ORGANIZER;CN="East Pierce Fire and Rescue":MAILTO:info@eastpiercefire.org
END:VEVENT
BEGIN:VEVENT
DTSTART;TZID=America/Los_Angeles:20250906T090000
DTEND;TZID=America/Los_Angeles:20250906T123000
DTSTAMP:20260420T211315
CREATED:20241113T220757Z
LAST-MODIFIED:20250512T182935Z
UID:10000275-1757149200-1757161800@www.eastpiercefire.org
SUMMARY:Heartsaver CPR
DESCRIPTION:
URL:https://www.eastpiercefire.org/event/heartsaver-cpr-64/
LOCATION:New Headquarters Station\, 8601 Main Street East\, Bonney Lake\, WA\, 98391\, United States
CATEGORIES:Classes
ATTACH;FMTTYPE=image/png:https://www.eastpiercefire.org/wp-content/uploads/Sorry-13-e1662664661421.png
ORGANIZER;CN="East Pierce Fire and Rescue":MAILTO:info@eastpiercefire.org
END:VEVENT
BEGIN:VEVENT
DTSTART;TZID=America/Los_Angeles:20250820T130000
DTEND;TZID=America/Los_Angeles:20250820T160000
DTSTAMP:20260420T211315
CREATED:20241113T220614Z
LAST-MODIFIED:20250512T182809Z
UID:10000271-1755694800-1755705600@www.eastpiercefire.org
SUMMARY:Heartsaver First Aid
DESCRIPTION:
URL:https://www.eastpiercefire.org/event/heartsaver-first-aid-62/
LOCATION:New Headquarters Station\, 8601 Main Street East\, Bonney Lake\, WA\, 98391\, United States
CATEGORIES:Classes
ATTACH;FMTTYPE=image/png:https://www.eastpiercefire.org/wp-content/uploads/Sorry-13-e1662664661421.png
ORGANIZER;CN="East Pierce Fire and Rescue":MAILTO:info@eastpiercefire.org
END:VEVENT
BEGIN:VEVENT
DTSTART;TZID=America/Los_Angeles:20250820T090000
DTEND;TZID=America/Los_Angeles:20250820T123000
DTSTAMP:20260420T211315
CREATED:20241113T220437Z
LAST-MODIFIED:20250512T182103Z
UID:10000273-1755680400-1755693000@www.eastpiercefire.org
SUMMARY:Heartsaver CPR
DESCRIPTION:
URL:https://www.eastpiercefire.org/event/heartsaver-cpr-63/
LOCATION:New Headquarters Station\, 8601 Main Street East\, Bonney Lake\, WA\, 98391\, United States
CATEGORIES:Classes
ATTACH;FMTTYPE=image/png:https://www.eastpiercefire.org/wp-content/uploads/Sorry-13-e1662664661421.png
ORGANIZER;CN="East Pierce Fire and Rescue":MAILTO:info@eastpiercefire.org
END:VEVENT
BEGIN:VEVENT
DTSTART;TZID=America/Los_Angeles:20250812T100000
DTEND;TZID=America/Los_Angeles:20250812T113000
DTSTAMP:20260420T211315
CREATED:20250519T013114Z
LAST-MODIFIED:20250808T205640Z
UID:10000319-1754992800-1754998200@www.eastpiercefire.org
SUMMARY:Advanced Aging & Care Planning Series: Session 3 of 6 (2025)
DESCRIPTION:
URL:https://www.eastpiercefire.org/event/advanced-aging-care-planning-series-session-3-of-6-2025/
LOCATION:Station 118\, 10105 24th St E\, Edgewood\, 98371
CATEGORIES:Classes
ATTACH;FMTTYPE=image/png:https://www.eastpiercefire.org/wp-content/uploads/Advanced-Aging-and-Care-Planning-Series-STAFF-OFFERING-2.png
ORGANIZER;CN="East Pierce Fire and Rescue":MAILTO:info@eastpiercefire.org
END:VEVENT
BEGIN:VEVENT
DTSTART;TZID=America/Los_Angeles:20250802T130000
DTEND;TZID=America/Los_Angeles:20250802T160000
DTSTAMP:20260420T211315
CREATED:20241113T220252Z
LAST-MODIFIED:20250512T181907Z
UID:10000264-1754139600-1754150400@www.eastpiercefire.org
SUMMARY:Heartsaver First Aid
DESCRIPTION:
URL:https://www.eastpiercefire.org/event/heartsaver-first-aid-61/
LOCATION:New Headquarters Station\, 8601 Main Street East\, Bonney Lake\, WA\, 98391\, United States
CATEGORIES:Classes
ATTACH;FMTTYPE=image/png:https://www.eastpiercefire.org/wp-content/uploads/Sorry-13-e1662664661421.png
ORGANIZER;CN="East Pierce Fire and Rescue":MAILTO:info@eastpiercefire.org
END:VEVENT
BEGIN:VEVENT
DTSTART;TZID=America/Los_Angeles:20250802T090000
DTEND;TZID=America/Los_Angeles:20250802T123000
DTSTAMP:20260420T211315
CREATED:20241113T220144Z
LAST-MODIFIED:20250512T181754Z
UID:10000274-1754125200-1754137800@www.eastpiercefire.org
SUMMARY:Heartsaver CPR
DESCRIPTION:
URL:https://www.eastpiercefire.org/event/heartsaver-cpr-62/
LOCATION:New Headquarters Station\, 8601 Main Street East\, Bonney Lake\, WA\, 98391\, United States
CATEGORIES:Classes
ATTACH;FMTTYPE=image/png:https://www.eastpiercefire.org/wp-content/uploads/Sorry-13-e1662664661421.png
ORGANIZER;CN="East Pierce Fire and Rescue":MAILTO:info@eastpiercefire.org
END:VEVENT
BEGIN:VEVENT
DTSTART;TZID=America/Los_Angeles:20250721T083000
DTEND;TZID=America/Los_Angeles:20250723T123000
DTSTAMP:20260420T211315
CREATED:20241210T185748Z
LAST-MODIFIED:20250106T195605Z
UID:10000296-1753086600-1753273800@www.eastpiercefire.org
SUMMARY:Safe Sitter Class
DESCRIPTION:
URL:https://www.eastpiercefire.org/event/safe-sitter-class-5/
LOCATION:Station 118\, 10105 24th St E\, Edgewood\, 98371
CATEGORIES:Classes
ATTACH;FMTTYPE=image/jpeg:https://www.eastpiercefire.org/wp-content/uploads/SSEssentials-with-CPR-Images4.jpg
ORGANIZER;CN="East Pierce Fire and Rescue":MAILTO:info@eastpiercefire.org
END:VEVENT
BEGIN:VEVENT
DTSTART;TZID=America/Los_Angeles:20250715T100000
DTEND;TZID=America/Los_Angeles:20250715T113000
DTSTAMP:20260420T211315
CREATED:20250519T012932Z
LAST-MODIFIED:20250715T165558Z
UID:10000318-1752573600-1752579000@www.eastpiercefire.org
SUMMARY:Advanced Aging & Care Planning Series: Session 2 of 6 (2025)
DESCRIPTION:
URL:https://www.eastpiercefire.org/event/advanced-aging-care-planning-series-session-2-of-6-2025/
LOCATION:New Headquarters Station\, 8601 Main Street East\, Bonney Lake\, WA\, 98391\, United States
CATEGORIES:Classes
ATTACH;FMTTYPE=image/png:https://www.eastpiercefire.org/wp-content/uploads/Advanced-Aging-and-Care-Planning-Series-STAFF-OFFERING-2.png
ORGANIZER;CN="East Pierce Fire and Rescue":MAILTO:info@eastpiercefire.org
END:VEVENT
BEGIN:VEVENT
DTSTART;TZID=America/Los_Angeles:20250707T083000
DTEND;TZID=America/Los_Angeles:20250709T123000
DTSTAMP:20260420T211315
CREATED:20241210T185229Z
LAST-MODIFIED:20250106T195150Z
UID:10000295-1751877000-1752064200@www.eastpiercefire.org
SUMMARY:Safe Sitter Class
DESCRIPTION:
URL:https://www.eastpiercefire.org/event/safe-sitter-class-4/
LOCATION:New Headquarters Station\, 8601 Main Street East\, Bonney Lake\, WA\, 98391\, United States
CATEGORIES:Classes
ATTACH;FMTTYPE=image/jpeg:https://www.eastpiercefire.org/wp-content/uploads/SSEssentials-with-CPR-Images4.jpg
ORGANIZER;CN="East Pierce Fire and Rescue":MAILTO:info@eastpiercefire.org
END:VEVENT
BEGIN:VEVENT
DTSTART;TZID=America/Los_Angeles:20250625T130000
DTEND;TZID=America/Los_Angeles:20250625T160000
DTSTAMP:20260420T211315
CREATED:20241014T212614Z
LAST-MODIFIED:20250512T181713Z
UID:10000237-1750856400-1750867200@www.eastpiercefire.org
SUMMARY:Heartsaver First Aid
DESCRIPTION:
URL:https://www.eastpiercefire.org/event/heartsaver-first-aid-49/
LOCATION:New Headquarters Station\, 8601 Main Street East\, Bonney Lake\, WA\, 98391\, United States
CATEGORIES:Classes
ATTACH;FMTTYPE=image/png:https://www.eastpiercefire.org/wp-content/uploads/Sorry-13-e1662664661421.png
ORGANIZER;CN="East Pierce Fire and Rescue":MAILTO:info@eastpiercefire.org
END:VEVENT
BEGIN:VEVENT
DTSTART;TZID=America/Los_Angeles:20250625T090000
DTEND;TZID=America/Los_Angeles:20250625T123000
DTSTAMP:20260420T211315
CREATED:20241113T205734Z
LAST-MODIFIED:20250512T181626Z
UID:10000272-1750842000-1750854600@www.eastpiercefire.org
SUMMARY:Heartsaver CPR
DESCRIPTION:
URL:https://www.eastpiercefire.org/event/heartsaver-cpr-61/
LOCATION:New Headquarters Station\, 8601 Main Street East\, Bonney Lake\, WA\, 98391\, United States
CATEGORIES:Classes
ATTACH;FMTTYPE=image/png:https://www.eastpiercefire.org/wp-content/uploads/Sorry-13-e1662664661421.png
ORGANIZER;CN="East Pierce Fire and Rescue":MAILTO:info@eastpiercefire.org
END:VEVENT
BEGIN:VEVENT
DTSTART;TZID=America/Los_Angeles:20250624T100000
DTEND;TZID=America/Los_Angeles:20250624T113000
DTSTAMP:20260420T211315
CREATED:20250519T011248Z
LAST-MODIFIED:20250519T014446Z
UID:10000317-1750759200-1750764600@www.eastpiercefire.org
SUMMARY:Advanced Aging & Care Planning Series: Session 1 of 6 (2025)
DESCRIPTION:
URL:https://www.eastpiercefire.org/event/advanced-aging-care-planning-series-session-1-of-6-2025/
LOCATION:Station 118\, 10105 24th St E\, Edgewood\, 98371
CATEGORIES:Classes
ATTACH;FMTTYPE=image/png:https://www.eastpiercefire.org/wp-content/uploads/Advanced-Aging-and-Care-Planning-Series-STAFF-OFFERING-2.png
ORGANIZER;CN="East Pierce Fire and Rescue":MAILTO:info@eastpiercefire.org
END:VEVENT
END:VCALENDAR