BEGIN:VCALENDAR
VERSION:2.0
PRODID:-//East Pierce Fire &amp; Rescue - ECPv6.15.20//NONSGML v1.0//EN
CALSCALE:GREGORIAN
METHOD:PUBLISH
X-WR-CALNAME:East Pierce Fire &amp; Rescue
X-ORIGINAL-URL:https://www.eastpiercefire.org
X-WR-CALDESC:Events for East Pierce Fire &amp; Rescue
REFRESH-INTERVAL;VALUE=DURATION:PT1H
X-Robots-Tag:noindex
X-PUBLISHED-TTL:PT1H
BEGIN:VTIMEZONE
TZID:America/Los_Angeles
BEGIN:DAYLIGHT
TZOFFSETFROM:-0800
TZOFFSETTO:-0700
TZNAME:PDT
DTSTART:20220313T100000
END:DAYLIGHT
BEGIN:STANDARD
TZOFFSETFROM:-0700
TZOFFSETTO:-0800
TZNAME:PST
DTSTART:20221106T090000
END:STANDARD
BEGIN:DAYLIGHT
TZOFFSETFROM:-0800
TZOFFSETTO:-0700
TZNAME:PDT
DTSTART:20230312T100000
END:DAYLIGHT
BEGIN:STANDARD
TZOFFSETFROM:-0700
TZOFFSETTO:-0800
TZNAME:PST
DTSTART:20231105T090000
END:STANDARD
BEGIN:DAYLIGHT
TZOFFSETFROM:-0800
TZOFFSETTO:-0700
TZNAME:PDT
DTSTART:20240310T100000
END:DAYLIGHT
BEGIN:STANDARD
TZOFFSETFROM:-0700
TZOFFSETTO:-0800
TZNAME:PST
DTSTART:20241103T090000
END:STANDARD
BEGIN:DAYLIGHT
TZOFFSETFROM:-0800
TZOFFSETTO:-0700
TZNAME:PDT
DTSTART:20250309T100000
END:DAYLIGHT
BEGIN:STANDARD
TZOFFSETFROM:-0700
TZOFFSETTO:-0800
TZNAME:PST
DTSTART:20251102T090000
END:STANDARD
END:VTIMEZONE
BEGIN:VEVENT
DTSTART;TZID=America/Los_Angeles:20240216T130000
DTEND;TZID=America/Los_Angeles:20240216T160000
DTSTAMP:20260422T021156
CREATED:20231026T205039Z
LAST-MODIFIED:20231030T202100Z
UID:10000159-1708088400-1708099200@www.eastpiercefire.org
SUMMARY:Heartsaver First Aid
DESCRIPTION:
URL:https://www.eastpiercefire.org/event/heartsaver-first-aid-30/
LOCATION:Headquarters Station\, 8601 Main Street East\, Bonney Lake\, WA\, 98391\, United States
CATEGORIES:Classes
ATTACH;FMTTYPE=image/png:https://www.eastpiercefire.org/wp-content/uploads/Sorry-13-e1662664661421.png
ORGANIZER;CN="East Pierce Fire and Rescue":MAILTO:info@eastpiercefire.org
END:VEVENT
BEGIN:VEVENT
DTSTART;TZID=America/Los_Angeles:20240216T090000
DTEND;TZID=America/Los_Angeles:20240216T123000
DTSTAMP:20260422T021156
CREATED:20231026T204949Z
LAST-MODIFIED:20231030T201934Z
UID:10000158-1708074000-1708086600@www.eastpiercefire.org
SUMMARY:Heartsaver CPR
DESCRIPTION:
URL:https://www.eastpiercefire.org/event/heartsaver-cpr-30/
LOCATION:Headquarters Station\, 8601 Main Street East\, Bonney Lake\, WA\, 98391\, United States
CATEGORIES:Classes
ATTACH;FMTTYPE=image/png:https://www.eastpiercefire.org/wp-content/uploads/Sorry-13-e1662664661421.png
ORGANIZER;CN="East Pierce Fire and Rescue":MAILTO:info@eastpiercefire.org
END:VEVENT
BEGIN:VEVENT
DTSTART;TZID=America/Los_Angeles:20240127T130000
DTEND;TZID=America/Los_Angeles:20240127T160000
DTSTAMP:20260422T021156
CREATED:20231026T204855Z
LAST-MODIFIED:20231031T173402Z
UID:10000157-1706360400-1706371200@www.eastpiercefire.org
SUMMARY:Heartsaver First Aid
DESCRIPTION:
URL:https://www.eastpiercefire.org/event/heartsaver-first-aid-29/
LOCATION:Headquarters Station\, 8601 Main Street East\, Bonney Lake\, WA\, 98391\, United States
CATEGORIES:Classes
ATTACH;FMTTYPE=image/png:https://www.eastpiercefire.org/wp-content/uploads/Sorry-13-e1662664661421.png
ORGANIZER;CN="East Pierce Fire and Rescue":MAILTO:info@eastpiercefire.org
END:VEVENT
BEGIN:VEVENT
DTSTART;TZID=America/Los_Angeles:20240127T090000
DTEND;TZID=America/Los_Angeles:20240127T123000
DTSTAMP:20260422T021156
CREATED:20231026T204438Z
LAST-MODIFIED:20231031T172743Z
UID:10000156-1706346000-1706358600@www.eastpiercefire.org
SUMMARY:Heartsaver CPR
DESCRIPTION:
URL:https://www.eastpiercefire.org/event/heartsaver-cpr-29/
LOCATION:Headquarters Station\, 8601 Main Street East\, Bonney Lake\, WA\, 98391\, United States
CATEGORIES:Classes
ATTACH;FMTTYPE=image/png:https://www.eastpiercefire.org/wp-content/uploads/Sorry-13-e1662664661421.png
ORGANIZER;CN="East Pierce Fire and Rescue":MAILTO:info@eastpiercefire.org
END:VEVENT
BEGIN:VEVENT
DTSTART;TZID=America/Los_Angeles:20240124T130000
DTEND;TZID=America/Los_Angeles:20240124T160000
DTSTAMP:20260422T021156
CREATED:20231026T204135Z
LAST-MODIFIED:20231031T173119Z
UID:10000155-1706101200-1706112000@www.eastpiercefire.org
SUMMARY:Heartsaver First Aid
DESCRIPTION:
URL:https://www.eastpiercefire.org/event/heartsaver-first-aid-28/
LOCATION:Headquarters Station\, 8601 Main Street East\, Bonney Lake\, WA\, 98391\, United States
CATEGORIES:Classes
ATTACH;FMTTYPE=image/png:https://www.eastpiercefire.org/wp-content/uploads/Sorry-13-e1662664661421.png
ORGANIZER;CN="East Pierce Fire and Rescue":MAILTO:info@eastpiercefire.org
END:VEVENT
BEGIN:VEVENT
DTSTART;TZID=America/Los_Angeles:20240124T090000
DTEND;TZID=America/Los_Angeles:20240124T123000
DTSTAMP:20260422T021156
CREATED:20231026T204036Z
LAST-MODIFIED:20231030T201334Z
UID:10000154-1706086800-1706099400@www.eastpiercefire.org
SUMMARY:Heartsaver CPR
DESCRIPTION:
URL:https://www.eastpiercefire.org/event/heartsaver-cpr-28/
LOCATION:Headquarters Station\, 8601 Main Street East\, Bonney Lake\, WA\, 98391\, United States
CATEGORIES:Classes
ATTACH;FMTTYPE=image/png:https://www.eastpiercefire.org/wp-content/uploads/Sorry-13-e1662664661421.png
ORGANIZER;CN="East Pierce Fire and Rescue":MAILTO:info@eastpiercefire.org
END:VEVENT
BEGIN:VEVENT
DTSTART;TZID=America/Los_Angeles:20231216T130000
DTEND;TZID=America/Los_Angeles:20231216T160000
DTSTAMP:20260422T021156
CREATED:20221228T232036Z
LAST-MODIFIED:20231113T212805Z
UID:10000101-1702731600-1702742400@www.eastpiercefire.org
SUMMARY:Heartsaver First Aid
DESCRIPTION:
URL:https://www.eastpiercefire.org/event/heartsaver-first-aid-27/
LOCATION:Headquarters Station\, 8601 Main Street East\, Bonney Lake\, WA\, 98391\, United States
CATEGORIES:Classes
ATTACH;FMTTYPE=image/png:https://www.eastpiercefire.org/wp-content/uploads/Sorry-13-e1662664661421.png
ORGANIZER;CN="East Pierce Fire and Rescue":MAILTO:info@eastpiercefire.org
END:VEVENT
BEGIN:VEVENT
DTSTART;TZID=America/Los_Angeles:20231216T090000
DTEND;TZID=America/Los_Angeles:20231216T123000
DTSTAMP:20260422T021156
CREATED:20221229T001042Z
LAST-MODIFIED:20230321T191433Z
UID:10000117-1702717200-1702729800@www.eastpiercefire.org
SUMMARY:Heartsaver CPR
DESCRIPTION:
URL:https://www.eastpiercefire.org/event/heartsaver-cpr-27/
LOCATION:Headquarters Station\, 8601 Main Street East\, Bonney Lake\, WA\, 98391\, United States
CATEGORIES:Classes
ATTACH;FMTTYPE=image/png:https://www.eastpiercefire.org/wp-content/uploads/Sorry-13-e1662664661421.png
ORGANIZER;CN="East Pierce Fire and Rescue":MAILTO:info@eastpiercefire.org
END:VEVENT
BEGIN:VEVENT
DTSTART;TZID=America/Los_Angeles:20231118T130000
DTEND;TZID=America/Los_Angeles:20231118T160000
DTSTAMP:20260422T021156
CREATED:20221228T231939Z
LAST-MODIFIED:20230321T191333Z
UID:10000100-1700312400-1700323200@www.eastpiercefire.org
SUMMARY:Heartsaver First Aid
DESCRIPTION:
URL:https://www.eastpiercefire.org/event/heartsaver-first-aid-26/
LOCATION:Headquarters Station\, 8601 Main Street East\, Bonney Lake\, WA\, 98391\, United States
CATEGORIES:Classes
ATTACH;FMTTYPE=image/png:https://www.eastpiercefire.org/wp-content/uploads/Sorry-13-e1662664661421.png
ORGANIZER;CN="East Pierce Fire and Rescue":MAILTO:info@eastpiercefire.org
END:VEVENT
BEGIN:VEVENT
DTSTART;TZID=America/Los_Angeles:20231118T090000
DTEND;TZID=America/Los_Angeles:20231118T123000
DTSTAMP:20260422T021156
CREATED:20221229T000910Z
LAST-MODIFIED:20230321T191300Z
UID:10000118-1700298000-1700310600@www.eastpiercefire.org
SUMMARY:Heartsaver CPR
DESCRIPTION:
URL:https://www.eastpiercefire.org/event/heartsaver-cpr-26/
LOCATION:Headquarters Station\, 8601 Main Street East\, Bonney Lake\, WA\, 98391\, United States
CATEGORIES:Classes
ATTACH;FMTTYPE=image/png:https://www.eastpiercefire.org/wp-content/uploads/Sorry-13-e1662664661421.png
ORGANIZER;CN="East Pierce Fire and Rescue":MAILTO:info@eastpiercefire.org
END:VEVENT
BEGIN:VEVENT
DTSTART;TZID=America/Los_Angeles:20231116T100000
DTEND;TZID=America/Los_Angeles:20231116T120000
DTSTAMP:20260422T021156
CREATED:20230412T204708Z
LAST-MODIFIED:20230801T203247Z
UID:10000147-1700128800-1700136000@www.eastpiercefire.org
SUMMARY:Advanced Aging & Care Planning Series: Session 6 of 6
DESCRIPTION:
URL:https://www.eastpiercefire.org/event/advanced-aging-care-planning-series-session-6-of-6/
LOCATION:Headquarters Station\, 8601 Main Street East\, Bonney Lake\, WA\, 98391\, United States
CATEGORIES:Classes
ATTACH;FMTTYPE=image/png:https://www.eastpiercefire.org/wp-content/uploads/Advanced-Aging-and-Care-Planning-Series-STAFF-OFFERING-2.png
ORGANIZER;CN="East Pierce Fire and Rescue":MAILTO:info@eastpiercefire.org
END:VEVENT
BEGIN:VEVENT
DTSTART;TZID=America/Los_Angeles:20231115T130000
DTEND;TZID=America/Los_Angeles:20231115T160000
DTSTAMP:20260422T021156
CREATED:20221228T231717Z
LAST-MODIFIED:20230919T201454Z
UID:10000099-1700053200-1700064000@www.eastpiercefire.org
SUMMARY:Heartsaver First Aid
DESCRIPTION:
URL:https://www.eastpiercefire.org/event/heartsaver-first-aid-25/
LOCATION:Headquarters Station\, 8601 Main Street East\, Bonney Lake\, WA\, 98391\, United States
CATEGORIES:Classes
ATTACH;FMTTYPE=image/png:https://www.eastpiercefire.org/wp-content/uploads/Sorry-13-e1662664661421.png
ORGANIZER;CN="East Pierce Fire and Rescue":MAILTO:info@eastpiercefire.org
END:VEVENT
BEGIN:VEVENT
DTSTART;TZID=America/Los_Angeles:20231115T090000
DTEND;TZID=America/Los_Angeles:20231115T123000
DTSTAMP:20260422T021156
CREATED:20221229T000805Z
LAST-MODIFIED:20230201T194942Z
UID:10000119-1700038800-1700051400@www.eastpiercefire.org
SUMMARY:Heartsaver CPR
DESCRIPTION:
URL:https://www.eastpiercefire.org/event/heartsaver-cpr-25/
LOCATION:Headquarters Station\, 8601 Main Street East\, Bonney Lake\, WA\, 98391\, United States
CATEGORIES:Classes
ATTACH;FMTTYPE=image/png:https://www.eastpiercefire.org/wp-content/uploads/Sorry-13-e1662664661421.png
ORGANIZER;CN="East Pierce Fire and Rescue":MAILTO:info@eastpiercefire.org
END:VEVENT
BEGIN:VEVENT
DTSTART;TZID=America/Los_Angeles:20231025T130000
DTEND;TZID=America/Los_Angeles:20231025T160000
DTSTAMP:20260422T021156
CREATED:20221228T231555Z
LAST-MODIFIED:20230201T193808Z
UID:10000098-1698238800-1698249600@www.eastpiercefire.org
SUMMARY:Heartsaver First Aid
DESCRIPTION:
URL:https://www.eastpiercefire.org/event/heartsaver-first-aid-24/
LOCATION:Headquarters Station\, 8601 Main Street East\, Bonney Lake\, WA\, 98391\, United States
CATEGORIES:Classes
ATTACH;FMTTYPE=image/png:https://www.eastpiercefire.org/wp-content/uploads/Sorry-13-e1662664661421.png
ORGANIZER;CN="East Pierce Fire and Rescue":MAILTO:info@eastpiercefire.org
END:VEVENT
BEGIN:VEVENT
DTSTART;TZID=America/Los_Angeles:20231025T090000
DTEND;TZID=America/Los_Angeles:20231025T123000
DTSTAMP:20260422T021156
CREATED:20221229T000655Z
LAST-MODIFIED:20230201T193636Z
UID:10000120-1698224400-1698237000@www.eastpiercefire.org
SUMMARY:Heartsaver CPR
DESCRIPTION:
URL:https://www.eastpiercefire.org/event/heartsaver-cpr-24/
LOCATION:Headquarters Station\, 8601 Main Street East\, Bonney Lake\, WA\, 98391\, United States
CATEGORIES:Classes
ATTACH;FMTTYPE=image/png:https://www.eastpiercefire.org/wp-content/uploads/Sorry-13-e1662664661421.png
ORGANIZER;CN="East Pierce Fire and Rescue":MAILTO:info@eastpiercefire.org
END:VEVENT
BEGIN:VEVENT
DTSTART;TZID=America/Los_Angeles:20231019T100000
DTEND;TZID=America/Los_Angeles:20231019T120000
DTSTAMP:20260422T021156
CREATED:20230412T204327Z
LAST-MODIFIED:20231009T161940Z
UID:10000146-1697709600-1697716800@www.eastpiercefire.org
SUMMARY:Advanced Aging & Care Planning Series: Session 5 of 6
DESCRIPTION:
URL:https://www.eastpiercefire.org/event/advanced-aging-care-planning-series-session-5-of-6/
LOCATION:Sumner-Bonney Lake School District – Learning Center\, 1202 Wood Ave\, Sumner\, WA\, 98390\, United States
CATEGORIES:Classes
ATTACH;FMTTYPE=image/png:https://www.eastpiercefire.org/wp-content/uploads/Advanced-Aging-and-Care-Planning-Series-STAFF-OFFERING-2.png
ORGANIZER;CN="East Pierce Fire and Rescue":MAILTO:info@eastpiercefire.org
END:VEVENT
BEGIN:VEVENT
DTSTART;TZID=America/Los_Angeles:20231014T130000
DTEND;TZID=America/Los_Angeles:20231014T160000
DTSTAMP:20260422T021156
CREATED:20221228T231423Z
LAST-MODIFIED:20230321T191158Z
UID:10000097-1697288400-1697299200@www.eastpiercefire.org
SUMMARY:Heartsaver First Aid
DESCRIPTION:
URL:https://www.eastpiercefire.org/event/heartsaver-first-aid-23/
LOCATION:Headquarters Station\, 8601 Main Street East\, Bonney Lake\, WA\, 98391\, United States
CATEGORIES:Classes
ATTACH;FMTTYPE=image/png:https://www.eastpiercefire.org/wp-content/uploads/Sorry-13-e1662664661421.png
ORGANIZER;CN="East Pierce Fire and Rescue":MAILTO:info@eastpiercefire.org
END:VEVENT
BEGIN:VEVENT
DTSTART;TZID=America/Los_Angeles:20231014T090000
DTEND;TZID=America/Los_Angeles:20231014T123000
DTSTAMP:20260422T021156
CREATED:20221229T000333Z
LAST-MODIFIED:20230321T191123Z
UID:10000113-1697274000-1697286600@www.eastpiercefire.org
SUMMARY:Heartsaver CPR
DESCRIPTION:
URL:https://www.eastpiercefire.org/event/heartsaver-cpr-23/
LOCATION:Headquarters Station\, 8601 Main Street East\, Bonney Lake\, WA\, 98391\, United States
CATEGORIES:Classes
ATTACH;FMTTYPE=image/png:https://www.eastpiercefire.org/wp-content/uploads/Sorry-13-e1662664661421.png
ORGANIZER;CN="East Pierce Fire and Rescue":MAILTO:info@eastpiercefire.org
END:VEVENT
BEGIN:VEVENT
DTSTART;TZID=America/Los_Angeles:20230921T100000
DTEND;TZID=America/Los_Angeles:20230921T120000
DTSTAMP:20260422T021156
CREATED:20230412T203516Z
LAST-MODIFIED:20230801T203126Z
UID:10000145-1695290400-1695297600@www.eastpiercefire.org
SUMMARY:Advanced Aging & Care Planning Series: Session 4 of 6
DESCRIPTION:
URL:https://www.eastpiercefire.org/event/advanced-aging-care-planning-series-session-4-of-6/
LOCATION:Headquarters Station\, 8601 Main Street East\, Bonney Lake\, WA\, 98391\, United States
CATEGORIES:Classes
ATTACH;FMTTYPE=image/png:https://www.eastpiercefire.org/wp-content/uploads/Advanced-Aging-and-Care-Planning-Series-STAFF-OFFERING-2.png
ORGANIZER;CN="East Pierce Fire and Rescue":MAILTO:info@eastpiercefire.org
END:VEVENT
BEGIN:VEVENT
DTSTART;TZID=America/Los_Angeles:20230920T130000
DTEND;TZID=America/Los_Angeles:20230920T160000
DTSTAMP:20260422T021156
CREATED:20221228T231124Z
LAST-MODIFIED:20230201T193416Z
UID:10000096-1695214800-1695225600@www.eastpiercefire.org
SUMMARY:Heartsaver First Aid
DESCRIPTION:
URL:https://www.eastpiercefire.org/event/heartsaver-first-aid-22/
LOCATION:Headquarters Station\, 8601 Main Street East\, Bonney Lake\, WA\, 98391\, United States
CATEGORIES:Classes
ATTACH;FMTTYPE=image/png:https://www.eastpiercefire.org/wp-content/uploads/Sorry-13-e1662664661421.png
ORGANIZER;CN="East Pierce Fire and Rescue":MAILTO:info@eastpiercefire.org
END:VEVENT
BEGIN:VEVENT
DTSTART;TZID=America/Los_Angeles:20230920T090000
DTEND;TZID=America/Los_Angeles:20230920T123000
DTSTAMP:20260422T021156
CREATED:20221229T000151Z
LAST-MODIFIED:20230201T193222Z
UID:10000114-1695200400-1695213000@www.eastpiercefire.org
SUMMARY:Heartsaver CPR
DESCRIPTION:
URL:https://www.eastpiercefire.org/event/heartsaver-cpr-22/
LOCATION:Headquarters Station\, 8601 Main Street East\, Bonney Lake\, WA\, 98391\, United States
CATEGORIES:Classes
ATTACH;FMTTYPE=image/png:https://www.eastpiercefire.org/wp-content/uploads/Sorry-13-e1662664661421.png
ORGANIZER;CN="East Pierce Fire and Rescue":MAILTO:info@eastpiercefire.org
END:VEVENT
BEGIN:VEVENT
DTSTART;TZID=America/Los_Angeles:20230916T130000
DTEND;TZID=America/Los_Angeles:20230916T160000
DTSTAMP:20260422T021156
CREATED:20221228T231004Z
LAST-MODIFIED:20230321T191034Z
UID:10000095-1694869200-1694880000@www.eastpiercefire.org
SUMMARY:Heartsaver First Aid
DESCRIPTION:
URL:https://www.eastpiercefire.org/event/heartsaver-first-aid-21/
LOCATION:Headquarters Station\, 8601 Main Street East\, Bonney Lake\, WA\, 98391\, United States
CATEGORIES:Classes
ATTACH;FMTTYPE=image/png:https://www.eastpiercefire.org/wp-content/uploads/Sorry-13-e1662664661421.png
ORGANIZER;CN="East Pierce Fire and Rescue":MAILTO:info@eastpiercefire.org
END:VEVENT
BEGIN:VEVENT
DTSTART;TZID=America/Los_Angeles:20230916T090000
DTEND;TZID=America/Los_Angeles:20230916T123000
DTSTAMP:20260422T021156
CREATED:20221229T000013Z
LAST-MODIFIED:20230321T190928Z
UID:10000115-1694854800-1694867400@www.eastpiercefire.org
SUMMARY:Heartsaver CPR
DESCRIPTION:
URL:https://www.eastpiercefire.org/event/heartsaver-cpr-21/
LOCATION:Headquarters Station\, 8601 Main Street East\, Bonney Lake\, WA\, 98391\, United States
CATEGORIES:Classes
ATTACH;FMTTYPE=image/png:https://www.eastpiercefire.org/wp-content/uploads/Sorry-13-e1662664661421.png
ORGANIZER;CN="East Pierce Fire and Rescue":MAILTO:info@eastpiercefire.org
END:VEVENT
BEGIN:VEVENT
DTSTART;TZID=America/Los_Angeles:20230826T130000
DTEND;TZID=America/Los_Angeles:20230826T160000
DTSTAMP:20260422T021156
CREATED:20221228T230649Z
LAST-MODIFIED:20230321T190845Z
UID:10000094-1693054800-1693065600@www.eastpiercefire.org
SUMMARY:Heartsaver First Aid
DESCRIPTION:
URL:https://www.eastpiercefire.org/event/heartsaver-first-aid-20/
LOCATION:Headquarters Station\, 8601 Main Street East\, Bonney Lake\, WA\, 98391\, United States
CATEGORIES:Classes
ATTACH;FMTTYPE=image/png:https://www.eastpiercefire.org/wp-content/uploads/Sorry-13-e1662664661421.png
ORGANIZER;CN="East Pierce Fire and Rescue":MAILTO:info@eastpiercefire.org
END:VEVENT
BEGIN:VEVENT
DTSTART;TZID=America/Los_Angeles:20230826T090000
DTEND;TZID=America/Los_Angeles:20230826T123000
DTSTAMP:20260422T021156
CREATED:20221228T235857Z
LAST-MODIFIED:20230321T190813Z
UID:10000116-1693040400-1693053000@www.eastpiercefire.org
SUMMARY:Heartsaver CPR
DESCRIPTION:
URL:https://www.eastpiercefire.org/event/heartsaver-cpr-20/
LOCATION:Headquarters Station\, 8601 Main Street East\, Bonney Lake\, WA\, 98391\, United States
CATEGORIES:Classes
ATTACH;FMTTYPE=image/png:https://www.eastpiercefire.org/wp-content/uploads/Sorry-13-e1662664661421.png
ORGANIZER;CN="East Pierce Fire and Rescue":MAILTO:info@eastpiercefire.org
END:VEVENT
BEGIN:VEVENT
DTSTART;TZID=America/Los_Angeles:20230823T130000
DTEND;TZID=America/Los_Angeles:20230823T160000
DTSTAMP:20260422T021156
CREATED:20221228T230134Z
LAST-MODIFIED:20230131T214619Z
UID:10000088-1692795600-1692806400@www.eastpiercefire.org
SUMMARY:Heartsaver First Aid
DESCRIPTION:
URL:https://www.eastpiercefire.org/event/heartsaver-first-aid-19/
LOCATION:Headquarters Station\, 8601 Main Street East\, Bonney Lake\, WA\, 98391\, United States
CATEGORIES:Classes
ATTACH;FMTTYPE=image/png:https://www.eastpiercefire.org/wp-content/uploads/Sorry-13-e1662664661421.png
ORGANIZER;CN="East Pierce Fire and Rescue":MAILTO:info@eastpiercefire.org
END:VEVENT
BEGIN:VEVENT
DTSTART;TZID=America/Los_Angeles:20230823T090000
DTEND;TZID=America/Los_Angeles:20230823T123000
DTSTAMP:20260422T021156
CREATED:20221228T235448Z
LAST-MODIFIED:20230130T223927Z
UID:10000102-1692781200-1692793800@www.eastpiercefire.org
SUMMARY:Heartsaver CPR
DESCRIPTION:
URL:https://www.eastpiercefire.org/event/heartsaver-cpr-19/
LOCATION:Headquarters Station\, 8601 Main Street East\, Bonney Lake\, WA\, 98391\, United States
CATEGORIES:Classes
ATTACH;FMTTYPE=image/png:https://www.eastpiercefire.org/wp-content/uploads/Sorry-13-e1662664661421.png
ORGANIZER;CN="East Pierce Fire and Rescue":MAILTO:info@eastpiercefire.org
END:VEVENT
BEGIN:VEVENT
DTSTART;TZID=America/Los_Angeles:20230817T100000
DTEND;TZID=America/Los_Angeles:20230817T120000
DTSTAMP:20260422T021156
CREATED:20230412T200814Z
LAST-MODIFIED:20230803T220429Z
UID:10000144-1692266400-1692273600@www.eastpiercefire.org
SUMMARY:Advanced Aging & Care Planning Series: Session 3 of 6
DESCRIPTION:
URL:https://www.eastpiercefire.org/event/advanced-aging-care-planning-series-session-3-of-6/
LOCATION:Sumner-Bonney Lake School District – Learning Center\, 1202 Wood Ave\, Sumner\, WA\, 98390\, United States
CATEGORIES:Classes
ATTACH;FMTTYPE=image/png:https://www.eastpiercefire.org/wp-content/uploads/Advanced-Aging-and-Care-Planning-Series-STAFF-OFFERING-2.png
ORGANIZER;CN="East Pierce Fire and Rescue":MAILTO:info@eastpiercefire.org
END:VEVENT
BEGIN:VEVENT
DTSTART;TZID=America/Los_Angeles:20230725T083000
DTEND;TZID=America/Los_Angeles:20230727T123000
DTSTAMP:20260422T021156
CREATED:20230211T194737Z
LAST-MODIFIED:20230211T195911Z
UID:10000138-1690273800-1690461000@www.eastpiercefire.org
SUMMARY:Safe Sitter Class
DESCRIPTION:
URL:https://www.eastpiercefire.org/event/safe-sitter-test-2/
LOCATION:Station 116\, 10515 234th Ave E\, Buckley\, WA\, 98321\, United States
CATEGORIES:Classes
ATTACH;FMTTYPE=image/jpeg:https://www.eastpiercefire.org/wp-content/uploads/SSEssentials-with-CPR-Images4.jpg
ORGANIZER;CN="East Pierce Fire and Rescue":MAILTO:info@eastpiercefire.org
END:VEVENT
BEGIN:VEVENT
DTSTART;TZID=America/Los_Angeles:20230720T100000
DTEND;TZID=America/Los_Angeles:20230720T120000
DTSTAMP:20260422T021156
CREATED:20230412T195902Z
LAST-MODIFIED:20230412T200050Z
UID:10000143-1689847200-1689854400@www.eastpiercefire.org
SUMMARY:Advanced Aging & Care Planning Series: Session 2 of 6
DESCRIPTION:
URL:https://www.eastpiercefire.org/event/advanced-aging-care-planning-series-session-2-of-6/
LOCATION:Headquarters Station\, 8601 Main Street East\, Bonney Lake\, WA\, 98391\, United States
CATEGORIES:Classes
ATTACH;FMTTYPE=image/png:https://www.eastpiercefire.org/wp-content/uploads/Advanced-Aging-and-Care-Planning-Series-STAFF-OFFERING-2.png
ORGANIZER;CN="East Pierce Fire and Rescue":MAILTO:info@eastpiercefire.org
END:VEVENT
END:VCALENDAR