BEGIN:VCALENDAR
VERSION:2.0
PRODID:-//East Pierce Fire &amp; Rescue - ECPv6.15.20//NONSGML v1.0//EN
CALSCALE:GREGORIAN
METHOD:PUBLISH
X-WR-CALNAME:East Pierce Fire &amp; Rescue
X-ORIGINAL-URL:https://www.eastpiercefire.org
X-WR-CALDESC:Events for East Pierce Fire &amp; Rescue
REFRESH-INTERVAL;VALUE=DURATION:PT1H
X-Robots-Tag:noindex
X-PUBLISHED-TTL:PT1H
BEGIN:VTIMEZONE
TZID:America/Los_Angeles
BEGIN:DAYLIGHT
TZOFFSETFROM:-0800
TZOFFSETTO:-0700
TZNAME:PDT
DTSTART:20250309T100000
END:DAYLIGHT
BEGIN:STANDARD
TZOFFSETFROM:-0700
TZOFFSETTO:-0800
TZNAME:PST
DTSTART:20251102T090000
END:STANDARD
BEGIN:DAYLIGHT
TZOFFSETFROM:-0800
TZOFFSETTO:-0700
TZNAME:PDT
DTSTART:20260308T100000
END:DAYLIGHT
BEGIN:STANDARD
TZOFFSETFROM:-0700
TZOFFSETTO:-0800
TZNAME:PST
DTSTART:20261101T090000
END:STANDARD
BEGIN:DAYLIGHT
TZOFFSETFROM:-0800
TZOFFSETTO:-0700
TZNAME:PDT
DTSTART:20270314T100000
END:DAYLIGHT
BEGIN:STANDARD
TZOFFSETFROM:-0700
TZOFFSETTO:-0800
TZNAME:PST
DTSTART:20271107T090000
END:STANDARD
END:VTIMEZONE
BEGIN:VEVENT
DTSTART;TZID=America/Los_Angeles:20260507T090000
DTEND;TZID=America/Los_Angeles:20260507T123000
DTSTAMP:20260419T235116
CREATED:20251216T220638Z
LAST-MODIFIED:20251216T234549Z
UID:10000377-1778144400-1778157000@www.eastpiercefire.org
SUMMARY:Heartsaver CPR
DESCRIPTION:
URL:https://www.eastpiercefire.org/event/heartsaver-cpr-70/
LOCATION:Headquarters Station\, 8601 Main Street East\, Bonney Lake\, WA\, 98391\, United States
CATEGORIES:Classes
ATTACH;FMTTYPE=image/png:https://www.eastpiercefire.org/wp-content/uploads/CPR-FA-e1662748191291.png
ORGANIZER;CN="East Pierce Fire and Rescue":MAILTO:info@eastpiercefire.org
END:VEVENT
BEGIN:VEVENT
DTSTART;TZID=America/Los_Angeles:20260507T130000
DTEND;TZID=America/Los_Angeles:20260507T160000
DTSTAMP:20260419T235116
CREATED:20251203T172040Z
LAST-MODIFIED:20251216T234505Z
UID:10000343-1778158800-1778169600@www.eastpiercefire.org
SUMMARY:Heartsaver First Aid
DESCRIPTION:
URL:https://www.eastpiercefire.org/event/heartsaver-first-aid-74/
LOCATION:Headquarters Station\, 8601 Main Street East\, Bonney Lake\, WA\, 98391\, United States
CATEGORIES:Classes
ATTACH;FMTTYPE=image/png:https://www.eastpiercefire.org/wp-content/uploads/CPR-FA-e1662748191291.png
ORGANIZER;CN="East Pierce Fire and Rescue":MAILTO:info@eastpiercefire.org
END:VEVENT
BEGIN:VEVENT
DTSTART;TZID=America/Los_Angeles:20260516T090000
DTEND;TZID=America/Los_Angeles:20260516T123000
DTSTAMP:20260419T235116
CREATED:20251216T203742Z
LAST-MODIFIED:20260121T205940Z
UID:10000360-1778922000-1778934600@www.eastpiercefire.org
SUMMARY:Heartsaver CPR
DESCRIPTION:
URL:https://www.eastpiercefire.org/event/heartsaver-cpr-79-2/
LOCATION:Headquarters Station\, 8601 Main Street East\, Bonney Lake\, WA\, 98391\, United States
CATEGORIES:Classes
ATTACH;FMTTYPE=image/png:https://www.eastpiercefire.org/wp-content/uploads/CPR-FA-e1662748191291.png
ORGANIZER;CN="East Pierce Fire and Rescue":MAILTO:info@eastpiercefire.org
END:VEVENT
BEGIN:VEVENT
DTSTART;TZID=America/Los_Angeles:20260516T130000
DTEND;TZID=America/Los_Angeles:20260516T160000
DTSTAMP:20260419T235116
CREATED:20251216T214308Z
LAST-MODIFIED:20260121T210855Z
UID:10000372-1778936400-1778947200@www.eastpiercefire.org
SUMMARY:Heartsaver First Aid
DESCRIPTION:
URL:https://www.eastpiercefire.org/event/heartsaver-first-aid-85/
LOCATION:Headquarters Station\, 8601 Main Street East\, Bonney Lake\, WA\, 98391\, United States
CATEGORIES:Classes
ATTACH;FMTTYPE=image/png:https://www.eastpiercefire.org/wp-content/uploads/CPR-FA-e1662748191291.png
ORGANIZER;CN="East Pierce Fire and Rescue":MAILTO:info@eastpiercefire.org
END:VEVENT
END:VCALENDAR