BEGIN:VCALENDAR
VERSION:2.0
PRODID:-//East Pierce Fire &amp; Rescue - ECPv6.15.20//NONSGML v1.0//EN
CALSCALE:GREGORIAN
METHOD:PUBLISH
X-ORIGINAL-URL:https://www.eastpiercefire.org
X-WR-CALDESC:Events for East Pierce Fire &amp; Rescue
REFRESH-INTERVAL;VALUE=DURATION:PT1H
X-Robots-Tag:noindex
X-PUBLISHED-TTL:PT1H
BEGIN:VTIMEZONE
TZID:America/Los_Angeles
BEGIN:DAYLIGHT
TZOFFSETFROM:-0800
TZOFFSETTO:-0700
TZNAME:PDT
DTSTART:20250309T100000
END:DAYLIGHT
BEGIN:STANDARD
TZOFFSETFROM:-0700
TZOFFSETTO:-0800
TZNAME:PST
DTSTART:20251102T090000
END:STANDARD
BEGIN:DAYLIGHT
TZOFFSETFROM:-0800
TZOFFSETTO:-0700
TZNAME:PDT
DTSTART:20260308T100000
END:DAYLIGHT
BEGIN:STANDARD
TZOFFSETFROM:-0700
TZOFFSETTO:-0800
TZNAME:PST
DTSTART:20261101T090000
END:STANDARD
BEGIN:DAYLIGHT
TZOFFSETFROM:-0800
TZOFFSETTO:-0700
TZNAME:PDT
DTSTART:20270314T100000
END:DAYLIGHT
BEGIN:STANDARD
TZOFFSETFROM:-0700
TZOFFSETTO:-0800
TZNAME:PST
DTSTART:20271107T090000
END:STANDARD
END:VTIMEZONE
BEGIN:VEVENT
DTSTART;TZID=America/Los_Angeles:20260108T090000
DTEND;TZID=America/Los_Angeles:20260108T123000
DTSTAMP:20260420T033657
CREATED:20251216T231210Z
LAST-MODIFIED:20251216T233735Z
UID:10000381-1767862800-1767875400@www.eastpiercefire.org
SUMMARY:Heartsaver CPR
DESCRIPTION:
URL:https://www.eastpiercefire.org/event/heartsaver-cpr-86/
LOCATION:Headquarters Station\, 8601 Main Street East\, Bonney Lake\, WA\, 98391\, United States
CATEGORIES:Classes
ATTACH;FMTTYPE=image/png:https://www.eastpiercefire.org/wp-content/uploads/CPR-FA-e1662748191291.png
ORGANIZER;CN="East Pierce Fire and Rescue":MAILTO:info@eastpiercefire.org
END:VEVENT
BEGIN:VEVENT
DTSTART;TZID=America/Los_Angeles:20260108T130000
DTEND;TZID=America/Los_Angeles:20260108T160000
DTSTAMP:20260420T033657
CREATED:20251203T173607Z
LAST-MODIFIED:20251216T233900Z
UID:10000347-1767877200-1767888000@www.eastpiercefire.org
SUMMARY:Heartsaver First Aid
DESCRIPTION:
URL:https://www.eastpiercefire.org/event/heartsaver-first-aid-78/
LOCATION:Headquarters Station\, 8601 Main Street East\, Bonney Lake\, WA\, 98391\, United States
CATEGORIES:Classes
ATTACH;FMTTYPE=image/png:https://www.eastpiercefire.org/wp-content/uploads/CPR-FA-e1662748191291.png
ORGANIZER;CN="East Pierce Fire and Rescue":MAILTO:info@eastpiercefire.org
END:VEVENT
BEGIN:VEVENT
DTSTART;TZID=America/Los_Angeles:20260124T090000
DTEND;TZID=America/Los_Angeles:20260124T123000
DTSTAMP:20260420T033657
CREATED:20251216T205602Z
LAST-MODIFIED:20251216T232933Z
UID:10000365-1769245200-1769257800@www.eastpiercefire.org
SUMMARY:Heartsaver CPR
DESCRIPTION:
URL:https://www.eastpiercefire.org/event/heartsaver-cpr-82/
LOCATION:Headquarters Station\, 8601 Main Street East\, Bonney Lake\, WA\, 98391\, United States
CATEGORIES:Classes
ATTACH;FMTTYPE=image/png:https://www.eastpiercefire.org/wp-content/uploads/CPR-FA-e1662748191291.png
ORGANIZER;CN="East Pierce Fire and Rescue":MAILTO:info@eastpiercefire.org
END:VEVENT
BEGIN:VEVENT
DTSTART;TZID=America/Los_Angeles:20260124T130000
DTEND;TZID=America/Los_Angeles:20260124T160000
DTSTAMP:20260420T033657
CREATED:20251216T215450Z
LAST-MODIFIED:20251216T232854Z
UID:10000376-1769259600-1769270400@www.eastpiercefire.org
SUMMARY:Heartsaver First Aid
DESCRIPTION:
URL:https://www.eastpiercefire.org/event/heartsaver-first-aid-89/
LOCATION:Headquarters Station\, 8601 Main Street East\, Bonney Lake\, WA\, 98391\, United States
CATEGORIES:Classes
ATTACH;FMTTYPE=image/png:https://www.eastpiercefire.org/wp-content/uploads/CPR-FA-e1662748191291.png
ORGANIZER;CN="East Pierce Fire and Rescue":MAILTO:info@eastpiercefire.org
END:VEVENT
END:VCALENDAR