BEGIN:VCALENDAR
VERSION:2.0
PRODID:-//East Pierce Fire &amp; Rescue - ECPv6.15.20//NONSGML v1.0//EN
CALSCALE:GREGORIAN
METHOD:PUBLISH
X-ORIGINAL-URL:https://www.eastpiercefire.org
X-WR-CALDESC:Events for East Pierce Fire &amp; Rescue
REFRESH-INTERVAL;VALUE=DURATION:PT1H
X-Robots-Tag:noindex
X-PUBLISHED-TTL:PT1H
BEGIN:VTIMEZONE
TZID:America/Los_Angeles
BEGIN:DAYLIGHT
TZOFFSETFROM:-0800
TZOFFSETTO:-0700
TZNAME:PDT
DTSTART:20210314T100000
END:DAYLIGHT
BEGIN:STANDARD
TZOFFSETFROM:-0700
TZOFFSETTO:-0800
TZNAME:PST
DTSTART:20211107T090000
END:STANDARD
BEGIN:DAYLIGHT
TZOFFSETFROM:-0800
TZOFFSETTO:-0700
TZNAME:PDT
DTSTART:20220313T100000
END:DAYLIGHT
BEGIN:STANDARD
TZOFFSETFROM:-0700
TZOFFSETTO:-0800
TZNAME:PST
DTSTART:20221106T090000
END:STANDARD
BEGIN:DAYLIGHT
TZOFFSETFROM:-0800
TZOFFSETTO:-0700
TZNAME:PDT
DTSTART:20230312T100000
END:DAYLIGHT
BEGIN:STANDARD
TZOFFSETFROM:-0700
TZOFFSETTO:-0800
TZNAME:PST
DTSTART:20231105T090000
END:STANDARD
BEGIN:DAYLIGHT
TZOFFSETFROM:-0800
TZOFFSETTO:-0700
TZNAME:PDT
DTSTART:20240310T100000
END:DAYLIGHT
BEGIN:STANDARD
TZOFFSETFROM:-0700
TZOFFSETTO:-0800
TZNAME:PST
DTSTART:20241103T090000
END:STANDARD
BEGIN:DAYLIGHT
TZOFFSETFROM:-0800
TZOFFSETTO:-0700
TZNAME:PDT
DTSTART:20250309T100000
END:DAYLIGHT
BEGIN:STANDARD
TZOFFSETFROM:-0700
TZOFFSETTO:-0800
TZNAME:PST
DTSTART:20251102T090000
END:STANDARD
END:VTIMEZONE
BEGIN:VEVENT
DTSTART;TZID=America/Los_Angeles:20240319T190000
DTEND;TZID=America/Los_Angeles:20240319T200000
DTSTAMP:20260420T214533
CREATED:20240104T192357Z
LAST-MODIFIED:20240315T200118Z
UID:10000208-1710874800-1710878400@www.eastpiercefire.org
SUMMARY:Board of Commissioners Meeting
DESCRIPTION:
URL:https://www.eastpiercefire.org/event/board-of-commissioners-meeting-29/
LOCATION:Headquarters Station\, 8601 Main Street East\, Bonney Lake\, WA\, 98391\, United States
CATEGORIES:Board Meetings
ATTACH;FMTTYPE=image/png:https://www.eastpiercefire.org/wp-content/uploads/Gavel-e1662664326893.png
ORGANIZER;CN="East Pierce Fire and Rescue":MAILTO:info@eastpiercefire.org
END:VEVENT
BEGIN:VEVENT
DTSTART;TZID=America/Los_Angeles:20240220T190000
DTEND;TZID=America/Los_Angeles:20240220T200000
DTSTAMP:20260420T214533
CREATED:20240104T192316Z
LAST-MODIFIED:20240216T204634Z
UID:10000209-1708455600-1708459200@www.eastpiercefire.org
SUMMARY:Board of Commissioners Meeting
DESCRIPTION:
URL:https://www.eastpiercefire.org/event/board-of-commissioners-meeting-28/
LOCATION:Headquarters Station\, 8601 Main Street East\, Bonney Lake\, WA\, 98391\, United States
CATEGORIES:Board Meetings
ATTACH;FMTTYPE=image/png:https://www.eastpiercefire.org/wp-content/uploads/Gavel-e1662664326893.png
ORGANIZER;CN="East Pierce Fire and Rescue":MAILTO:info@eastpiercefire.org
END:VEVENT
BEGIN:VEVENT
DTSTART;TZID=America/Los_Angeles:20240116T190000
DTEND;TZID=America/Los_Angeles:20240116T200000
DTSTAMP:20260420T214533
CREATED:20240104T192024Z
LAST-MODIFIED:20240112T005309Z
UID:10000200-1705431600-1705435200@www.eastpiercefire.org
SUMMARY:Board of Commissioners Meeting
DESCRIPTION:
URL:https://www.eastpiercefire.org/event/board-of-commissioners-meeting-27/
LOCATION:Headquarters Station\, 8601 Main Street East\, Bonney Lake\, WA\, 98391\, United States
CATEGORIES:Board Meetings
ATTACH;FMTTYPE=image/png:https://www.eastpiercefire.org/wp-content/uploads/Gavel-e1662664326893.png
ORGANIZER;CN="East Pierce Fire and Rescue":MAILTO:info@eastpiercefire.org
END:VEVENT
BEGIN:VEVENT
DTSTART;TZID=America/Los_Angeles:20231219T190000
DTEND;TZID=America/Los_Angeles:20231219T200000
DTSTAMP:20260420T214533
CREATED:20230113T054902Z
LAST-MODIFIED:20231218T203611Z
UID:10000131-1703012400-1703016000@www.eastpiercefire.org
SUMMARY:Board of Commissioners Meeting
DESCRIPTION:
URL:https://www.eastpiercefire.org/event/board-of-commissioners-meeting-26/
LOCATION:Station 118\, 10105 24th St E\, Edgewood\, 98371
CATEGORIES:Board Meetings
ATTACH;FMTTYPE=image/png:https://www.eastpiercefire.org/wp-content/uploads/Gavel-e1662664326893.png
ORGANIZER;CN="East Pierce Fire and Rescue":MAILTO:info@eastpiercefire.org
END:VEVENT
BEGIN:VEVENT
DTSTART;TZID=America/Los_Angeles:20231121T190000
DTEND;TZID=America/Los_Angeles:20231121T200000
DTSTAMP:20260420T214533
CREATED:20230113T054819Z
LAST-MODIFIED:20231218T203720Z
UID:10000132-1700593200-1700596800@www.eastpiercefire.org
SUMMARY:Board of Commissioners Meeting
DESCRIPTION:
URL:https://www.eastpiercefire.org/event/board-of-commissioners-meeting-25/
LOCATION:Headquarters Station\, 8601 Main Street East\, Bonney Lake\, WA\, 98391\, United States
CATEGORIES:Board Meetings
ATTACH;FMTTYPE=image/png:https://www.eastpiercefire.org/wp-content/uploads/Gavel-e1662664326893.png
ORGANIZER;CN="East Pierce Fire and Rescue":MAILTO:info@eastpiercefire.org
END:VEVENT
BEGIN:VEVENT
DTSTART;TZID=America/Los_Angeles:20231017T190000
DTEND;TZID=America/Los_Angeles:20231017T200000
DTSTAMP:20260420T214533
CREATED:20230113T054753Z
LAST-MODIFIED:20231016T155819Z
UID:10000133-1697569200-1697572800@www.eastpiercefire.org
SUMMARY:Board of Commissioners Meeting
DESCRIPTION:
URL:https://www.eastpiercefire.org/event/board-of-commissioners-meeting-24/
LOCATION:Headquarters Station\, 8601 Main Street East\, Bonney Lake\, WA\, 98391\, United States
CATEGORIES:Board Meetings
ATTACH;FMTTYPE=image/png:https://www.eastpiercefire.org/wp-content/uploads/Gavel-e1662664326893.png
ORGANIZER;CN="East Pierce Fire and Rescue":MAILTO:info@eastpiercefire.org
END:VEVENT
BEGIN:VEVENT
DTSTART;TZID=America/Los_Angeles:20230919T190000
DTEND;TZID=America/Los_Angeles:20230919T200000
DTSTAMP:20260420T214533
CREATED:20230113T054517Z
LAST-MODIFIED:20230915T041741Z
UID:10000122-1695150000-1695153600@www.eastpiercefire.org
SUMMARY:Board of Commissioners Meeting
DESCRIPTION:
URL:https://www.eastpiercefire.org/event/board-of-commissioners-meeting-23/
LOCATION:Headquarters Station\, 8601 Main Street East\, Bonney Lake\, WA\, 98391\, United States
CATEGORIES:Board Meetings
ATTACH;FMTTYPE=image/png:https://www.eastpiercefire.org/wp-content/uploads/Gavel-e1662664326893.png
ORGANIZER;CN="East Pierce Fire and Rescue":MAILTO:info@eastpiercefire.org
END:VEVENT
BEGIN:VEVENT
DTSTART;TZID=America/Los_Angeles:20230823T180000
DTEND;TZID=America/Los_Angeles:20230823T190000
DTSTAMP:20260420T214533
CREATED:20230822T191821Z
LAST-MODIFIED:20230822T191952Z
UID:10000149-1692813600-1692817200@www.eastpiercefire.org
SUMMARY:Special Board of Commissioners Meeting
DESCRIPTION:
URL:https://www.eastpiercefire.org/event/special-board-of-commissioners-meeting-2/
LOCATION:Virtual Webinar
CATEGORIES:Board Meetings
ATTACH;FMTTYPE=image/png:https://www.eastpiercefire.org/wp-content/uploads/Gavel-e1662664326893.png
ORGANIZER;CN="East Pierce Fire and Rescue":MAILTO:info@eastpiercefire.org
END:VEVENT
BEGIN:VEVENT
DTSTART;TZID=America/Los_Angeles:20230815T190000
DTEND;TZID=America/Los_Angeles:20230815T200000
DTSTAMP:20260420T214533
CREATED:20230113T032547Z
LAST-MODIFIED:20230811T001411Z
UID:10000125-1692126000-1692129600@www.eastpiercefire.org
SUMMARY:Board of Commissioners Meeting
DESCRIPTION:
URL:https://www.eastpiercefire.org/event/board-of-commissioners-meeting-22/
LOCATION:Headquarters Station\, 8601 Main Street East\, Bonney Lake\, WA\, 98391\, United States
CATEGORIES:Board Meetings
ATTACH;FMTTYPE=image/png:https://www.eastpiercefire.org/wp-content/uploads/Gavel-e1662664326893.png
ORGANIZER;CN="East Pierce Fire and Rescue":MAILTO:info@eastpiercefire.org
END:VEVENT
BEGIN:VEVENT
DTSTART;TZID=America/Los_Angeles:20230718T190000
DTEND;TZID=America/Los_Angeles:20230718T200000
DTSTAMP:20260420T214533
CREATED:20230113T032505Z
LAST-MODIFIED:20230113T032505Z
UID:10000124-1689706800-1689710400@www.eastpiercefire.org
SUMMARY:Board of Commissioners Meeting
DESCRIPTION:
URL:https://www.eastpiercefire.org/event/board-of-commissioners-meeting-21/
LOCATION:Headquarters Station\, 8601 Main Street East\, Bonney Lake\, WA\, 98391\, United States
CATEGORIES:Board Meetings
ATTACH;FMTTYPE=image/png:https://www.eastpiercefire.org/wp-content/uploads/Gavel-e1662664326893.png
ORGANIZER;CN="East Pierce Fire and Rescue":MAILTO:info@eastpiercefire.org
END:VEVENT
BEGIN:VEVENT
DTSTART;TZID=America/Los_Angeles:20230620T190000
DTEND;TZID=America/Los_Angeles:20230620T200000
DTSTAMP:20260420T214533
CREATED:20230113T032422Z
LAST-MODIFIED:20230113T032422Z
UID:10000128-1687287600-1687291200@www.eastpiercefire.org
SUMMARY:Board of Commissioners Meeting
DESCRIPTION:
URL:https://www.eastpiercefire.org/event/board-of-commissioners-meeting-20/
LOCATION:Headquarters Station\, 8601 Main Street East\, Bonney Lake\, WA\, 98391\, United States
CATEGORIES:Board Meetings
ATTACH;FMTTYPE=image/png:https://www.eastpiercefire.org/wp-content/uploads/Gavel-e1662664326893.png
ORGANIZER;CN="East Pierce Fire and Rescue":MAILTO:info@eastpiercefire.org
END:VEVENT
BEGIN:VEVENT
DTSTART;TZID=America/Los_Angeles:20230516T190000
DTEND;TZID=America/Los_Angeles:20230516T200000
DTSTAMP:20260420T214533
CREATED:20230113T032338Z
LAST-MODIFIED:20230512T073416Z
UID:10000123-1684263600-1684267200@www.eastpiercefire.org
SUMMARY:Board of Commissioners Meeting
DESCRIPTION:
URL:https://www.eastpiercefire.org/event/board-of-commissioners-meeting-19/
LOCATION:Headquarters Station\, 8601 Main Street East\, Bonney Lake\, WA\, 98391\, United States
CATEGORIES:Board Meetings
ATTACH;FMTTYPE=image/png:https://www.eastpiercefire.org/wp-content/uploads/Gavel-e1662664326893.png
ORGANIZER;CN="East Pierce Fire and Rescue":MAILTO:info@eastpiercefire.org
END:VEVENT
BEGIN:VEVENT
DTSTART;TZID=America/Los_Angeles:20230418T180000
DTEND;TZID=America/Los_Angeles:20230418T190000
DTSTAMP:20260420T214533
CREATED:20230113T032232Z
LAST-MODIFIED:20230404T232751Z
UID:10000126-1681840800-1681844400@www.eastpiercefire.org
SUMMARY:Board of Commissioners Meeting
DESCRIPTION:
URL:https://www.eastpiercefire.org/event/board-of-commissioners-meeting-18/
LOCATION:Headquarters Station\, 8601 Main Street East\, Bonney Lake\, WA\, 98391\, United States
CATEGORIES:Board Meetings
ATTACH;FMTTYPE=image/png:https://www.eastpiercefire.org/wp-content/uploads/Gavel-e1662664326893.png
ORGANIZER;CN="East Pierce Fire and Rescue":MAILTO:info@eastpiercefire.org
END:VEVENT
BEGIN:VEVENT
DTSTART;TZID=America/Los_Angeles:20230418T160000
DTEND;TZID=America/Los_Angeles:20230418T180000
DTSTAMP:20260420T214533
CREATED:20230404T231201Z
LAST-MODIFIED:20230404T232410Z
UID:10000141-1681833600-1681840800@www.eastpiercefire.org
SUMMARY:Special Board of Commissioners Meeting
DESCRIPTION:
URL:https://www.eastpiercefire.org/event/special-board-of-commissioners-meeting/
LOCATION:Headquarters Station\, 8601 Main Street East\, Bonney Lake\, WA\, 98391\, United States
CATEGORIES:Board Meetings
ATTACH;FMTTYPE=image/png:https://www.eastpiercefire.org/wp-content/uploads/Gavel-e1662664326893.png
ORGANIZER;CN="East Pierce Fire and Rescue":MAILTO:info@eastpiercefire.org
END:VEVENT
BEGIN:VEVENT
DTSTART;TZID=America/Los_Angeles:20230321T190000
DTEND;TZID=America/Los_Angeles:20230321T200000
DTSTAMP:20260420T214533
CREATED:20230113T032149Z
LAST-MODIFIED:20230318T172029Z
UID:10000127-1679425200-1679428800@www.eastpiercefire.org
SUMMARY:Board of Commissioners Meeting
DESCRIPTION:
URL:https://www.eastpiercefire.org/event/board-of-commissioners-meeting-17/
LOCATION:Headquarters Station\, 8601 Main Street East\, Bonney Lake\, WA\, 98391\, United States
CATEGORIES:Board Meetings
ATTACH;FMTTYPE=image/png:https://www.eastpiercefire.org/wp-content/uploads/Gavel-e1662664326893.png
ORGANIZER;CN="East Pierce Fire and Rescue":MAILTO:info@eastpiercefire.org
END:VEVENT
BEGIN:VEVENT
DTSTART;TZID=America/Los_Angeles:20230221T190000
DTEND;TZID=America/Los_Angeles:20230221T200000
DTSTAMP:20260420T214533
CREATED:20230113T032031Z
LAST-MODIFIED:20230217T142904Z
UID:10000130-1677006000-1677009600@www.eastpiercefire.org
SUMMARY:Board of Commissioners Meeting
DESCRIPTION:
URL:https://www.eastpiercefire.org/event/board-of-commissioners-meeting-16/
LOCATION:Headquarters Station\, 8601 Main Street East\, Bonney Lake\, WA\, 98391\, United States
CATEGORIES:Board Meetings
ATTACH;FMTTYPE=image/png:https://www.eastpiercefire.org/wp-content/uploads/Gavel-e1662664326893.png
ORGANIZER;CN="East Pierce Fire and Rescue":MAILTO:info@eastpiercefire.org
END:VEVENT
BEGIN:VEVENT
DTSTART;TZID=America/Los_Angeles:20230215T190000
DTEND;TZID=America/Los_Angeles:20230215T200000
DTSTAMP:20260420T214533
CREATED:20230214T001720Z
LAST-MODIFIED:20230214T001925Z
UID:10000139-1676487600-1676491200@www.eastpiercefire.org
SUMMARY:Special Board of Commissioners Meeting
DESCRIPTION:
URL:https://www.eastpiercefire.org/event/special-board-of-commissioner-meeting/
LOCATION:Virtual Webinar
CATEGORIES:Board Meetings
ATTACH;FMTTYPE=image/png:https://www.eastpiercefire.org/wp-content/uploads/Gavel-e1662664326893.png
ORGANIZER;CN="East Pierce Fire and Rescue":MAILTO:info@eastpiercefire.org
END:VEVENT
BEGIN:VEVENT
DTSTART;TZID=America/Los_Angeles:20230117T190000
DTEND;TZID=America/Los_Angeles:20230117T200000
DTSTAMP:20260420T214533
CREATED:20230113T030855Z
LAST-MODIFIED:20230113T031139Z
UID:10000121-1673982000-1673985600@www.eastpiercefire.org
SUMMARY:Board of Commissioners Meeting
DESCRIPTION:
URL:https://www.eastpiercefire.org/event/board-of-commissioners-meeting-15/
LOCATION:Headquarters Station\, 8601 Main Street East\, Bonney Lake\, WA\, 98391\, United States
CATEGORIES:Board Meetings
ATTACH;FMTTYPE=image/png:https://www.eastpiercefire.org/wp-content/uploads/Gavel-e1662664326893.png
ORGANIZER;CN="East Pierce Fire and Rescue":MAILTO:info@eastpiercefire.org
END:VEVENT
BEGIN:VEVENT
DTSTART;TZID=America/Los_Angeles:20221220T190000
DTEND;TZID=America/Los_Angeles:20221220T200000
DTSTAMP:20260420T214533
CREATED:20221216T170151Z
LAST-MODIFIED:20221216T170353Z
UID:10000066-1671562800-1671566400@www.eastpiercefire.org
SUMMARY:Board of Commissioners Meeting
DESCRIPTION:
URL:https://www.eastpiercefire.org/event/board-of-commissioners-meeting-14/
LOCATION:Headquarters Station\, 8601 Main Street East\, Bonney Lake\, WA\, 98391\, United States
CATEGORIES:Board Meetings
ATTACH;FMTTYPE=image/png:https://www.eastpiercefire.org/wp-content/uploads/Gavel-e1662664326893.png
ORGANIZER;CN="East Pierce Fire and Rescue":MAILTO:info@eastpiercefire.org
END:VEVENT
BEGIN:VEVENT
DTSTART;TZID=America/Los_Angeles:20221115T190000
DTEND;TZID=America/Los_Angeles:20221115T200000
DTSTAMP:20260420T214533
CREATED:20220506T221434Z
LAST-MODIFIED:20221103T142930Z
UID:10000065-1668538800-1668542400@www.eastpiercefire.org
SUMMARY:Board of Commissioners Meeting
DESCRIPTION:
URL:https://www.eastpiercefire.org/event/board-of-commissioners-meeting/2022-11-15/
LOCATION:Headquarters Station\, 8601 Main Street East\, Bonney Lake\, WA\, 98391\, United States
CATEGORIES:Board Meetings
ATTACH;FMTTYPE=image/png:https://www.eastpiercefire.org/wp-content/uploads/Gavel-e1662664326893.png
ORGANIZER;CN="East Pierce Fire and Rescue":MAILTO:info@eastpiercefire.org
END:VEVENT
BEGIN:VEVENT
DTSTART;TZID=America/Los_Angeles:20221018T190000
DTEND;TZID=America/Los_Angeles:20221018T200000
DTSTAMP:20260420T214533
CREATED:20220506T221434Z
LAST-MODIFIED:20221103T142930Z
UID:10000064-1666119600-1666123200@www.eastpiercefire.org
SUMMARY:Board of Commissioners Meeting
DESCRIPTION:
URL:https://www.eastpiercefire.org/event/board-of-commissioners-meeting/2022-10-18/
LOCATION:Headquarters Station\, 8601 Main Street East\, Bonney Lake\, WA\, 98391\, United States
CATEGORIES:Board Meetings
ATTACH;FMTTYPE=image/png:https://www.eastpiercefire.org/wp-content/uploads/Gavel-e1662664326893.png
ORGANIZER;CN="East Pierce Fire and Rescue":MAILTO:info@eastpiercefire.org
END:VEVENT
BEGIN:VEVENT
DTSTART;TZID=America/Los_Angeles:20220920T190000
DTEND;TZID=America/Los_Angeles:20220920T200000
DTSTAMP:20260420T214533
CREATED:20220506T221434Z
LAST-MODIFIED:20221103T142930Z
UID:10000063-1663700400-1663704000@www.eastpiercefire.org
SUMMARY:Board of Commissioners Meeting
DESCRIPTION:
URL:https://www.eastpiercefire.org/event/board-of-commissioners-meeting/2022-09-20/
LOCATION:Headquarters Station\, 8601 Main Street East\, Bonney Lake\, WA\, 98391\, United States
CATEGORIES:Board Meetings
ATTACH;FMTTYPE=image/png:https://www.eastpiercefire.org/wp-content/uploads/Gavel-e1662664326893.png
ORGANIZER;CN="East Pierce Fire and Rescue":MAILTO:info@eastpiercefire.org
END:VEVENT
BEGIN:VEVENT
DTSTART;TZID=America/Los_Angeles:20220816T190000
DTEND;TZID=America/Los_Angeles:20220816T200000
DTSTAMP:20260420T214533
CREATED:20220506T221434Z
LAST-MODIFIED:20221103T142930Z
UID:10000062-1660676400-1660680000@www.eastpiercefire.org
SUMMARY:Board of Commissioners Meeting
DESCRIPTION:
URL:https://www.eastpiercefire.org/event/board-of-commissioners-meeting/2022-08-16/
LOCATION:Headquarters Station\, 8601 Main Street East\, Bonney Lake\, WA\, 98391\, United States
CATEGORIES:Board Meetings
ATTACH;FMTTYPE=image/png:https://www.eastpiercefire.org/wp-content/uploads/Gavel-e1662664326893.png
ORGANIZER;CN="East Pierce Fire and Rescue":MAILTO:info@eastpiercefire.org
END:VEVENT
BEGIN:VEVENT
DTSTART;TZID=America/Los_Angeles:20220719T190000
DTEND;TZID=America/Los_Angeles:20220719T200000
DTSTAMP:20260420T214533
CREATED:20220506T221434Z
LAST-MODIFIED:20221103T142930Z
UID:10000061-1658257200-1658260800@www.eastpiercefire.org
SUMMARY:Board of Commissioners Meeting
DESCRIPTION:
URL:https://www.eastpiercefire.org/event/board-of-commissioners-meeting/2022-07-19/
LOCATION:Headquarters Station\, 8601 Main Street East\, Bonney Lake\, WA\, 98391\, United States
CATEGORIES:Board Meetings
ATTACH;FMTTYPE=image/png:https://www.eastpiercefire.org/wp-content/uploads/Gavel-e1662664326893.png
ORGANIZER;CN="East Pierce Fire and Rescue":MAILTO:info@eastpiercefire.org
END:VEVENT
BEGIN:VEVENT
DTSTART;TZID=America/Los_Angeles:20220621T190000
DTEND;TZID=America/Los_Angeles:20220621T200000
DTSTAMP:20260420T214533
CREATED:20220506T221434Z
LAST-MODIFIED:20221103T142930Z
UID:10000060-1655838000-1655841600@www.eastpiercefire.org
SUMMARY:Board of Commissioners Meeting
DESCRIPTION:
URL:https://www.eastpiercefire.org/event/board-of-commissioners-meeting/2022-06-21/
LOCATION:Headquarters Station\, 8601 Main Street East\, Bonney Lake\, WA\, 98391\, United States
CATEGORIES:Board Meetings
ATTACH;FMTTYPE=image/png:https://www.eastpiercefire.org/wp-content/uploads/Gavel-e1662664326893.png
ORGANIZER;CN="East Pierce Fire and Rescue":MAILTO:info@eastpiercefire.org
END:VEVENT
BEGIN:VEVENT
DTSTART;TZID=America/Los_Angeles:20220517T190000
DTEND;TZID=America/Los_Angeles:20220517T200000
DTSTAMP:20260420T214533
CREATED:20220506T221434Z
LAST-MODIFIED:20221103T142930Z
UID:10000059-1652814000-1652817600@www.eastpiercefire.org
SUMMARY:Board of Commissioners Meeting
DESCRIPTION:
URL:https://www.eastpiercefire.org/event/board-of-commissioners-meeting/2022-05-17/
LOCATION:Headquarters Station\, 8601 Main Street East\, Bonney Lake\, WA\, 98391\, United States
CATEGORIES:Board Meetings
ATTACH;FMTTYPE=image/png:https://www.eastpiercefire.org/wp-content/uploads/Gavel-e1662664326893.png
ORGANIZER;CN="East Pierce Fire and Rescue":MAILTO:info@eastpiercefire.org
END:VEVENT
END:VCALENDAR