BEGIN:VCALENDAR
VERSION:2.0
PRODID:-//East Pierce Fire &amp; Rescue - ECPv6.15.20//NONSGML v1.0//EN
CALSCALE:GREGORIAN
METHOD:PUBLISH
X-WR-CALNAME:East Pierce Fire &amp; Rescue
X-ORIGINAL-URL:https://www.eastpiercefire.org
X-WR-CALDESC:Events for East Pierce Fire &amp; Rescue
REFRESH-INTERVAL;VALUE=DURATION:PT1H
X-Robots-Tag:noindex
X-PUBLISHED-TTL:PT1H
BEGIN:VTIMEZONE
TZID:America/Los_Angeles
BEGIN:DAYLIGHT
TZOFFSETFROM:-0800
TZOFFSETTO:-0700
TZNAME:PDT
DTSTART:20250309T100000
END:DAYLIGHT
BEGIN:STANDARD
TZOFFSETFROM:-0700
TZOFFSETTO:-0800
TZNAME:PST
DTSTART:20251102T090000
END:STANDARD
BEGIN:DAYLIGHT
TZOFFSETFROM:-0800
TZOFFSETTO:-0700
TZNAME:PDT
DTSTART:20260308T100000
END:DAYLIGHT
BEGIN:STANDARD
TZOFFSETFROM:-0700
TZOFFSETTO:-0800
TZNAME:PST
DTSTART:20261101T090000
END:STANDARD
BEGIN:DAYLIGHT
TZOFFSETFROM:-0800
TZOFFSETTO:-0700
TZNAME:PDT
DTSTART:20270314T100000
END:DAYLIGHT
BEGIN:STANDARD
TZOFFSETFROM:-0700
TZOFFSETTO:-0800
TZNAME:PST
DTSTART:20271107T090000
END:STANDARD
END:VTIMEZONE
BEGIN:VEVENT
DTSTART;TZID=America/Los_Angeles:20260316T090000
DTEND;TZID=America/Los_Angeles:20260316T150000
DTSTAMP:20260419T190448
CREATED:20260128T232326Z
LAST-MODIFIED:20260128T232326Z
UID:10000447-1773651600-1773673200@www.eastpiercefire.org
SUMMARY:Blood Drive
DESCRIPTION:
URL:https://www.eastpiercefire.org/event/blood-drive-10/
LOCATION:Station 118\, 10105 24th St E\, Edgewood\, 98371
CATEGORIES:Blood Drive
ATTACH;FMTTYPE=image/png:https://www.eastpiercefire.org/wp-content/uploads/s2025_Blood-Drive-3.png
ORGANIZER;CN="East Pierce Fire and Rescue":MAILTO:info@eastpiercefire.org
END:VEVENT
BEGIN:VEVENT
DTSTART;TZID=America/Los_Angeles:20260319T090000
DTEND;TZID=America/Los_Angeles:20260319T150000
DTSTAMP:20260419T190448
CREATED:20260128T232633Z
LAST-MODIFIED:20260128T233853Z
UID:10000450-1773910800-1773932400@www.eastpiercefire.org
SUMMARY:Blood Drive
DESCRIPTION:
URL:https://www.eastpiercefire.org/event/blood-drive-13/
LOCATION:Station 114\, 3206 W Tapps Dr E\, Lake Tapps\, WA\, 98391\, United States
CATEGORIES:Blood Drive
ATTACH;FMTTYPE=image/png:https://www.eastpiercefire.org/wp-content/uploads/s2025_Blood-Drive-3.png
ORGANIZER;CN="East Pierce Fire and Rescue":MAILTO:info@eastpiercefire.org
END:VEVENT
BEGIN:VEVENT
DTSTART;TZID=America/Los_Angeles:20260323T090000
DTEND;TZID=America/Los_Angeles:20260323T150000
DTSTAMP:20260419T190448
CREATED:20260128T233016Z
LAST-MODIFIED:20260128T233016Z
UID:10000456-1774256400-1774278000@www.eastpiercefire.org
SUMMARY:Blood Drive
DESCRIPTION:
URL:https://www.eastpiercefire.org/event/blood-drive-19/
LOCATION:Station 117\, 14504 181st Ave E\, Bonney Lake\, WA\, 98391\, United States
CATEGORIES:Blood Drive
ATTACH;FMTTYPE=image/png:https://www.eastpiercefire.org/wp-content/uploads/s2025_Blood-Drive-3.png
ORGANIZER;CN="East Pierce Fire and Rescue":MAILTO:info@eastpiercefire.org
END:VEVENT
END:VCALENDAR